{"text_format":"1","workbook":"xlsx","n_sheets":22,"sheets":["Set Interior Problem","Set Exterior Problem","Sketch","Closed Boundaries","Open Boundaries","Data Copy","L_SS","M_SS","Mt_SS","L_PS","M_PS","Direct Solution","A_gls","B_gls","perm xory","Indirect Solution","Indirect_LU","perms","New Int Prob Condition","New Ext Prob Condition","New Direct Solution","New Indirect Solution"],"not_rendered":{"charts":1,"images":0,"macros":1,"external_links":0,"defined_names":0,"comments":0,"pivot_tables":0},"unopened":[],"bounds":{"document_bytes":16777216,"sheet_cells":100000,"rows_first":2000,"rows_last":500,"rows_between":2000,"halvings":0,"cell_chars":16384,"cell_head_chars":4096},"cells_cut":0,"cells_raw":0,"read":"whole","date_system":"1900"}

{"sheet":"Set Interior Problem","index":0,"n_rows":126,"n_cols":26,"rows_kept":126,"cut":false,"hidden":false,"merged":[[7,1,7,3],[7,5,7,7],[7,10,7,13],[7,15,7,17],[7,19,7,21],[8,1,8,2],[8,5,8,6],[8,10,8,11],[8,15,8,16],[8,19,8,20],[4,23,4,24],[1,2,1,22],[2,10,2,11],[2,12,2,15],[2,16,2,21],[2,23,2,24]]}
[]
[null,null,"LBEMA. The solution of axysimmetric interior Laplace problem in Excel"]
[null,null,null,null,null,null,null,null,null,"by","Stephen Kirkup",null,"School of Engineering",null,null,null,"University of Central Lancashire",null,null,null,null,null,null,"Guide",null,"www.boundary-element-method.com/Excel_VBA/LBEMA_xls.pdf"]
[null,null,"INTERIOR?",null,null,"CLOSED?",null,null,null,"version 1"]
[null,null,true,null,null,true,null,null,null,null,null,null,null,null,null,null,null,null,null,null,null,null,null,"Source of this file",null,"www.boundary-element-method.com/Excel_VBA/LBEMA_1.xlsm"]
[]
[]
[null,"Nodes",null,null,null,"Panels",null,null,null,null,"Boundary Condition",null,null,null,null,"Interior Points",null,null,null,"Panel Centres"]
[null,"Number of nodes",null,25,null,"Number of panels",null,24,null,null,"Number of panels",null,{"$f":"H9","v":24},null,null,"Number of points",null,5,null,"Number of panels",null,{"$f":"H9","v":24}]
[null,"Index","r","z",null,"index","node 1","node 2",null,null,"index","alpha","beta","f",null,"index","x","y",null,"index","r-centre","z-centre"]
[null,1,0,1,null,1,1,2,null,null,{"$f":"IF(F11<>\"\",F11,\"\")","v":1},1,0,20,null,1,0.25,0.25,null,{"$f":"IF(F11<>\"\",F11,\"\")","v":1},6.25E-2,1]
[null,2,0.125,1,null,2,2,3,null,null,{"$f":"IF(F12<>\"\",F12,\"\")","v":2},1,0,20,null,2,0.75,0.25,null,{"$f":"IF(F12<>\"\",F12,\"\")","v":2},0.1875,1]
[null,3,0.25,1,null,3,3,4,null,null,3,1,0,20,null,3,0.25,0.75,null,3,0.3125,1]
[null,4,0.375,1,null,4,4,5,null,null,4,1,0,20,null,4,0.75,0.75,null,4,0.4375,1]
[null,5,0.5,1,null,5,5,6,null,null,5,1,0,20,null,5,0.5,0.5,null,5,0.5625,1]
[null,6,0.625,1,null,6,6,7,null,null,6,1,0,20,null,null,null,null,null,6,0.6875,1]
[null,7,0.75,1,null,7,7,8,null,null,7,1,0,20,null,null,null,null,null,7,0.8125,1]
[null,8,0.875,1,null,8,8,9,null,null,8,1,0,20,null,null,null,null,null,8,0.9375,1]
[null,9,1,1,null,9,9,10,null,null,9,0,1,0,null,null,null,null,null,9,1,0.9375]
[null,10,1,0.875,null,10,10,11,null,null,10,0,1,0,null,null,null,null,null,10,1,0.8125]
[null,11,1,0.75,null,11,11,12,null,null,11,0,1,0,null,null,null,null,null,11,1,0.6875]
[null,12,1,0.625,null,12,12,13,null,null,12,0,1,0,null,null,null,null,null,12,1,0.5625]
[null,13,1,0.5,null,13,13,14,null,null,13,0,1,0,null,null,null,null,null,13,1,0.4374999999999995]
[null,14,1,0.374999999999999,null,14,14,15,null,null,14,0,1,0,null,null,null,null,null,14,1,0.312499999999999]
[null,15,1,0.249999999999999,null,15,15,16,null,null,15,0,1,0,null,null,null,null,null,15,1,0.187499999999999]
[null,16,1,0.124999999999999,null,16,16,17,null,null,16,0,1,0,null,null,null,null,null,16,1,6.24999999999995E-2]
[null,17,1,0,null,17,17,18,null,null,17,1,0,10,null,null,null,null,null,17,0.9375,0]
[null,18,0.875,0,null,18,18,19,null,null,18,1,0,10,null,null,null,null,null,18,0.8125,0]
[null,19,0.75,0,null,19,19,20,null,null,19,1,0,10,null,null,null,null,null,19,0.6875,0]
[null,20,0.625,0,null,20,20,21,null,null,20,1,0,10,null,null,null,null,null,20,0.5625,0]
[null,21,0.5,0,null,21,21,22,null,null,21,1,0,10,null,null,null,null,null,21,0.4375,0]
[null,22,0.375,0,null,22,22,23,null,null,22,1,0,10,null,null,null,null,null,22,0.3125,0]
[null,23,0.25,0,null,23,23,24,null,null,23,1,0,10,null,null,null,null,null,23,0.1875,0]
[null,24,0.125,0,null,24,24,25,null,null,24,1,0,10,null,null,null,null,null,24,6.25E-2,0]
[null,25,0,0,null,null,null,null,null,null,"",null,null,null,null,null,null,null,null,""]
[null,null,null,null,null,null,null,null,null,null,"",null,null,null,null,null,null,null,null,""]
[null,null,null,null,null,null,null,null,null,null,"",null,null,null,null,null,null,null,null,""]
[null,null,null,null,null,null,null,null,null,null,"",null,null,null,null,null,null,null,null,""]
[null,null,null,null,null,null,null,null,null,null,"",null,null,null,null,null,null,null,null,""]
[null,null,null,null,null,null,null,null,null,null,"",null,null,null,null,null,null,null,null,""]
[null,null,null,null,null,null,null,null,null,null,"",null,null,null,null,null,null,null,null,""]
[null,null,null,null,null,null,null,null,null,null,"",null,null,null,null,null,null,null,null,""]
[null,null,null,null,null,null,null,null,null,null,"",null,null,null,null,null,null,null,null,""]
[null,null,null,null,null,null,null,null,null,null,"",null,null,null,null,null,null,null,null,""]
[null,null,null,null,null,null,null,null,null,null,"",null,null,null,null,null,null,null,null,""]
[null,null,null,null,null,null,null,null,null,null,"",null,null,null,null,null,null,null,null,""]
[null,null,null,null,null,null,null,null,null,null,"",null,null,null,null,null,null,null,null,""]
[null,null,null,null,null,null,null,null,null,null,"",null,null,null,null,null,null,null,null,""]
[null,null,null,null,null,null,null,null,null,null,"",null,null,null,null,null,null,null,null,""]
[null,null,null,null,null,null,null,null,null,null,"",null,null,null,null,null,null,null,null,""]
[null,null,null,null,null,null,null,null,null,null,"",null,null,null,null,null,null,null,null,""]
[null,null,null,null,null,null,null,null,null,null,"",null,null,null,null,null,null,null,null,""]
[null,null,null,null,null,null,null,null,null,null,"",null,null,null,null,null,null,null,null,""]
[null,null,null,null,null,null,null,null,null,null,"",null,null,null,null,null,null,null,null,""]
[null,null,null,null,null,null,null,null,null,null,"",null,null,null,null,null,null,null,null,""]
[null,null,null,null,null,null,null,null,null,null,"",null,null,null,null,null,null,null,null,""]
[null,null,null,null,null,null,null,null,null,null,"",null,null,null,null,null,null,null,null,""]
[null,null,null,null,null,null,null,null,null,null,"",null,null,null,null,null,null,null,null,""]
[null,null,null,null,null,null,null,null,null,null,"",null,null,null,null,null,null,null,null,""]
[null,null,null,null,null,null,null,null,null,null,"",null,null,null,null,null,null,null,null,""]
[null,null,null,null,null,null,null,null,null,null,"",null,null,null,null,null,null,null,null,""]
[null,null,null,null,null,null,null,null,null,null,"",null,null,null,null,null,null,null,null,""]
[null,null,null,null,null,null,null,null,null,null,"",null,null,null,null,null,null,null,null,""]
[null,null,null,null,null,null,null,null,null,null,"",null,null,null,null,null,null,null,null,""]
[null,null,null,null,null,null,null,null,null,null,"",null,null,null,null,null,null,null,null,""]
[null,null,null,null,null,null,null,null,null,null,"",null,null,null,null,null,null,null,null,""]
[null,null,null,null,null,null,null,null,null,null,"",null,null,null,null,null,null,null,null,""]
[null,null,null,null,null,null,null,null,null,null,"",null,null,null,null,null,null,null,null,""]
[null,null,null,null,null,null,null,null,null,null,"",null,null,null,null,null,null,null,null,""]
[null,null,null,null,null,null,null,null,null,null,"",null,null,null,null,null,null,null,null,""]
[null,null,null,null,null,null,null,null,null,null,"",null,null,null,null,null,null,null,null,""]
[null,null,null,null,null,null,null,null,null,null,"",null,null,null,null,null,null,null,null,""]
[null,null,null,null,null,null,null,null,null,null,"",null,null,null,null,null,null,null,null,""]
[null,null,null,null,null,null,null,null,null,null,"",null,null,null,null,null,null,null,null,""]
[null,null,null,null,null,null,null,null,null,null,"",null,null,null,null,null,null,null,null,""]
[null,null,null,null,null,null,null,null,null,null,{"$f":"IF(F76<>\"\",F76,\"\")","v":""},null,null,null,null,null,null,null,null,{"$f":"IF(F76<>\"\",F76,\"\")","v":""}]
[null,null,null,null,null,null,null,null,null,null,"",null,null,null,null,null,null,null,null,""]
[null,null,null,null,null,null,null,null,null,null,"",null,null,null,null,null,null,null,null,""]
[null,null,null,null,null,null,null,null,null,null,"",null,null,null,null,null,null,null,null,""]
[null,null,null,null,null,null,null,null,null,null,"",null,null,null,null,null,null,null,null,""]
[null,null,null,null,null,null,null,null,null,null,"",null,null,null,null,null,null,null,null,""]
[null,null,null,null,null,null,null,null,null,null,"",null,null,null,null,null,null,null,null,""]
[null,null,null,null,null,null,null,null,null,null,"",null,null,null,null,null,null,null,null,""]
[null,null,null,null,null,null,null,null,null,null,"",null,null,null,null,null,null,null,null,""]
[null,null,null,null,null,null,null,null,null,null,"",null,null,null,null,null,null,null,null,""]
[null,null,null,null,null,null,null,null,null,null,"",null,null,null,null,null,null,null,null,""]
[null,null,null,null,null,null,null,null,null,null,"",null,null,null,null,null,null,null,null,""]
[null,null,null,null,null,null,null,null,null,null,"",null,null,null,null,null,null,null,null,""]
[null,null,null,null,null,null,null,null,null,null,"",null,null,null,null,null,null,null,null,""]
[null,null,null,null,null,null,null,null,null,null,"",null,null,null,null,null,null,null,null,""]
[null,null,null,null,null,null,null,null,null,null,"",null,null,null,null,null,null,null,null,""]
[null,null,null,null,null,null,null,null,null,null,"",null,null,null,null,null,null,null,null,""]
[null,null,null,null,null,null,null,null,null,null,"",null,null,null,null,null,null,null,null,""]
[null,null,null,null,null,null,null,null,null,null,"",null,null,null,null,null,null,null,null,""]
[null,null,null,null,null,null,null,null,null,null,"",null,null,null,null,null,null,null,null,""]
[null,null,null,null,null,null,null,null,null,null,"",null,null,null,null,null,null,null,null,""]
[null,null,null,null,null,null,null,null,null,null,"",null,null,null,null,null,null,null,null,""]
[null,null,null,null,null,null,null,null,null,null,"",null,null,null,null,null,null,null,null,""]
[null,null,null,null,null,null,null,null,null,null,"",null,null,null,null,null,null,null,null,""]
[null,null,null,null,null,null,null,null,null,null,"",null,null,null,null,null,null,null,null,""]
[null,null,null,null,null,null,null,null,null,null,"",null,null,null,null,null,null,null,null,""]
[null,null,null,null,null,null,null,null,null,null,"",null,null,null,null,null,null,null,null,""]
[null,null,null,null,null,null,null,null,null,null,"",null,null,null,null,null,null,null,null,""]
[null,null,null,null,null,null,null,null,null,null,"",null,null,null,null,null,null,null,null,""]
[null,null,null,null,null,null,null,null,null,null,"",null,null,null,null,null,null,null,null,""]
[null,null,null,null,null,null,null,null,null,null,"",null,null,null,null,null,null,null,null,""]
[null,null,null,null,null,null,null,null,null,null,"",null,null,null,null,null,null,null,null,""]
[null,null,null,null,null,null,null,null,null,null,"",null,null,null,null,null,null,null,null,""]
[null,null,null,null,null,null,null,null,null,null,"",null,null,null,null,null,null,null,null,""]
[null,null,null,null,null,null,null,null,null,null,"",null,null,null,null,null,null,null,null,""]
[null,null,null,null,null,null,null,null,null,null,"",null,null,null,null,null,null,null,null,""]
[null,null,null,null,null,null,null,null,null,null,"",null,null,null,null,null,null,null,null,""]
[null,null,null,null,null,null,null,null,null,null,"",null,null,null,null,null,null,null,null,""]
[null,null,null,null,null,null,null,null,null,null,"",null,null,null,null,null,null,null,null,""]
[null,null,null,null,null,null,null,null,null,null,"",null,null,null,null,null,null,null,null,""]
[null,null,null,null,null,null,null,null,null,null,"",null,null,null,null,null,null,null,null,""]
[null,null,null,null,null,null,null,null,null,null,"",null,null,null,null,null,null,null,null,""]
[null,null,null,null,null,null,null,null,null,null,"",null,null,null,null,null,null,null,null,""]
[null,null,null,null,null,null,null,null,null,null,"",null,null,null,null,null,null,null,null,""]
[null,null,null,null,null,null,null,null,null,null,"",null,null,null,null,null,null,null,null,""]
[null,null,null,null,null,null,null,null,null,null,"",null,null,null,null,null,null,null,null,""]
[null,null,null,null,null,null,null,null,null,null,"",null,null,null,null,null,null,null,null,""]
[null,null,null,null,null,null,null,null,null,null,"",null,null,null,null,null,null,null,null,""]
[null,null,null,null,null,null,null,null,null,null,"",null,null,null,null,null,null,null,null,""]
[null,null,null,null,null,null,null,null,null,null,"",null,null,null,null,null,null,null,null,""]
[null,null,null,null,null,null,null,null,null,null,null,null,null,null,null,null,null,null,null,""]

{"sheet":"Set Exterior Problem","index":1,"n_rows":126,"n_cols":26,"rows_kept":126,"cut":false,"hidden":false,"merged":[[4,23,4,24],[1,2,1,22],[2,10,2,11],[2,23,2,24],[2,12,2,15],[2,16,2,21],[7,19,7,21],[8,19,8,20],[7,1,7,3],[7,5,7,7],[8,1,8,2],[8,5,8,6],[8,10,8,11],[7,10,7,13],[7,15,7,17],[8,15,8,16]]}
[]
[null,null,"LBEMA. The solution of axysimmetric exterior Laplace problem in Excel"]
[null,null,null,null,null,null,null,null,null,"by","Stephen Kirkup",null,"School of Engineering",null,null,null,"University of Central Lancashire",null,null,null,null,null,null,"Guide",null,"www.boundary-element-method.com/Excel_VBA/LBEMA_xls.pdf"]
[null,null,"INTERIOR?",null,null,"CLOSED?",null,null,null,"version 1.1"]
[null,null,false,null,null,true,null,null,null,null,null,null,null,null,null,null,null,null,null,null,null,null,null,"Source of this file",null,"www.boundary-element-method.com/Excel_VBA/LBEMA.xlsm"]
[]
[]
[null,"Nodes",null,null,null,"Panels",null,null,null,null,"Boundary Condition",null,null,null,null,"Exterior Points",null,null,null,"Panel Centres"]
[null,"Number of nodes",null,21,null,"Number of panels",null,20,null,null,"Number of panels",null,{"$f":"H9","v":20},null,null,"Number of points",null,5,null,"Number of panels",null,{"$f":"H9","v":20}]
[null,"Index","r","z",null,"index","node 1","node 2",null,null,"index","alpha","beta","f",null,"index","r","z",null,"index","r-centre","z-centre"]
[null,1,{"$f":"SIN((B11-1)*9*PI()/180)","v":0},{"$f":"COS((B11-1)*9*PI()/180)","v":1},null,1,1,2,null,null,{"$f":"IF(F11<>\"\",F11,\"\")","v":1},1,0,1,null,1,0,2,null,{"$f":"IF(F11<>\"\",F11,\"\")","v":1},7.8217232520115434E-2,0.99384417029756889]
[null,2,0.15643446504023087,0.98768834059513777,null,2,2,3,null,null,{"$f":"IF(F12<>\"\",F12,\"\")","v":2},1,0,1,null,2,0,-2,null,{"$f":"IF(F12<>\"\",F12,\"\")","v":2},0.23272572970758915,0.96937242844514571]
[null,3,0.3090169943749474,0.95105651629515353,null,3,3,4,null,null,3,1,0,1,null,3,1,1,null,3,0.3815037470572471,0.92103152024176071]
[null,4,0.45399049973954675,0.8910065241883679,null,4,4,5,null,null,4,1,0,1,null,4,1,-1,null,4,0.52088787601600994,0.85001175928165762]
[null,5,0.58778525229247314,0.80901699437494745,null,5,5,6,null,null,5,1,0,1,null,5,2,0,null,5,0.6474460167395103,0.75806188778074746]
[null,6,0.70710678118654746,0.70710678118654757,null,6,6,7,null,null,6,1,0,1,null,null,null,null,null,6,0.75806188778074746,0.64744601673951041]
[null,7,0.80901699437494745,0.58778525229247314,null,7,7,8,null,null,7,1,0,1,null,null,null,null,null,7,0.85001175928165762,0.52088787601600994]
[null,8,0.89100652418836779,0.4539904997395468,null,8,8,9,null,null,8,1,0,1,null,null,null,null,null,8,0.92103152024176071,0.3815037470572471]
[null,9,0.95105651629515353,0.30901699437494745,null,9,9,10,null,null,9,1,0,1,null,null,null,null,null,9,0.96937242844514571,0.2327257297075892]
[null,10,0.98768834059513777,0.15643446504023092,null,10,10,11,null,null,10,1,0,1,null,null,null,null,null,10,0.99384417029756889,7.821723252011549E-2]
[null,11,1,6.1257422745431001E-17,null,11,11,12,null,null,11,0,1,-1,null,null,null,null,null,11,0.99384417029756889,-7.821723252011549E-2]
[null,12,0.98768834059513766,-0.15643446504023104,null,12,12,13,null,null,12,0,1,-1,null,null,null,null,null,12,0.96937242844514571,-0.2327257297075892]
[null,13,0.95105651629515364,-0.30901699437494734,null,13,13,14,null,null,13,0,1,-1,null,null,null,null,null,13,0.92103152024176071,-0.38150374705724699]
[null,14,0.8910065241883679,-0.45399049973954669,null,14,14,15,null,null,14,0,1,-1,null,null,null,null,null,14,0.85001175928165762,-0.52088787601600983]
[null,15,0.80901699437494745,-0.58778525229247303,null,15,15,16,null,null,15,0,1,-1,null,null,null,null,null,15,0.75806188778074746,-0.64744601673951019]
[null,16,0.70710678118654757,-0.70710678118654746,null,16,16,17,null,null,16,0,1,-1,null,null,null,null,null,16,0.64744601673951041,-0.75806188778074746]
[null,17,0.58778525229247325,-0.80901699437494734,null,17,17,18,null,null,17,0,1,-1,null,null,null,null,null,17,0.52088787601601005,-0.85001175928165762]
[null,18,0.45399049973954686,-0.89100652418836779,null,18,18,19,null,null,18,0,1,-1,null,null,null,null,null,18,0.38150374705724721,-0.92103152024176071]
[null,19,0.30901699437494751,-0.95105651629515353,null,19,19,20,null,null,19,0,1,-1,null,null,null,null,null,19,0.23272572970758926,-0.9693724284451456]
[null,20,0.15643446504023098,-0.98768834059513766,null,20,20,21,null,null,20,0,1,-1,null,null,null,null,null,20,7.8217232520115546E-2,-0.99384417029756889]
[null,21,1.22514845490862E-16,-1,null,null,null,null,null,null,"",null,null,null,null,null,null,null,null,""]
[null,null,null,null,null,null,null,null,null,null,"",null,null,null,null,null,null,null,null,""]
[null,null,null,null,null,null,null,null,null,null,"",null,null,null,null,null,null,null,null,""]
[null,null,null,null,null,null,null,null,null,null,"",null,null,null,null,null,null,null,null,""]
[null,null,null,null,null,null,null,null,null,null,"",null,null,null,null,null,null,null,null,""]
[null,null,null,null,null,null,null,null,null,null,"",null,null,null,null,null,null,null,null,""]
[null,null,null,null,null,null,null,null,null,null,"",null,null,null,null,null,null,null,null,""]
[null,null,null,null,null,null,null,null,null,null,"",null,null,null,null,null,null,null,null,""]
[null,null,null,null,null,null,null,null,null,null,"",null,null,null,null,null,null,null,null,""]
[null,null,null,null,null,null,null,null,null,null,"",null,null,null,null,null,null,null,null,""]
[null,null,null,null,null,null,null,null,null,null,"",null,null,null,null,null,null,null,null,""]
[null,null,null,null,null,null,null,null,null,null,"",null,null,null,null,null,null,null,null,""]
[null,null,null,null,null,null,null,null,null,null,"",null,null,null,null,null,null,null,null,""]
[null,null,null,null,null,null,null,null,null,null,"",null,null,null,null,null,null,null,null,""]
[null,null,null,null,null,null,null,null,null,null,"",null,null,null,null,null,null,null,null,""]
[null,null,null,null,null,null,null,null,null,null,"",null,null,null,null,null,null,null,null,""]
[null,null,null,null,null,null,null,null,null,null,"",null,null,null,null,null,null,null,null,""]
[null,null,null,null,null,null,null,null,null,null,"",null,null,null,null,null,null,null,null,""]
[null,null,null,null,null,null,null,null,null,null,"",null,null,null,null,null,null,null,null,""]
[null,null,null,null,null,null,null,null,null,null,"",null,null,null,null,null,null,null,null,""]
[null,null,null,null,null,null,null,null,null,null,"",null,null,null,null,null,null,null,null,""]
[null,null,null,null,null,null,null,null,null,null,"",null,null,null,null,null,null,null,null,""]
[null,null,null,null,null,null,null,null,null,null,"",null,null,null,null,null,null,null,null,""]
[null,null,null,null,null,null,null,null,null,null,"",null,null,null,null,null,null,null,null,""]
[null,null,null,null,null,null,null,null,null,null,"",null,null,null,null,null,null,null,null,""]
[null,null,null,null,null,null,null,null,null,null,"",null,null,null,null,null,null,null,null,""]
[null,null,null,null,null,null,null,null,null,null,"",null,null,null,null,null,null,null,null,""]
[null,null,null,null,null,null,null,null,null,null,"",null,null,null,null,null,null,null,null,""]
[null,null,null,null,null,null,null,null,null,null,"",null,null,null,null,null,null,null,null,""]
[null,null,null,null,null,null,null,null,null,null,"",null,null,null,null,null,null,null,null,""]
[null,null,null,null,null,null,null,null,null,null,"",null,null,null,null,null,null,null,null,""]
[null,null,null,null,null,null,null,null,null,null,"",null,null,null,null,null,null,null,null,""]
[null,null,null,null,null,null,null,null,null,null,"",null,null,null,null,null,null,null,null,""]
[null,null,null,null,null,null,null,null,null,null,"",null,null,null,null,null,null,null,null,""]
[null,null,null,null,null,null,null,null,null,null,"",null,null,null,null,null,null,null,null,""]
[null,null,null,null,null,null,null,null,null,null,"",null,null,null,null,null,null,null,null,""]
[null,null,null,null,null,null,null,null,null,null,"",null,null,null,null,null,null,null,null,""]
[null,null,null,null,null,null,null,null,null,null,"",null,null,null,null,null,null,null,null,""]
[null,null,null,null,null,null,null,null,null,null,"",null,null,null,null,null,null,null,null,""]
[null,null,null,null,null,null,null,null,null,null,"",null,null,null,null,null,null,null,null,""]
[null,null,null,null,null,null,null,null,null,null,"",null,null,null,null,null,null,null,null,""]
[null,null,null,null,null,null,null,null,null,null,"",null,null,null,null,null,null,null,null,""]
[null,null,null,null,null,null,null,null,null,null,"",null,null,null,null,null,null,null,null,""]
[null,null,null,null,null,null,null,null,null,null,"",null,null,null,null,null,null,null,null,""]
[null,null,null,null,null,null,null,null,null,null,"",null,null,null,null,null,null,null,null,""]
[null,null,null,null,null,null,null,null,null,null,{"$f":"IF(F76<>\"\",F76,\"\")","v":""},null,null,null,null,null,null,null,null,{"$f":"IF(F76<>\"\",F76,\"\")","v":""}]
[null,null,null,null,null,null,null,null,null,null,"",null,null,null,null,null,null,null,null,""]
[null,null,null,null,null,null,null,null,null,null,"",null,null,null,null,null,null,null,null,""]
[null,null,null,null,null,null,null,null,null,null,"",null,null,null,null,null,null,null,null,""]
[null,null,null,null,null,null,null,null,null,null,"",null,null,null,null,null,null,null,null,""]
[null,null,null,null,null,null,null,null,null,null,"",null,null,null,null,null,null,null,null,""]
[null,null,null,null,null,null,null,null,null,null,"",null,null,null,null,null,null,null,null,""]
[null,null,null,null,null,null,null,null,null,null,"",null,null,null,null,null,null,null,null,""]
[null,null,null,null,null,null,null,null,null,null,"",null,null,null,null,null,null,null,null,""]
[null,null,null,null,null,null,null,null,null,null,"",null,null,null,null,null,null,null,null,""]
[null,null,null,null,null,null,null,null,null,null,"",null,null,null,null,null,null,null,null,""]
[null,null,null,null,null,null,null,null,null,null,"",null,null,null,null,null,null,null,null,""]
[null,null,null,null,null,null,null,null,null,null,"",null,null,null,null,null,null,null,null,""]
[null,null,null,null,null,null,null,null,null,null,"",null,null,null,null,null,null,null,null,""]
[null,null,null,null,null,null,null,null,null,null,"",null,null,null,null,null,null,null,null,""]
[null,null,null,null,null,null,null,null,null,null,"",null,null,null,null,null,null,null,null,""]
[null,null,null,null,null,null,null,null,null,null,"",null,null,null,null,null,null,null,null,""]
[null,null,null,null,null,null,null,null,null,null,"",null,null,null,null,null,null,null,null,""]
[null,null,null,null,null,null,null,null,null,null,"",null,null,null,null,null,null,null,null,""]
[null,null,null,null,null,null,null,null,null,null,"",null,null,null,null,null,null,null,null,""]
[null,null,null,null,null,null,null,null,null,null,"",null,null,null,null,null,null,null,null,""]
[null,null,null,null,null,null,null,null,null,null,"",null,null,null,null,null,null,null,null,""]
[null,null,null,null,null,null,null,null,null,null,"",null,null,null,null,null,null,null,null,""]
[null,null,null,null,null,null,null,null,null,null,"",null,null,null,null,null,null,null,null,""]
[null,null,null,null,null,null,null,null,null,null,"",null,null,null,null,null,null,null,null,""]
[null,null,null,null,null,null,null,null,null,null,"",null,null,null,null,null,null,null,null,""]
[null,null,null,null,null,null,null,null,null,null,"",null,null,null,null,null,null,null,null,""]
[null,null,null,null,null,null,null,null,null,null,"",null,null,null,null,null,null,null,null,""]
[null,null,null,null,null,null,null,null,null,null,"",null,null,null,null,null,null,null,null,""]
[null,null,null,null,null,null,null,null,null,null,"",null,null,null,null,null,null,null,null,""]
[null,null,null,null,null,null,null,null,null,null,"",null,null,null,null,null,null,null,null,""]
[null,null,null,null,null,null,null,null,null,null,"",null,null,null,null,null,null,null,null,""]
[null,null,null,null,null,null,null,null,null,null,"",null,null,null,null,null,null,null,null,""]
[null,null,null,null,null,null,null,null,null,null,"",null,null,null,null,null,null,null,null,""]
[null,null,null,null,null,null,null,null,null,null,"",null,null,null,null,null,null,null,null,""]
[null,null,null,null,null,null,null,null,null,null,"",null,null,null,null,null,null,null,null,""]
[null,null,null,null,null,null,null,null,null,null,"",null,null,null,null,null,null,null,null,""]
[null,null,null,null,null,null,null,null,null,null,"",null,null,null,null,null,null,null,null,""]
[null,null,null,null,null,null,null,null,null,null,"",null,null,null,null,null,null,null,null,""]
[null,null,null,null,null,null,null,null,null,null,"",null,null,null,null,null,null,null,null,""]
[null,null,null,null,null,null,null,null,null,null,"",null,null,null,null,null,null,null,null,""]
[null,null,null,null,null,null,null,null,null,null,"",null,null,null,null,null,null,null,null,""]
[null,null,null,null,null,null,null,null,null,null,"",null,null,null,null,null,null,null,null,""]
[null,null,null,null,null,null,null,null,null,null,"",null,null,null,null,null,null,null,null,""]
[null,null,null,null,null,null,null,null,null,null,"",null,null,null,null,null,null,null,null,""]
[null,null,null,null,null,null,null,null,null,null,"",null,null,null,null,null,null,null,null,""]
[null,null,null,null,null,null,null,null,null,null,"",null,null,null,null,null,null,null,null,""]
[null,null,null,null,null,null,null,null,null,null,"",null,null,null,null,null,null,null,null,""]
[null,null,null,null,null,null,null,null,null,null,"",null,null,null,null,null,null,null,null,""]
[null,null,null,null,null,null,null,null,null,null,"",null,null,null,null,null,null,null,null,""]
[null,null,null,null,null,null,null,null,null,null,null,null,null,null,null,null,null,null,null,""]

{"sheet":"Sketch","index":2,"n_rows":55,"n_cols":26,"rows_kept":55,"cut":false,"hidden":false,"merged":[[3,1,3,23],[4,25,4,26],[7,0,7,1],[8,0,8,1]]}
[]
[]
[]
[null,"LBEMA. The solution of axysimmetric interior Laplace problem in Excel",null,null,null,null,null,null,null,null,null,null,null,null,null,null,null,null,null,null,null,null,null,null,"2018-03-16","23:04:35"]
[]
[]
[]
["Boundary Nodes"]
["and domain points"]
[0,1]
[0.125,1]
[0.25,1]
[0.375,1]
[0.5,1]
[0.625,1]
[0.75,1]
[0.875,1]
[1,1]
[1,0.875]
[1,0.75]
[1,0.625]
[1,0.5]
[1,0.374999999999999]
[1,0.249999999999999]
[1,0.124999999999999]
[1,0]
[0.875,0]
[0.75,0]
[0.625,0]
[0.5,0]
[0.375,0]
[0.25,0]
[0.125,0]
[0,0]
[]
[0.25,0.25]
[]
[0.75,0.25]
[]
[0.25,0.75]
[]
[0.75,0.75]
[null,null,null,null,"X","Y"]
[0.5,0.5,null,"MAX",{"$f":"MAX(A10:A2005)","v":1},{"$f":"MAX(B10:B2005)","v":1}]
[null,null,null,"MIN",{"$f":"MIN(A10:A2005)","v":0},{"$f":"MIN(B10:B2005)","v":0}]
[]
[]
[null,null,null,null,"X","Y","MIN"]
[null,null,null,"LENGTH",{"$f":"E44-E45","v":1},{"$f":"F44-F45","v":1},{"$f":"MIN(E49:F49)","v":1}]
[]
[null,null,null,"MID",{"$f":"(E44+E45)/2","v":0.5},{"$f":"(F44+F45)/2","v":0.5}]
[]
[]
[null,null,null,"NEW MAX",{"$f":"E51+G49*F49/2","v":1},{"$f":"F51+G49*F49/2","v":1}]
[null,null,null,"NEW MIN",{"$f":"E51-G49*F49/2","v":0},{"$f":"F51-G49*F49/2","v":0}]

{"sheet":"Closed Boundaries","index":3,"n_rows":34,"n_cols":21,"rows_kept":34,"cut":false,"hidden":false,"merged":[[1,1,1,6],[3,1,3,5]]}
[]
[null,"LBEMA. The solution of axysimmetric interior Laplace problem in Excel",null,null,null,null,null,null,null,"2018-03-16",null,"23:04:33",null,null,null,null,null,null,null,null,"No Nodes"]
[null,null,null,null,null,null,null,null,null,null,null,null,null,null,null,null,null,null,null,null,25]
[null,"Number of separate boundaries =",null,null,null,null,1]
[]
[null,"boundary",null,"boundary",null,"boundary",null,"boundary",null,"boundary",null,"boundary",null,"boundary",null,"boundary",null,"boundary"]
[null,1]
[null,"number of panels"]
[null,24]
[null,"panels below"]
[null,1]
[null,2]
[null,3]
[null,4]
[null,5]
[null,6]
[null,7]
[null,8]
[null,9]
[null,10]
[null,11]
[null,12]
[null,13]
[null,14]
[null,15]
[null,16]
[null,17]
[null,18]
[null,19]
[null,20]
[null,21]
[null,22]
[null,23]
[null,24]

{"sheet":"Open Boundaries","index":4,"n_rows":6,"n_cols":18,"rows_kept":6,"cut":false,"hidden":true,"merged":[[3,1,3,5],[1,1,1,6]]}
[]
[null,"OPEN BOUNDARIES"]
[]
[null,"Number of separate boundaries =",null,null,null,null,0]
[]
[null,"boundary",null,"boundary",null,"boundary",null,"boundary",null,"boundary",null,"boundary",null,"boundary",null,"boundary",null,"boundary"]

{"sheet":"Data Copy","index":5,"n_rows":125,"n_cols":18,"rows_kept":125,"cut":false,"hidden":false,"merged":[[4,20,4,21],[1,2,1,19],[2,10,2,11],[2,12,2,15],[2,16,2,18],[2,20,2,21],[7,1,7,3],[7,5,7,7],[7,10,7,13],[7,15,7,17],[8,1,8,2],[8,5,8,6],[8,10,8,11],[8,15,8,16]]}
[]
[null,null,"LBEMA. The solution of axysimmetric interior Laplace problem in Excel"]
[]
[null,null,"INTERIOR?",null,null,"CLOSED?"]
[null,null,true,null,null,true]
[]
[]
[null,"Nodes",null,null,null,"Panels",null,null,null,null,"Boundary Condition",null,null,null,null,"Interior Points"]
[null,"Number of nodes",null,25,null,"Number of panels",null,24,null,null,"Number of panels",null,24,null,null,"Number of points",null,5]
[null,"Index","r","z",null,"index","node 1","node 2",null,null,"index","alpha","beta","f",null,"index","x","y"]
[null,1,0,1,null,1,1,2,null,null,1,1,0,20,null,1,0.25,0.25]
[null,2,0.125,1,null,2,2,3,null,null,2,1,0,20,null,2,0.75,0.25]
[null,3,0.25,1,null,3,3,4,null,null,3,1,0,20,null,3,0.25,0.75]
[null,4,0.375,1,null,4,4,5,null,null,4,1,0,20,null,4,0.75,0.75]
[null,5,0.5,1,null,5,5,6,null,null,5,1,0,20,null,5,0.5,0.5]
[null,6,0.625,1,null,6,6,7,null,null,6,1,0,20]
[null,7,0.75,1,null,7,7,8,null,null,7,1,0,20]
[null,8,0.875,1,null,8,8,9,null,null,8,1,0,20]
[null,9,1,1,null,9,9,10,null,null,9,0,1,0]
[null,10,1,0.875,null,10,10,11,null,null,10,0,1,0]
[null,11,1,0.75,null,11,11,12,null,null,11,0,1,0]
[null,12,1,0.625,null,12,12,13,null,null,12,0,1,0]
[null,13,1,0.5,null,13,13,14,null,null,13,0,1,0]
[null,14,1,0.374999999999999,null,14,14,15,null,null,14,0,1,0]
[null,15,1,0.249999999999999,null,15,15,16,null,null,15,0,1,0]
[null,16,1,0.124999999999999,null,16,16,17,null,null,16,0,1,0]
[null,17,1,0,null,17,17,18,null,null,17,1,0,10]
[null,18,0.875,0,null,18,18,19,null,null,18,1,0,10]
[null,19,0.75,0,null,19,19,20,null,null,19,1,0,10]
[null,20,0.625,0,null,20,20,21,null,null,20,1,0,10]
[null,21,0.5,0,null,21,21,22,null,null,21,1,0,10]
[null,22,0.375,0,null,22,22,23,null,null,22,1,0,10]
[null,23,0.25,0,null,23,23,24,null,null,23,1,0,10]
[null,24,0.125,0,null,24,24,25,null,null,24,1,0,10]
[null,25,0,0]
[]
[]
[]
[]
[]
[]
[]
[]
[]
[]
[]
[]
[]
[]
[]
[]
[]
[]
[]
[null,null,null,null,null,null,null,null,null,null,{"$f":"IF(F55<>\"\",F55,\"\")","v":""}]
[null,null,null,null,null,null,null,null,null,null,""]
[null,null,null,null,null,null,null,null,null,null,""]
[null,null,null,null,null,null,null,null,null,null,""]
[null,null,null,null,null,null,null,null,null,null,""]
[null,null,null,null,null,null,null,null,null,null,""]
[null,null,null,null,null,null,null,null,null,null,""]
[null,null,null,null,null,null,null,null,null,null,""]
[null,null,null,null,null,null,null,null,null,null,""]
[null,null,null,null,null,null,null,null,null,null,""]
[null,null,null,null,null,null,null,null,null,null,""]
[null,null,null,null,null,null,null,null,null,null,""]
[null,null,null,null,null,null,null,null,null,null,""]
[null,null,null,null,null,null,null,null,null,null,""]
[null,null,null,null,null,null,null,null,null,null,""]
[null,null,null,null,null,null,null,null,null,null,""]
[null,null,null,null,null,null,null,null,null,null,""]
[null,null,null,null,null,null,null,null,null,null,""]
[null,null,null,null,null,null,null,null,null,null,""]
[null,null,null,null,null,null,null,null,null,null,""]
[null,null,null,null,null,null,null,null,null,null,""]
[null,null,null,null,null,null,null,null,null,null,{"$f":"IF(F76<>\"\",F76,\"\")","v":""}]
[null,null,null,null,null,null,null,null,null,null,""]
[null,null,null,null,null,null,null,null,null,null,""]
[null,null,null,null,null,null,null,null,null,null,""]
[null,null,null,null,null,null,null,null,null,null,""]
[null,null,null,null,null,null,null,null,null,null,""]
[null,null,null,null,null,null,null,null,null,null,""]
[null,null,null,null,null,null,null,null,null,null,""]
[null,null,null,null,null,null,null,null,null,null,""]
[null,null,null,null,null,null,null,null,null,null,""]
[null,null,null,null,null,null,null,null,null,null,""]
[null,null,null,null,null,null,null,null,null,null,""]
[null,null,null,null,null,null,null,null,null,null,""]
[null,null,null,null,null,null,null,null,null,null,""]
[null,null,null,null,null,null,null,null,null,null,""]
[null,null,null,null,null,null,null,null,null,null,""]
[null,null,null,null,null,null,null,null,null,null,""]
[null,null,null,null,null,null,null,null,null,null,""]
[null,null,null,null,null,null,null,null,null,null,""]
[null,null,null,null,null,null,null,null,null,null,""]
[null,null,null,null,null,null,null,null,null,null,""]
[null,null,null,null,null,null,null,null,null,null,""]
[null,null,null,null,null,null,null,null,null,null,""]
[null,null,null,null,null,null,null,null,null,null,""]
[null,null,null,null,null,null,null,null,null,null,""]
[null,null,null,null,null,null,null,null,null,null,""]
[null,null,null,null,null,null,null,null,null,null,""]
[null,null,null,null,null,null,null,null,null,null,""]
[null,null,null,null,null,null,null,null,null,null,""]
[null,null,null,null,null,null,null,null,null,null,""]
[null,null,null,null,null,null,null,null,null,null,""]
[null,null,null,null,null,null,null,null,null,null,""]
[null,null,null,null,null,null,null,null,null,null,""]
[null,null,null,null,null,null,null,null,null,null,""]
[null,null,null,null,null,null,null,null,null,null,""]
[null,null,null,null,null,null,null,null,null,null,""]
[null,null,null,null,null,null,null,null,null,null,""]
[null,null,null,null,null,null,null,null,null,null,""]
[null,null,null,null,null,null,null,null,null,null,""]
[null,null,null,null,null,null,null,null,null,null,""]
[null,null,null,null,null,null,null,null,null,null,""]
[null,null,null,null,null,null,null,null,null,null,""]
[null,null,null,null,null,null,null,null,null,null,""]
[null,null,null,null,null,null,null,null,null,null,""]
[null,null,null,null,null,null,null,null,null,null,""]
[null,null,null,null,null,null,null,null,null,null,""]
[null,null,null,null,null,null,null,null,null,null,""]
[null,null,null,null,null,null,null,null,null,null,""]
[null,null,null,null,null,null,null,null,null,null,""]
[null,null,null,null,null,null,null,null,null,null,""]

{"sheet":"L_SS","index":6,"n_rows":24,"n_cols":24,"rows_kept":24,"cut":false,"hidden":false,"merged":[]}
[5.8289820043809594E-2,6.4634903454114753E-2,6.3167685717672312E-2,6.282950241193884E-2,6.2696721341829464E-2,6.2630829153989653E-2,6.259332116440923E-2,6.2569931238824178E-2,6.2398131581932283E-2,6.1446766941005315E-2,5.9667943713049641E-2,5.7267968027061238E-2,5.4477284213126941E-2,5.1503101279574005E-2,4.8505338364090399E-2,4.5592924506822313E-2,4.2709353182464146E-2,3.9365369422599793E-2,3.5351849819036898E-2,3.0577868877058389E-2,2.4985811136014363E-2,1.8583580814385069E-2,1.1476733071427695E-2,3.883676282357528E-3]
[2.2245868656656485E-2,8.2546062638332335E-2,7.0244721654114217E-2,6.5799070898165044E-2,6.4380946744589551E-2,6.3724692732951671E-2,6.3363480553073018E-2,6.3142479010617869E-2,6.2885483563559053E-2,6.1868045149167786E-2,5.9980442328536825E-2,5.7460871838262415E-2,5.4564529787249079E-2,5.1510213957926217E-2,4.8458783406945656E-2,4.5514632075996451E-2,4.2600964733534932E-2,3.9213735500737847E-2,3.5156268282055862E-2,3.0346663267352941E-2,2.47404788321532E-2,1.8359627260435839E-2,1.1317365664958678E-2,3.8256851031120967E-3]
[1.2766387468448961E-2,4.2742971253757533E-2,9.2960611459350306E-2,7.4816243058363485E-2,6.8518829000284609E-2,6.6209391466493087E-2,6.5044660186982364E-2,6.4363456468973512E-2,6.3913112812743908E-2,6.2743708794462866E-2,6.0612377267604343E-2,5.7834350438665368E-2,5.4718475065435493E-2,5.1503928953212638E-2,4.8349086960279605E-2,4.5346196732959893E-2,4.2374485800178503E-2,3.890203574966996E-2,3.4760843966336406E-2,2.9887439407012384E-2,2.4262122424522897E-2,1.7930557959892356E-2,1.1016302236067314E-2,3.7169951500630963E-3]
[9.0225931735315231E-3,2.8366100801214399E-2,5.3900219228230045E-2,9.9732517464441603E-2,7.8537519523594279E-2,7.1006001941711139E-2,6.801304718171014E-2,6.6419645800560853E-2,6.5605714099043436E-2,6.414502434157475E-2,6.1570262842536347E-2,5.8353515949943251E-2,5.48910192156081E-2,5.1440228114157716E-2,4.8142643842172241E-2,4.5064593943900236E-2,4.2011938534805018E-2,3.8416040132911257E-2,3.4160620222689342E-2,2.9209749665875282E-2,2.3576039002467717E-2,1.7331078026311845E-2,1.0604149913381263E-2,3.5698575247725701E-3]
[6.9881262754998338E-3,2.1532285520071266E-2,3.8217194205675369E-2,6.1453935084826126E-2,0.10478143433647592,8.1660307780833663E-2,7.3245134180403126E-2,6.9719093391767628E-2,6.8212591982415929E-2,6.618844995165131E-2,6.2835040107046311E-2,5.8935114263581043E-2,5.4992392023697621E-2,5.1247179400150049E-2,4.7789301911222798E-2,4.4637695133764574E-2,4.1490319862827078E-2,3.7740946494978944E-2,3.3356052228187334E-2,2.8333823430952178E-2,2.2720039465535195E-2,1.66060046227221E-2,1.0117103291447728E-2,3.3981348591185165E-3]
[5.7055929424541293E-3,1.7417361884412928E-2,3.0167762399746209E-2,4.5318306396812148E-2,6.7119960344894647E-2,0.10878958765433092,8.4347838001555805E-2,7.5266096253649883E-2,7.2248204465108601E-2,6.9020772663514737E-2,6.4285613550527476E-2,5.939740076177849E-2,5.4873651700627038E-2,5.0823900491632823E-2,4.7226562224603578E-2,4.4028933371293731E-2,4.0787076560134937E-2,3.6868519488157545E-2,3.2359374040076633E-2,2.7292878730063107E-2,2.1741015554093052E-2,1.5802893069316041E-2,9.5899181468284776E-3,3.2144792598465624E-3]
[4.8220440776390655E-3,1.4644811201137113E-2,2.5058319418217085E-2,3.6690364803853431E-2,5.0824864540930652E-2,7.1633481227744156E-2,0.11212216272191618,8.6706272687075064E-2,7.8920440899484842E-2,7.2622482022212831E-2,6.5492651387353482E-2,5.9393091189618559E-2,5.4323513239255938E-2,5.00525538208259E-2,4.6391117579509526E-2,4.3205481536370202E-2,3.9887439763517059E-2,3.5804154559435218E-2,3.1198112187547172E-2,2.6131129929057209E-2,2.0688741982731386E-2,1.4965192333258184E-2,9.0512985586632642E-3,3.0288068938916076E-3]
[4.1759882330146434E-3,1.2642930217081075E-2,2.1480243952711107E-2,3.1036278486604514E-2,4.1893902458122766E-2,5.5298733964680442E-2,7.537409983540698E-2,0.11497472807744889,9.1627402721453435E-2,7.5507810785520921E-2,6.5379999921867937E-2,5.8420890797469621E-2,5.3119463448940848E-2,4.8833699449139741E-2,4.5238883602386794E-2,4.2149112900461402E-2,3.8791754814008712E-2,3.4570823249180309E-2,2.9913478269292117E-2,2.4897780204450701E-2,1.9609147624816265E-2,1.4127820686184588E-2,8.5221662001864242E-3,2.8479777929068147E-3]
[3.9061821420446115E-3,1.1811142421355864E-2,2.0011045312580918E-2,2.8768577462736766E-2,3.8486271606926338E-2,4.9898470618928388E-2,6.4655560227085837E-2,8.5979396569054442E-2,0.11628170028243931,8.3574248460750469E-2,6.8968373102124669E-2,6.062051347594373E-2,5.4676663623069492E-2,5.0035231402686564E-2,4.6220754807024582E-2,4.298423790885543E-2,3.9478678224689132E-2,3.5073938424987045E-2,3.024640837881247E-2,2.5092134267592454E-2,1.9704986289944774E-2,1.4164274337081589E-2,8.5306902857185136E-3,2.8485495386541032E-3]
[3.8458781997146494E-3,1.1617393057476002E-2,1.963870300286414E-2,2.8113502602491732E-2,3.7306010450857609E-2,4.754881986624572E-2,5.9028704988924673E-2,7.0281050083593075E-2,8.3574248460750469E-2,0.11628170028243931,8.3574248460750469E-2,6.8968373102124669E-2,6.0620513475944202E-2,5.4676663623069048E-2,5.0035231402686564E-2,4.6220754807024228E-2,4.2365776121755051E-2,3.7655725561153895E-2,3.2441754698558443E-2,2.6864609390652119E-2,2.1052781068285946E-2,1.5104179561207604E-2,9.0838617287746625E-3,3.0309928861874244E-3]
[3.733308012786778E-3,1.1258688281301494E-2,1.8962295664387542E-2,2.6965739595018683E-2,3.5375478395654435E-2,4.4205803856845173E-2,5.3135825102490694E-2,6.1060717713495478E-2,6.8968373102124683E-2,8.3574248460750469E-2,0.11628170028243931,8.3574248460750469E-2,6.8968373102125197E-2,6.0620513475943681E-2,5.4676663623069048E-2,5.0035231402686176E-2,4.5721228009112748E-2,4.0621755303350035E-2,3.4912291194389412E-2,2.881113440785758E-2,2.2498549502201606E-2,1.6093048611154993E-2,9.6580226106868228E-3,3.2190551117701506E-3]
[3.581769778317331E-3,1.0781202574333905E-2,1.808412550062883E-2,2.554085394163761E-2,3.3154257550929732E-2,4.081366081657168E-2,4.8184187449803566E-2,5.4638505003770141E-2,6.062051347594373E-2,6.8968373102124683E-2,8.3574248460750469E-2,0.11628170028243931,8.3574248460751066E-2,6.89683731021246E-2,6.0620513475943681E-2,5.4676663623068632E-2,4.9714559636270465E-2,4.407982950997958E-2,3.7696088652460866E-2,3.0923163781511245E-2,2.4014624181623142E-2,1.7102696960147937E-2,1.0233839488137272E-2,3.4059843675345635E-3]
[3.405984367534563E-3,1.0233839488137272E-2,1.7102696960147934E-2,2.4014624181623138E-2,3.0923163781511241E-2,3.7696088652460859E-2,4.4079829509979573E-2,4.9714559636270458E-2,5.4676663623069062E-2,6.0620513475943709E-2,6.8968373102124642E-2,8.3574248460750372E-2,0.1162817002824401,8.3574248460750386E-2,6.8968373102124628E-2,6.0620513475943258E-2,5.4638505003770169E-2,4.8184187449803566E-2,4.0813660816571708E-2,3.3154257550929746E-2,2.5540853941637617E-2,1.8084125500628837E-2,1.0781202574333905E-2,3.5817697783173319E-3]
[3.2190551117701489E-3,9.6580226106868176E-3,1.6093048611154983E-2,2.2498549502201592E-2,2.8811134407857566E-2,3.4912291194389392E-2,4.0621755303350014E-2,4.5721228009112727E-2,5.0035231402686557E-2,5.4676663623069041E-2,6.0620513475943667E-2,6.89683731021246E-2,8.3574248460751066E-2,0.11628170028243934,8.3574248460750469E-2,6.896837310212417E-2,6.1060717713495534E-2,5.3135825102490729E-2,4.4205803856845187E-2,3.5375478395654449E-2,2.6965739595018693E-2,1.8962295664387546E-2,1.1258688281301499E-2,3.7333080127867793E-3]
[3.0309928861874226E-3,9.0838617287746556E-3,1.5104179561207597E-2,2.1052781068285932E-2,2.6864609390652102E-2,3.2441754698558423E-2,3.7655725561153867E-2,4.236577612175503E-2,4.6220754807024582E-2,5.0035231402686557E-2,5.4676663623069041E-2,6.0620513475943667E-2,6.8968373102125197E-2,8.3574248460750469E-2,0.11628170028243934,8.3574248460749873E-2,7.0281050083593144E-2,5.9028704988924714E-2,4.7548819866245734E-2,3.730601045085763E-2,2.8113502602491732E-2,1.963870300286414E-2,1.1617393057476005E-2,3.8458781997146503E-3]
[2.8485495386541024E-3,8.5306902857185136E-3,1.4164274337081584E-2,1.970498628994477E-2,2.5092134267592447E-2,3.0246408378812463E-2,3.5073938424987031E-2,3.9478678224689125E-2,4.298423790885577E-2,4.6220754807024603E-2,5.0035231402686564E-2,5.4676663623069062E-2,6.0620513475944222E-2,6.8968373102124739E-2,8.3574248460750566E-2,0.11628170028243853,8.5979396569054539E-2,6.4655560227085865E-2,4.9898470618928388E-2,3.8486271606926345E-2,2.8768577462736762E-2,2.0011045312580921E-2,1.1811142421355865E-2,3.9061821420446128E-3]
[2.8479777929068147E-3,8.5221662001864242E-3,1.4127820686184586E-2,1.9609147624816265E-2,2.4897780204450697E-2,2.991347826929211E-2,3.4570823249180316E-2,3.8791754814008712E-2,4.2149112900461749E-2,4.5238883602386815E-2,4.8833699449139768E-2,5.3119463448940432E-2,5.8420890797470114E-2,6.5379999921868021E-2,7.5507810785521004E-2,9.1627402721452755E-2,0.11497472807744889,7.537409983540698E-2,5.5298733964680442E-2,4.1893902458122773E-2,3.1036278486604514E-2,2.1480243952711107E-2,1.2642930217081074E-2,4.1759882330146434E-3]
[3.0288068938916076E-3,9.0512985586632642E-3,1.4965192333258184E-2,2.0688741982731389E-2,2.6131129929057206E-2,3.1198112187547179E-2,3.5804154559435211E-2,3.9887439763517059E-2,4.3205481536370556E-2,4.6391117579509554E-2,5.0052553820825942E-2,5.4323513239255522E-2,5.9393091189619052E-2,6.5492651387353537E-2,7.2622482022212886E-2,7.8920440899484232E-2,8.6706272687075064E-2,0.11212216272191619,7.1633481227744156E-2,5.0824864540930666E-2,3.6690364803853438E-2,2.5058319418217085E-2,1.4644811201137113E-2,4.8220440776390655E-3]
[3.2144792598465624E-3,9.5899181468284758E-3,1.5802893069316041E-2,2.1741015554093052E-2,2.72928787300631E-2,3.2359374040076626E-2,3.6868519488157538E-2,4.0787076560134937E-2,4.4028933371294106E-2,4.7226562224603599E-2,5.0823900491632844E-2,5.4873651700626622E-2,5.9397400761778983E-2,6.4285613550527532E-2,6.9020772663514779E-2,7.2248204465108046E-2,7.5266096253649883E-2,8.4347838001555778E-2,0.10878958765433089,6.7119960344894647E-2,4.5318306396812141E-2,3.0167762399746209E-2,1.7417361884412928E-2,5.7055929424541284E-3]
[3.3981348591185156E-3,1.0117103291447726E-2,1.6606004622722104E-2,2.2720039465535188E-2,2.8333823430952174E-2,3.3356052228187327E-2,3.7740946494978951E-2,4.1490319862827078E-2,4.4637695133764949E-2,4.7789301911222812E-2,5.1247179400150084E-2,5.4992392023697198E-2,5.8935114263581521E-2,6.2835040107046325E-2,6.6188449951651337E-2,6.8212591982415402E-2,6.9719093391767628E-2,7.3245134180403126E-2,8.1660307780833663E-2,0.10478143433647591,6.1453935084826126E-2,3.8217194205675369E-2,2.1532285520071266E-2,6.9881262754998346E-3]
[3.5698575247725705E-3,1.0604149913381261E-2,1.7331078026311848E-2,2.3576039002467714E-2,2.9209749665875279E-2,3.4160620222689342E-2,3.841604013291125E-2,4.2011938534805018E-2,4.5064593943900597E-2,4.8142643842172268E-2,5.1440228114157743E-2,5.489101921560767E-2,5.8353515949943723E-2,6.1570262842536382E-2,6.4145024341574763E-2,6.5605714099042922E-2,6.6419645800560867E-2,6.801304718171014E-2,7.1006001941711153E-2,7.8537519523594265E-2,9.9732517464441603E-2,5.3900219228230052E-2,2.8366100801214399E-2,9.0225931735315248E-3]
[3.7169951500630959E-3,1.1016302236067312E-2,1.793055795989236E-2,2.4262122424522903E-2,2.9887439407012377E-2,3.4760843966336413E-2,3.8902035749669966E-2,4.2374485800178503E-2,4.534619673296026E-2,4.8349086960279626E-2,5.1503928953212666E-2,5.4718475065435056E-2,5.7834350438665832E-2,6.0612377267604364E-2,6.274370879446288E-2,6.3913112812743395E-2,6.4363456468973512E-2,6.5044660186982364E-2,6.6209391466493073E-2,6.8518829000284595E-2,7.4816243058363499E-2,9.2960611459350292E-2,4.2742971253757533E-2,1.2766387468448961E-2]
[3.8256851031120962E-3,1.1317365664958674E-2,1.8359627260435839E-2,2.4740478832153204E-2,3.0346663267352941E-2,3.5156268282055862E-2,3.921373550073784E-2,4.2600964733534939E-2,4.5514632075996826E-2,4.8458783406945677E-2,5.1510213957926237E-2,5.4564529787248656E-2,5.7460871838262886E-2,5.9980442328536845E-2,6.18680451491678E-2,6.2885483563558553E-2,6.3142479010617855E-2,6.3363480553073018E-2,6.3724692732951671E-2,6.4380946744589537E-2,6.5799070898165044E-2,7.0244721654114217E-2,8.2546062638332335E-2,2.2245868656656488E-2]
[3.883676282357528E-3,1.1476733071427693E-2,1.8583580814385069E-2,2.4985811136014363E-2,3.0577868877058392E-2,3.5351849819036898E-2,3.9365369422599786E-2,4.2709353182464146E-2,4.5592924506822688E-2,4.8505338364090426E-2,5.1503101279574033E-2,5.4477284213126517E-2,5.7267968027061709E-2,5.9667943713049648E-2,6.1446766941005336E-2,6.2398131581931783E-2,6.2569931238824164E-2,6.259332116440923E-2,6.2630829153989653E-2,6.2696721341829464E-2,6.2829502411938853E-2,6.3167685717672312E-2,6.4634903454114767E-2,5.8289820043809594E-2]

{"sheet":"M_SS","index":7,"n_rows":24,"n_cols":24,"rows_kept":24,"cut":false,"hidden":false,"merged":[]}
[0,0,0,0,0,0,0,0,-6.2194125810750366E-2,-5.9389334014564837E-2,-5.437450174711022E-2,-4.8068754302487943E-2,-4.1374581648130043E-2,-3.4958836911235601E-2,-2.9201584914892019E-2,-2.4250542211817504E-2,-2.2746650461425929E-2,-2.3710775661181668E-2,-2.397993143437958E-2,-2.3173076368597664E-2,-2.0889647622712833E-2,-1.6837261085362317E-2,-1.1011249696606074E-2,-3.8391462087407208E-3]
[0,0,0,0,0,0,0,0,-6.3653887663677466E-2,-6.0524041572130732E-2,-5.501615659447278E-2,-4.8239296673347504E-2,-4.1208406144262709E-2,-3.4608684204537284E-2,-2.8785664453032066E-2,-2.3841175853429149E-2,-2.2832874896653459E-2,-2.3694379518692198E-2,-2.3816673215901099E-2,-2.2836501631580814E-2,-2.0401711763680688E-2,-1.6294442588165058E-2,-1.0575171423433252E-2,-3.6709319029992931E-3]
[0,0,0,0,0,0,0,0,-6.6840633526671689E-2,-6.2922939437086114E-2,-5.6270553507976225E-2,-4.8466334725293707E-2,-4.0754941873779454E-2,-3.3818816209698899E-2,-2.7901102143200209E-2,-2.2997582580897423E-2,-2.2966170827927269E-2,-2.3612989241904071E-2,-2.3443284967815375E-2,-2.2138776409193969E-2,-1.9444901518055391E-2,-1.5273254290655963E-2,-9.7790024085871174E-3,-3.3687164312529382E-3]
[0,0,0,0,0,0,0,0,-7.2424776333400345E-2,-6.6855717699725509E-2,-5.8003081017246425E-2,-4.8450921923305468E-2,-3.974176954814479E-2,-3.2408776717177401E-2,-2.6451640910227548E-2,-2.1679610869366397E-2,-2.3068799639186257E-2,-2.3377353831064988E-2,-2.2784006775206374E-2,-2.1054332814804223E-2,-1.8071776609212734E-2,-1.3893207592704966E-2,-8.7480855802064515E-3,-2.986142239016369E-3]
[0,0,0,0,0,0,0,0,-8.1896481041370942E-2,-7.2691940866177571E-2,-5.9718987526472374E-2,-4.7543037739468975E-2,-3.7701937015167247E-2,-3.0122248081435193E-2,-2.4324207591403222E-2,-1.9853074283977808E-2,-2.3029773942012166E-2,-2.2877178164577627E-2,-2.1768020464965482E-2,-1.959124460475381E-2,-1.6380508612598384E-2,-1.2306307917854951E-2,-7.6180141981882664E-3,-2.5770380495728161E-3]
[0,0,0,0,0,0,0,0,-9.883298485686634E-2,-8.040864645266875E-2,-5.9831208871202718E-2,-4.4492376820825824E-2,-3.3990800643786415E-2,-2.6698654124162075E-2,-2.1445364055328774E-2,-1.7523330940947903E-2,-2.2721575998412818E-2,-2.2014571192256412E-2,-2.0369263961207976E-2,-1.7815432179380798E-2,-1.4507190615475606E-2,-1.0664584582580718E-2,-6.5017307579730158E-3,-2.1822840092605477E-3]
[0,0,0,0,0,0,0,0,-0.1334137700364775,-8.6091197802032518E-2,-5.4050522434016215E-2,-3.7464054653698925E-2,-2.8049258357289202E-2,-2.204683301979049E-2,-1.786713403941282E-2,-1.4773206516845865E-2,-2.2032041965829759E-2,-2.0743973016536649E-2,-1.8632911530180905E-2,-1.5846736521262044E-2,-1.2597683243934501E-2,-9.0907293055980248E-3,-5.4739271056445434E-3,-1.82602049398699E-3]
[0,0,0,0,0,0,0,0,-0.21799779307265735,-6.3677354529619659E-2,-3.5592149673927292E-2,-2.55201002458962E-2,-2.0075241947895478E-2,-1.6480575256610931E-2,-1.3841088027547518E-2,-1.1783241617664402E-2,-2.0904543557271147E-2,-1.9099426949104867E-2,-1.6671098113223291E-2,-1.3828156461504822E-2,-1.0775472508864691E-2,-7.6635947188279591E-3,-4.5718877535842984E-3,-1.5182760397588699E-3]
[-2.4700814457654367E-4,-7.9603595546408833E-4,-1.5407884057144613E-3,-2.7495041890315537E-3,-5.0997933831157596E-3,-1.086898038116949E-2,-3.1963739320743229E-2,-0.17260679501135312,-4.8293295034191046E-2,-3.1786710878136074E-2,-2.4386473909215084E-2,-2.0101479944703078E-2,-1.7024159726248923E-2,-1.4616629001368059E-2,-1.2649524222622064E-2,-1.1003091566136412E-2,-2.1536675778340585E-2,-1.933585914019316E-2,-1.6565082246121715E-2,-1.3497584337255477E-2,-1.0357640670017427E-2,-7.2791577100996697E-3,-4.3077709478717436E-3,-1.4248160674856993E-3]
[-7.0672837858311473E-4,-2.263845810690585E-3,-4.3203082799322338E-3,-7.49715167391409E-3,-1.313950459748346E-2,-2.4576184425572738E-2,-4.977509945668758E-2,-9.1807122619242079E-2,-3.1786710878136074E-2,-4.8293295034191046E-2,-3.1786710878136074E-2,-2.4386473909215084E-2,-2.0101479944703224E-2,-1.7024159726248777E-2,-1.4616629001368059E-2,-1.2649524222621972E-2,-2.4796040803155516E-2,-2.2072399360516481E-2,-1.8610993769940094E-2,-1.4873033720551414E-2,-1.1195906117394266E-2,-7.7415120149618086E-3,-4.5287767881888345E-3,-1.4890158888135085E-3]
[-1.0761120750969111E-3,-3.4117467068183025E-3,-6.3603170029261835E-3,-1.0566429819684003E-2,-1.7111138816016114E-2,-2.7678273356060941E-2,-4.3511758086562623E-2,-5.9983695477773775E-2,-2.4386473909215087E-2,-3.1786710878136074E-2,-4.8293295034191046E-2,-3.1786710878136074E-2,-2.4386473909215264E-2,-2.010147994470305E-2,-1.7024159726248777E-2,-1.4616629001367952E-2,-2.9110010801800243E-2,-2.5525724227905899E-2,-2.0970280117742598E-2,-1.6262686589758549E-2,-1.1901356688519453E-2,-8.0437235100013424E-3,-4.6323631468337288E-3,-1.5110576035821668E-3]
[-1.3284527507862246E-3,-4.1614326537155006E-3,-7.5565367032822866E-3,-1.1995044895592385E-2,-1.8062057567622469E-2,-2.6219422375862632E-2,-3.5940190188753642E-2,-4.4334854278145763E-2,-2.0101479944703078E-2,-2.4386473909215087E-2,-3.1786710878136074E-2,-4.8293295034191046E-2,-3.1786710878136289E-2,-2.4386473909215046E-2,-2.010147994470305E-2,-1.7024159726248652E-2,-3.5156316805362603E-2,-3.000762753480796E-2,-2.360470166961064E-2,-1.747360353428035E-2,-1.2278307017614584E-2,-8.0461366450134495E-3,-4.5406848694926243E-3,-1.466453611329853E-3]
[-1.4664536113298534E-3,-4.540684869492626E-3,-8.0461366450134478E-3,-1.2278307017614584E-2,-1.7473603534280346E-2,-2.3604701669610626E-2,-3.0007627534807936E-2,-3.5156316805362575E-2,-1.7024159726248787E-2,-2.0101479944703061E-2,-2.4386473909215067E-2,-3.1786710878136032E-2,-4.8293295034191351E-2,-3.1786710878136025E-2,-2.4386473909215067E-2,-2.0101479944702915E-2,-4.4334854278145805E-2,-3.5940190188753676E-2,-2.6219422375862639E-2,-1.8062057567622466E-2,-1.1995044895592381E-2,-7.5565367032822831E-3,-4.1614326537154989E-3,-1.3284527507862239E-3]
[-1.5110576035821668E-3,-4.6323631468337279E-3,-8.0437235100013407E-3,-1.1901356688519448E-2,-1.6262686589758539E-2,-2.0970280117742574E-2,-2.5525724227905867E-2,-2.9110010801800201E-2,-1.4616629001368059E-2,-1.7024159726248773E-2,-2.010147994470305E-2,-2.4386473909215049E-2,-3.1786710878136289E-2,-4.8293295034191046E-2,-3.1786710878136074E-2,-2.438647390921491E-2,-5.9983695477773949E-2,-4.3511758086562692E-2,-2.7678273356060941E-2,-1.7111138816016096E-2,-1.0566429819683986E-2,-6.3603170029261713E-3,-3.4117467068182955E-3,-1.0761120750969089E-3]
[-1.4890158888135078E-3,-4.5287767881888328E-3,-7.7415120149618068E-3,-1.1195906117394258E-2,-1.4873033720551402E-2,-1.8610993769940076E-2,-2.207239936051646E-2,-2.4796040803155492E-2,-1.2649524222622065E-2,-1.4616629001368059E-2,-1.7024159726248773E-2,-2.010147994470305E-2,-2.4386473909215264E-2,-3.1786710878136074E-2,-4.829329503419106E-2,-3.1786710878135851E-2,-9.1807122619242482E-2,-4.977509945668758E-2,-2.4576184425572686E-2,-1.3139504597483408E-2,-7.4971516739140587E-3,-4.3203082799322147E-3,-2.2638458106905737E-3,-7.0672837858311137E-4]
[-1.4248160674856991E-3,-4.3077709478717419E-3,-7.2791577100996671E-3,-1.0357640670017423E-2,-1.349758433725547E-2,-1.6565082246121712E-2,-1.9335859140193149E-2,-2.1536675778340578E-2,-1.10030915661365E-2,-1.2649524222622072E-2,-1.4616629001368068E-2,-1.7024159726248787E-2,-2.0101479944703241E-2,-2.4386473909215108E-2,-3.1786710878136115E-2,-4.8293295034190734E-2,-0.17260679501135362,-3.1963739320743041E-2,-1.0868980381169409E-2,-5.0997933831157197E-3,-2.7495041890315316E-3,-1.5407884057144496E-3,-7.9603595546408237E-4,-2.4700814457654166E-4]
[-1.5182760397588701E-3,-4.5718877535842993E-3,-7.6635947188279582E-3,-1.0775472508864693E-2,-1.3828156461504823E-2,-1.6671098113223291E-2,-1.9099426949104863E-2,-2.0904543557271144E-2,-1.1783241617664506E-2,-1.3841088027547535E-2,-1.6480575256610952E-2,-2.0075241947895336E-2,-2.5520100245896436E-2,-3.5592149673927417E-2,-6.3677354529620103E-2,-0.21799779307265654,0,0,0,0,0,0,0,0]
[-1.82602049398699E-3,-5.4739271056445434E-3,-9.0907293055980248E-3,-1.2597683243934501E-2,-1.5846736521262044E-2,-1.8632911530180908E-2,-2.0743973016536649E-2,-2.2032041965829762E-2,-1.4773206516845992E-2,-1.7867134039412848E-2,-2.2046833019790532E-2,-2.8049258357289004E-2,-3.7464054653699286E-2,-5.4050522434016396E-2,-8.6091197802032837E-2,-0.13341377003647661,0,0,0,0,0,0,0,0]
[-2.1822840092605477E-3,-6.5017307579730167E-3,-1.0664584582580719E-2,-1.4507190615475604E-2,-1.7815432179380798E-2,-2.0369263961207976E-2,-2.2014571192256409E-2,-2.2721575998412822E-2,-1.7523330940948056E-2,-2.1445364055328812E-2,-2.6698654124162124E-2,-3.3990800643786186E-2,-4.4492376820826234E-2,-5.9831208871202871E-2,-8.0408646452668903E-2,-9.8832984856865619E-2,0,0,0,0,0,0,0,0]
[-2.5770380495728161E-3,-7.6180141981882672E-3,-1.2306307917854951E-2,-1.6380508612598384E-2,-1.959124460475381E-2,-2.1768020464965482E-2,-2.2877178164577627E-2,-2.3029773942012166E-2,-1.9853074283977985E-2,-2.432420759140326E-2,-3.0122248081435245E-2,-3.7701937015166984E-2,-4.7543037739469406E-2,-5.9718987526472485E-2,-7.2691940866177668E-2,-8.1896481041370303E-2,0,0,0,0,0,0,0,0]
[-2.986142239016369E-3,-8.7480855802064533E-3,-1.3893207592704966E-2,-1.807177660921273E-2,-2.1054332814804226E-2,-2.2784006775206367E-2,-2.3377353831064991E-2,-2.3068799639186257E-2,-2.1679610869366588E-2,-2.645164091022759E-2,-3.2408776717177457E-2,-3.9741769548144505E-2,-4.8450921923305898E-2,-5.8003081017246494E-2,-6.6855717699725564E-2,-7.242477633339979E-2,0,0,0,0,0,0,0,0]
[-3.3687164312529382E-3,-9.7790024085871174E-3,-1.5273254290655965E-2,-1.9444901518055391E-2,-2.2138776409193969E-2,-2.3443284967815378E-2,-2.3612989241904067E-2,-2.2966170827927269E-2,-2.2997582580897628E-2,-2.7901102143200247E-2,-3.3818816209698954E-2,-4.0754941873779163E-2,-4.8466334725294123E-2,-5.6270553507976287E-2,-6.2922939437086156E-2,-6.6840633526671175E-2,0,0,0,0,0,0,0,0]
[-3.6709319029992935E-3,-1.057517142343325E-2,-1.6294442588165058E-2,-2.0401711763680688E-2,-2.2836501631580814E-2,-2.3816673215901099E-2,-2.3694379518692198E-2,-2.2832874896653456E-2,-2.3841175853429358E-2,-2.8785664453032111E-2,-3.4608684204537332E-2,-4.1208406144262404E-2,-4.8239296673347913E-2,-5.5016156594472829E-2,-6.0524041572130767E-2,-6.3653887663676967E-2,0,0,0,0,0,0,0,0]
[-3.8391462087407203E-3,-1.1011249696606076E-2,-1.6837261085362321E-2,-2.0889647622712833E-2,-2.3173076368597664E-2,-2.3979931434379577E-2,-2.3710775661181668E-2,-2.2746650461425929E-2,-2.425054221181772E-2,-2.9201584914892061E-2,-3.4958836911235643E-2,-4.1374581648129745E-2,-4.8068754302488359E-2,-5.4374501747110289E-2,-5.9389334014564858E-2,-6.2194125810749873E-2,0,0,0,0,0,0,0,0]

{"sheet":"Mt_SS","index":8,"n_rows":24,"n_cols":24,"rows_kept":24,"cut":false,"hidden":false,"merged":[]}
[0,0,0,0,0,0,0,0,-3.8945019546362237E-3,-1.1156027895875689E-2,-1.7021707445168139E-2,-2.1064098969372728E-2,-2.3307450227181857E-2,-2.4065953415800811E-2,-2.375418715976391E-2,-2.2758561510075385E-2,-2.2746650461425929E-2,-2.3710775661181668E-2,-2.397993143437958E-2,-2.3173076368597664E-2,-2.0889647622712833E-2,-1.6837261085362317E-2,-1.1011249696606074E-2,-3.8391462087407208E-3]
[0,0,0,0,0,0,0,0,-4.1769433532367799E-3,-1.189728126149466E-2,-1.7976093530464921E-2,-2.1989479888643696E-2,-2.4057620746840074E-2,-2.4597417960514907E-2,-2.4087996775767413E-2,-2.2940792830235954E-2,-2.2832874896653459E-2,-2.3694379518692198E-2,-2.3816673215901099E-2,-2.2836501631580814E-2,-2.0401711763680688E-2,-1.6294442588165058E-2,-1.0575171423433252E-2,-3.6709319029992931E-3]
[0,0,0,0,0,0,0,0,-4.8328303250945804E-3,-1.3585579059668959E-2,-2.0078827701069391E-2,-2.3949531109099705E-2,-2.5584699572883451E-2,-2.5639221143611793E-2,-2.4718070377325832E-2,-2.326886618401431E-2,-2.2966170827927269E-2,-2.3612989241904071E-2,-2.3443284967815375E-2,-2.2138776409193969E-2,-1.9444901518055391E-2,-1.5273254290655963E-2,-9.7790024085871174E-3,-3.3687164312529382E-3]
[0,0,0,0,0,0,0,0,-6.1149838737186695E-3,-1.6757913483439524E-2,-2.3779860481714914E-2,-2.7153094208373522E-2,-2.7908013477292534E-2,-2.7121828869971564E-2,-2.5555332068724648E-2,-2.3665362110293763E-2,-2.3068799639186257E-2,-2.3377353831064988E-2,-2.2784006775206374E-2,-2.1054332814804223E-2,-1.8071776609212734E-2,-1.3893207592704966E-2,-8.7480855802064515E-3,-2.986142239016369E-3]
[0,0,0,0,0,0,0,0,-8.6911788667138317E-3,-2.2662384902141206E-2,-2.9900649856341169E-2,-3.1835918879813407E-2,-3.0944191177544277E-2,-2.8869839299439343E-2,-2.6436006072678719E-2,-2.4007011659320281E-2,-2.3029773942012166E-2,-2.2877178164577627E-2,-2.1768020464965482E-2,-1.959124460475381E-2,-1.6380508612598384E-2,-1.2306307917854951E-2,-7.6180141981882664E-3,-2.5770380495728161E-3]
[0,0,0,0,0,0,0,0,-1.4640057571929219E-2,-3.4306281920300767E-2,-3.9637410274110316E-2,-3.7957764027595868E-2,-3.4310350656156674E-2,-3.0525658615828767E-2,-2.7105255513154632E-2,-2.4129362018892059E-2,-2.2721575998412818E-2,-2.2014571192256412E-2,-2.0369263961207976E-2,-1.7815432179380798E-2,-1.4507190615475606E-2,-1.0664584582580718E-2,-6.5017307579730158E-3,-2.1822840092605477E-3]
[0,0,0,0,0,0,0,0,-3.2892802947042735E-2,-5.8837380614264634E-2,-5.3385185772699559E-2,-4.4373041109466299E-2,-3.7068460448568125E-2,-3.1518284113278137E-2,-2.7240571737182862E-2,-2.3853485392067619E-2,-2.2032041965829759E-2,-2.0743973016536649E-2,-1.8632911530180905E-2,-1.5846736521262044E-2,-1.2597683243934501E-2,-9.0907293055980248E-3,-5.4739271056445434E-3,-1.82602049398699E-3]
[0,0,0,0,0,0,0,0,-0.132755402504836,-0.10166797516380816,-6.5313087753492968E-2,-4.7843403580534211E-2,-3.7776572331173021E-2,-3.1208470895524257E-2,-2.6548253210037766E-2,-2.3039469963419851E-2,-2.0904543557271147E-2,-1.9099426949104867E-2,-1.6671098113223291E-2,-1.3828156461504822E-2,-1.0775472508864691E-2,-7.6635947188279591E-3,-4.5718877535842984E-3,-1.5182760397588699E-3]
[-3.9059090939214118E-3,-1.1997535238478511E-2,-2.1016489221777089E-2,-3.1939444807512984E-2,-4.6605002789854549E-2,-6.9291151666725684E-2,-0.11236914483833819,-0.15731663791090308,-4.8293295034110229E-2,-3.1786710878136067E-2,-2.4386473909215087E-2,-2.0101479944703078E-2,-1.7024159726248923E-2,-1.4616629001368059E-2,-1.2649524222622064E-2,-1.1003091566136412E-2,-1.1000910161130157E-2,-1.1941597777188867E-2,-1.1983087551363018E-2,-1.1111089713506453E-2,-9.4416962698094225E-3,-7.157560962040072E-3,-4.4537089279760803E-3,-1.5103533987807765E-3]
[-3.7264897869729104E-3,-1.1395239617401366E-2,-1.9752193627568096E-2,-2.9394801903536522E-2,-4.108880184408447E-2,-5.5322086445489971E-2,-6.8166051509716913E-2,-5.3799742444290984E-2,-3.1786710878136067E-2,-4.8293295034110229E-2,-3.1786710878136067E-2,-2.4386473909215087E-2,-2.0101479944703224E-2,-1.7024159726248773E-2,-1.4616629001368059E-2,-1.2649524222621972E-2,-1.2910918958732672E-2,-1.4426248238694091E-2,-1.4652470205853354E-2,-1.3607834224537868E-2,-1.1520034556113163E-2,-8.6863337571817505E-3,-5.3799709061451168E-3,-1.8197340589584407E-3]
[-3.4067781049300417E-3,-1.0340053189993309E-2,-1.7621002173277646E-2,-2.5405303365327085E-2,-3.3539794490331336E-2,-4.0771519110415454E-2,-4.284961092032074E-2,-3.2260380781613744E-2,-2.4386473909215087E-2,-3.1786710878136067E-2,-4.8293295034110229E-2,-3.1786710878136067E-2,-2.4386473909215268E-2,-2.010147994470305E-2,-1.7024159726248773E-2,-1.4616629001367952E-2,-1.535022908824824E-2,-1.7769013719904088E-2,-1.8220770898200976E-2,-1.6845872965947195E-2,-1.4118439474398219E-2,-1.0535456363894613E-2,-6.4736061406300499E-3,-2.1804511736508193E-3]
[-3.006613700745659E-3,-9.0492345320445748E-3,-1.5142050177221349E-2,-2.115974308643111E-2,-2.6615387818136653E-2,-3.0283430068218577E-2,-2.9945112809972203E-2,-2.3551354856231312E-2,-2.0101479944703078E-2,-2.4386473909215087E-2,-3.1786710878136067E-2,-4.8293295034110229E-2,-3.1786710878136282E-2,-2.4386473909215046E-2,-2.010147994470305E-2,-1.7024159726248649E-2,-1.8645215462049981E-2,-2.2538258234057536E-2,-2.3164225727172614E-2,-2.1085027586690258E-2,-1.7326879560131531E-2,-1.2710622252024311E-2,-7.7176138959249426E-3,-2.5838556688983234E-3]
[-2.5838556688983216E-3,-7.7176138959249374E-3,-1.2710622252024302E-2,-1.7326879560131514E-2,-2.1085027586690237E-2,-2.3164225727172583E-2,-2.2538258234057515E-2,-1.8645215462049967E-2,-1.7024159726248787E-2,-2.0101479944703068E-2,-2.4386473909215067E-2,-3.1786710878136018E-2,-4.8293295034110541E-2,-3.1786710878136018E-2,-2.4386473909215067E-2,-2.0101479944702915E-2,-2.3551354856231332E-2,-2.9945112809972248E-2,-3.0283430068218611E-2,-2.6615387818136677E-2,-2.1159743086431131E-2,-1.5142050177221361E-2,-9.04923453204458E-3,-3.0066137007456616E-3]
[-2.1804511736508163E-3,-6.4736061406300395E-3,-1.0535456363894595E-2,-1.4118439474398196E-2,-1.6845872965947171E-2,-1.8220770898200941E-2,-1.7769013719904057E-2,-1.5350229088248216E-2,-1.4616629001368059E-2,-1.7024159726248773E-2,-2.010147994470305E-2,-2.4386473909215049E-2,-3.1786710878136282E-2,-4.8293295034110229E-2,-3.1786710878136067E-2,-2.4386473909214914E-2,-3.2260380781613841E-2,-4.2849610920320878E-2,-4.0771519110415558E-2,-3.3539794490331398E-2,-2.540530336532712E-2,-1.7621002173277663E-2,-1.0340053189993322E-2,-3.4067781049300448E-3]
[-1.8197340589584383E-3,-5.3799709061451081E-3,-8.6863337571817349E-3,-1.1520034556113147E-2,-1.3607834224537848E-2,-1.4652470205853328E-2,-1.4426248238694071E-2,-1.2910918958732656E-2,-1.2649524222622065E-2,-1.4616629001368059E-2,-1.7024159726248773E-2,-2.010147994470305E-2,-2.4386473909215268E-2,-3.1786710878136067E-2,-4.8293295034110242E-2,-3.1786710878135845E-2,-5.3799742444291289E-2,-6.8166051509717204E-2,-5.5322086445490096E-2,-4.1088801844084526E-2,-2.939480190353656E-2,-1.975219362756811E-2,-1.1395239617401375E-2,-3.7264897869729125E-3]
[-1.5103533987807754E-3,-4.4537089279760769E-3,-7.1575609620400668E-3,-9.4416962698094121E-3,-1.1111089713506444E-2,-1.1983087551363011E-2,-1.1941597777188858E-2,-1.1000910161130148E-2,-1.10030915661365E-2,-1.2649524222622072E-2,-1.4616629001368068E-2,-1.7024159726248787E-2,-2.0101479944703241E-2,-2.4386473909215112E-2,-3.1786710878136108E-2,-4.8293295034109937E-2,-0.15731663791090411,-0.11236914483833836,-6.9291151666725712E-2,-4.6605002789854563E-2,-3.1939444807512991E-2,-2.1016489221777089E-2,-1.1997535238478515E-2,-3.9059090939214114E-3]
[-1.5182760397588701E-3,-4.5718877535842993E-3,-7.6635947188279582E-3,-1.0775472508864693E-2,-1.3828156461504823E-2,-1.6671098113223291E-2,-1.9099426949104863E-2,-2.0904543557271144E-2,-2.3039469963420045E-2,-2.6548253210037794E-2,-3.1208470895524299E-2,-3.777657233117275E-2,-4.7843403580534648E-2,-6.5313087753493149E-2,-0.10166797516380857,-0.13275540250483489,0,0,0,0,0,0,0,0]
[-1.82602049398699E-3,-5.4739271056445434E-3,-9.0907293055980248E-3,-1.2597683243934501E-2,-1.5846736521262044E-2,-1.8632911530180908E-2,-2.0743973016536649E-2,-2.2032041965829762E-2,-2.3853485392067823E-2,-2.7240571737182889E-2,-3.1518284113278165E-2,-3.7068460448567854E-2,-4.4373041109466688E-2,-5.3385185772699628E-2,-5.883738061426462E-2,-3.2892802947042298E-2,0,0,0,0,0,0,0,0]
[-2.1822840092605477E-3,-6.5017307579730167E-3,-1.0664584582580719E-2,-1.4507190615475604E-2,-1.7815432179380798E-2,-2.0369263961207976E-2,-2.2014571192256409E-2,-2.2721575998412822E-2,-2.4129362018892268E-2,-2.7105255513154652E-2,-3.0525658615828795E-2,-3.431035065615641E-2,-3.7957764027596166E-2,-3.9637410274110302E-2,-3.430628192030067E-2,-1.4640057571928999E-2,0,0,0,0,0,0,0,0]
[-2.5770380495728161E-3,-7.6180141981882672E-3,-1.2306307917854951E-2,-1.6380508612598384E-2,-1.959124460475381E-2,-2.1768020464965482E-2,-2.2877178164577627E-2,-2.3029773942012166E-2,-2.4007011659320485E-2,-2.6436006072678743E-2,-2.8869839299439367E-2,-3.0944191177544038E-2,-3.1835918879813657E-2,-2.9900649856341128E-2,-2.2662384902141126E-2,-8.6911788667136981E-3,0,0,0,0,0,0,0,0]
[-2.986142239016369E-3,-8.7480855802064533E-3,-1.3893207592704966E-2,-1.807177660921273E-2,-2.1054332814804226E-2,-2.2784006775206367E-2,-2.3377353831064991E-2,-2.3068799639186257E-2,-2.3665362110293957E-2,-2.5555332068724665E-2,-2.7121828869971568E-2,-2.7908013477292309E-2,-2.7153094208373738E-2,-2.3779860481714873E-2,-1.6757913483439451E-2,-6.114983873718575E-3,0,0,0,0,0,0,0,0]
[-3.3687164312529382E-3,-9.7790024085871174E-3,-1.5273254290655965E-2,-1.9444901518055391E-2,-2.2138776409193969E-2,-2.3443284967815378E-2,-2.3612989241904067E-2,-2.2966170827927269E-2,-2.3268866184014504E-2,-2.4718070377325839E-2,-2.5639221143611796E-2,-2.5584699572883243E-2,-2.3949531109099882E-2,-2.0078827701069352E-2,-1.3585579059668904E-2,-4.8328303250945049E-3,0,0,0,0,0,0,0,0]
[-3.6709319029992935E-3,-1.057517142343325E-2,-1.6294442588165058E-2,-2.0401711763680688E-2,-2.2836501631580814E-2,-2.3816673215901099E-2,-2.3694379518692198E-2,-2.2832874896653456E-2,-2.2940792830236142E-2,-2.4087996775767423E-2,-2.4597417960514904E-2,-2.4057620746839876E-2,-2.1989479888643859E-2,-1.7976093530464882E-2,-1.1897281261494608E-2,-4.1769433532367131E-3,0,0,0,0,0,0,0,0]
[-3.8391462087407203E-3,-1.1011249696606076E-2,-1.6837261085362321E-2,-2.0889647622712833E-2,-2.3173076368597664E-2,-2.3979931434379577E-2,-2.3710775661181668E-2,-2.2746650461425929E-2,-2.2758561510075569E-2,-2.3754187159763917E-2,-2.4065953415800811E-2,-2.3307450227181666E-2,-2.106409896937288E-2,-1.7021707445168097E-2,-1.1156027895875631E-2,-3.8945019546361604E-3,0,0,0,0,0,0,0,0]

{"sheet":"L_PS","index":9,"n_rows":5,"n_cols":24,"rows_kept":5,"cut":false,"hidden":false,"merged":[]}
[4.9150183159299534E-3,1.4442380718221955E-2,2.3131469840124676E-2,3.0631139773896109E-2,3.6819495323029076E-2,4.1765902897249206E-2,4.5647493118054397E-2,4.8671757706290571E-2,5.1510894574630352E-2,5.4635393394859802E-2,5.7626485200165667E-2,6.0255901090197468E-2,6.2245608739793408E-2,6.3326038787800978E-2,6.3326038787800965E-2,6.2245608739792409E-2,6.1199118096519636E-2,6.0690613995492089E-2,5.981250994234856E-2,5.8130432173202323E-2,5.4527013916717312E-2,4.6488491909297977E-2,3.1396870729756297E-2,1.0953752511184203E-2]
[3.6796149432432508E-3,1.0998348328232694E-2,1.818329426902579E-2,2.5107770111654631E-2,3.1603675250522274E-2,3.7479166846893022E-2,4.2566019578584281E-2,4.6775415795145686E-2,5.048897132560861E-2,5.4667330116448504E-2,5.9482894737525389E-2,6.4968268129258225E-2,7.0751475856538223E-2,7.5125660314131246E-2,7.5125660314131218E-2,7.0751475856537044E-2,6.7726842243835628E-2,6.5491071394406644E-2,5.8638860438369536E-2,4.7970020886791712E-2,3.6442206417499769E-2,2.5411082318408079E-2,1.4986090911589915E-2,4.9518832988817091E-3]
[1.0953752511184203E-2,3.1396870729756304E-2,4.6488491909297977E-2,5.4527013916717312E-2,5.813043217320233E-2,5.9812509942348567E-2,6.0690613995492082E-2,6.1199118096519643E-2,6.2245608739792908E-2,6.3326038787800978E-2,6.3326038787800965E-2,6.2245608739792908E-2,6.0255901090197933E-2,5.7626485200165646E-2,5.4635393394859767E-2,5.1510894574629915E-2,4.8671757706290564E-2,4.5647493118054397E-2,4.1765902897249199E-2,3.6819495323029076E-2,3.0631139773896109E-2,2.3131469840124676E-2,1.4442380718221957E-2,4.9150183159299542E-3]
[4.9518832988817083E-3,1.4986090911589913E-2,2.5411082318408079E-2,3.6442206417499776E-2,4.7970020886791712E-2,5.8638860438369536E-2,6.5491071394406644E-2,6.7726842243835642E-2,7.0751475856537627E-2,7.5125660314131232E-2,7.5125660314131218E-2,7.0751475856537641E-2,6.4968268129258711E-2,5.9482894737525362E-2,5.4667330116448462E-2,5.0488971325608194E-2,4.6775415795145686E-2,4.2566019578584288E-2,3.7479166846893022E-2,3.1603675250522274E-2,2.5107770111654628E-2,1.818329426902579E-2,1.0998348328232694E-2,3.6796149432432508E-3]
[5.5132102215802023E-3,1.6394294805420769E-2,2.675459007954074E-2,3.6039151393172014E-2,4.3655292629143208E-2,4.9321691208996397E-2,5.3228689592430316E-2,5.5825338263916099E-2,5.8644779372990001E-2,6.2167947750067946E-2,6.5077401846404759E-2,6.6771659654023444E-2,6.6771659654023971E-2,6.5077401846404731E-2,6.2167947750067926E-2,5.8644779372989522E-2,5.5825338263916092E-2,5.3228689592430316E-2,4.9321691208996404E-2,4.3655292629143201E-2,3.6039151393172021E-2,2.675459007954074E-2,1.6394294805420765E-2,5.5132102215802031E-3]

{"sheet":"M_PS","index":10,"n_rows":5,"n_cols":24,"rows_kept":5,"cut":false,"hidden":false,"merged":[]}
[-5.8467674313488508E-3,-1.6592139538236777E-2,-2.4797017474085952E-2,-2.9680331472758059E-2,-3.1417289623952752E-2,-3.0818436549945958E-2,-2.883320605506861E-2,-2.6222877830303113E-2,-3.427788665583411E-2,-4.1030536949481305E-2,-4.8358699296346216E-2,-5.5571023981606585E-2,-6.1551991062668857E-2,-6.5001796178356192E-2,-6.500179617835615E-2,-6.1551991062667837E-2,-1.8436879324618197E-2,-2.4609828263866835E-2,-3.4190484805697419E-2,-4.9342111719926425E-2,-7.0981971572128752E-2,-8.6544357554662721E-2,-6.6843367914682747E-2,-2.2497211640864975E-2]
[-2.4614678287401821E-3,-7.4515500706504884E-3,-1.2584193746442363E-2,-1.7756596188577192E-2,-2.2595770933549086E-2,-2.6491000806626804E-2,-2.8837019812088849E-2,-2.9374740374580842E-2,-2.4518562771931703E-2,-3.1314240491896329E-2,-4.1589747407938894E-2,-5.8101540144725738E-2,-8.4201704163426372E-2,-0.1127218653052518,-0.11272186530525148,-8.420170416342479E-2,-5.8578439888660579E-2,-7.840295720137648E-2,-7.2518382388809768E-2,-4.6075521149950352E-2,-2.5285949016784336E-2,-1.3512314412757956E-2,-6.6792770909624615E-3,-2.0235893816115394E-3]
[-2.2497211640864975E-2,-6.6843367914682747E-2,-8.6544357554662721E-2,-7.0981971572128752E-2,-4.9342111719926418E-2,-3.4190484805697419E-2,-2.4609828263866835E-2,-1.84368793246182E-2,-6.1551991062668343E-2,-6.5001796178356178E-2,-6.5001796178356164E-2,-6.1551991062668343E-2,-5.5571023981606994E-2,-4.8358699296346161E-2,-4.1030536949481257E-2,-3.4277886655833811E-2,-2.6222877830303106E-2,-2.883320605506861E-2,-3.0818436549945954E-2,-3.1417289623952752E-2,-2.9680331472758059E-2,-2.4797017474085945E-2,-1.659213953823678E-2,-5.8467674313488517E-3]
[-2.0235893816115394E-3,-6.6792770909624597E-3,-1.3512314412757956E-2,-2.5285949016784333E-2,-4.6075521149950345E-2,-7.2518382388809782E-2,-7.8402957201376494E-2,-5.8578439888660579E-2,-8.4201704163425581E-2,-0.11272186530525166,-0.11272186530525165,-8.4201704163425581E-2,-5.8101540144726134E-2,-4.1589747407938783E-2,-3.1314240491896267E-2,-2.4518562771931485E-2,-2.9374740374580842E-2,-2.8837019812088853E-2,-2.6491000806626801E-2,-2.2595770933549083E-2,-1.7756596188577192E-2,-1.2584193746442363E-2,-7.4515500706504884E-3,-2.4614678287401826E-3]
[-5.5548337585047212E-3,-1.6942377887327286E-2,-2.8492628379738413E-2,-3.835073954901342E-2,-4.3566373891878542E-2,-4.2977983681008629E-2,-3.8424085406490012E-2,-3.2557886180548154E-2,-4.8169696137760877E-2,-5.8922623784451567E-2,-6.9514644855808772E-2,-7.6526126587459359E-2,-7.6526126587459956E-2,-6.9514644855808702E-2,-5.892262378445149E-2,-4.8169696137760447E-2,-3.2557886180548154E-2,-3.8424085406490012E-2,-4.2977983681008622E-2,-4.3566373891878542E-2,-3.835073954901342E-2,-2.8492628379738413E-2,-1.6942377887327286E-2,-5.554833758504722E-3]

{"sheet":"Direct Solution","index":11,"n_rows":125,"n_cols":7,"rows_kept":125,"cut":false,"hidden":false,"merged":[[1,1,2,6],[7,1,7,3],[7,5,7,6],[8,1,8,2]]}
[]
[null,"Direct Solution"]
[]
[]
[]
[]
[]
[null,"Solution on S",null,null,null,"Solution in the domain"]
[null,"Number of panels",null,{"$f":"'Set Exterior Problem'!H9","v":20},null,"Number of points",{"$f":"'Set Exterior Problem'!R9","v":5}]
[null,"index","phi_S","d{\\phi}/dn",null,"index","phi"]
[null,{"$f":"'Set Exterior Problem'!B11","v":1},1,-0.99978707487684737,null,1,4.7725216772023273E-5]
[null,{"$f":"'Set Exterior Problem'!B12","v":2},1,-1.0009944976862972,null,2,5.4528032317418575E-5]
[null,{"$f":"'Set Exterior Problem'!B13","v":3},1,-1.0009369225662994,null,3,1.5956637355547115E-4]
[null,{"$f":"'Set Exterior Problem'!B14","v":4},1,-1.0006864859436384,null,4,-1.6468168347293956E-5]
[null,{"$f":"'Set Exterior Problem'!B15","v":5},1,-1.0012453582392853,null,5,6.5013130033040375E-5]
[null,{"$f":"'Set Exterior Problem'!B16","v":6},1,-1.0007558238468279]
[null,{"$f":"'Set Exterior Problem'!B17","v":7},1,-1.0008100659178791]
[null,{"$f":"'Set Exterior Problem'!B18","v":8},1,-1.00108379057339]
[null,{"$f":"'Set Exterior Problem'!B19","v":9},1,-1.0010556888692166]
[null,{"$f":"'Set Exterior Problem'!B20","v":10},1,-1.0022154725430075]
[null,{"$f":"'Set Exterior Problem'!B21","v":11},0.99974745285833821,-1]
[null,{"$f":"'Set Exterior Problem'!B22","v":12},0.99965223629300326,-1]
[null,{"$f":"'Set Exterior Problem'!B23","v":13},0.99958689345816332,-1]
[null,{"$f":"'Set Exterior Problem'!B24","v":14},0.99956312540995196,-1]
[null,{"$f":"'Set Exterior Problem'!B25","v":15},0.99953044670676439,-1]
[null,{"$f":"'Set Exterior Problem'!B26","v":16},0.99947084691270704,-1]
[null,{"$f":"'Set Exterior Problem'!B27","v":17},0.99949224394344616,-1]
[null,{"$f":"'Set Exterior Problem'!B28","v":18},0.99947336995451019,-1]
[null,{"$f":"'Set Exterior Problem'!B29","v":19},0.99947902151928358,-1]
[null,{"$f":"'Set Exterior Problem'!B30","v":20},0.99957737088286669,-1]
[]
[]
[]
[]
[]
[]
[]
[]
[]
[]
[]
[]
[]
[]
[]
[]
[]
[]
[]
[]
[]
[]
[]
[]
[null,{"$f":"'Set Exterior Problem'!B55","v":0}]
[null,{"$f":"'Set Exterior Problem'!B56","v":0}]
[null,{"$f":"'Set Exterior Problem'!B57","v":0}]
[null,{"$f":"'Set Exterior Problem'!B58","v":0}]
[null,{"$f":"'Set Exterior Problem'!B59","v":0}]
[null,{"$f":"'Set Exterior Problem'!B60","v":0}]
[null,{"$f":"'Set Exterior Problem'!B61","v":0}]
[null,{"$f":"'Set Exterior Problem'!B62","v":0}]
[null,{"$f":"'Set Exterior Problem'!B63","v":0}]
[null,{"$f":"'Set Exterior Problem'!B64","v":0}]
[null,{"$f":"'Set Exterior Problem'!B65","v":0}]
[null,{"$f":"'Set Exterior Problem'!B66","v":0}]
[null,{"$f":"'Set Exterior Problem'!B67","v":0}]
[null,{"$f":"'Set Exterior Problem'!B68","v":0}]
[null,{"$f":"'Set Exterior Problem'!B69","v":0}]
[null,{"$f":"'Set Exterior Problem'!B70","v":0}]
[null,{"$f":"'Set Exterior Problem'!B71","v":0}]
[null,{"$f":"'Set Exterior Problem'!B72","v":0}]
[null,{"$f":"'Set Exterior Problem'!B73","v":0}]
[null,{"$f":"'Set Exterior Problem'!B74","v":0}]
[null,{"$f":"'Set Exterior Problem'!B75","v":0}]
[null,{"$f":"'Set Exterior Problem'!B76","v":0}]
[null,{"$f":"'Set Exterior Problem'!B77","v":0}]
[null,{"$f":"'Set Exterior Problem'!B78","v":0}]
[null,{"$f":"'Set Exterior Problem'!B79","v":0}]
[null,{"$f":"'Set Exterior Problem'!B80","v":0}]
[null,{"$f":"'Set Exterior Problem'!B81","v":0}]
[null,{"$f":"'Set Exterior Problem'!B82","v":0}]
[null,{"$f":"'Set Exterior Problem'!B83","v":0}]
[null,{"$f":"'Set Exterior Problem'!B84","v":0}]
[null,{"$f":"'Set Exterior Problem'!B85","v":0}]
[null,{"$f":"'Set Exterior Problem'!B86","v":0}]
[null,{"$f":"'Set Exterior Problem'!B87","v":0}]
[null,{"$f":"'Set Exterior Problem'!B88","v":0}]
[null,{"$f":"'Set Exterior Problem'!B89","v":0}]
[null,{"$f":"'Set Exterior Problem'!B90","v":0}]
[null,{"$f":"'Set Exterior Problem'!B91","v":0}]
[null,{"$f":"'Set Exterior Problem'!B92","v":0}]
[null,{"$f":"'Set Exterior Problem'!B93","v":0}]
[null,{"$f":"'Set Exterior Problem'!B94","v":0}]
[null,{"$f":"'Set Exterior Problem'!B95","v":0}]
[null,{"$f":"'Set Exterior Problem'!B96","v":0}]
[null,{"$f":"'Set Exterior Problem'!B97","v":0}]
[null,{"$f":"'Set Exterior Problem'!B98","v":0}]
[null,{"$f":"'Set Exterior Problem'!B99","v":0}]
[null,{"$f":"'Set Exterior Problem'!B100","v":0}]
[null,{"$f":"'Set Exterior Problem'!B101","v":0}]
[null,{"$f":"'Set Exterior Problem'!B102","v":0}]
[null,{"$f":"'Set Exterior Problem'!B103","v":0}]
[null,{"$f":"'Set Exterior Problem'!B104","v":0}]
[null,{"$f":"'Set Exterior Problem'!B105","v":0}]
[null,{"$f":"'Set Exterior Problem'!B106","v":0}]
[null,{"$f":"'Set Exterior Problem'!B107","v":0}]
[null,{"$f":"'Set Exterior Problem'!B108","v":0}]
[null,{"$f":"'Set Exterior Problem'!B109","v":0}]
[null,{"$f":"'Set Exterior Problem'!B110","v":0}]
[null,{"$f":"'Set Exterior Problem'!B111","v":0}]
[null,{"$f":"'Set Exterior Problem'!B112","v":0}]
[null,{"$f":"'Set Exterior Problem'!B113","v":0}]
[null,{"$f":"'Set Exterior Problem'!B114","v":0}]
[null,{"$f":"'Set Exterior Problem'!B115","v":0}]
[null,{"$f":"'Set Exterior Problem'!B116","v":0}]
[null,{"$f":"'Set Exterior Problem'!B117","v":0}]
[null,{"$f":"'Set Exterior Problem'!B118","v":0}]
[null,{"$f":"'Set Exterior Problem'!B119","v":0}]
[null,{"$f":"'Set Exterior Problem'!B120","v":0}]
[null,{"$f":"'Set Exterior Problem'!B121","v":0}]
[null,{"$f":"'Set Exterior Problem'!B122","v":0}]
[null,{"$f":"'Set Exterior Problem'!B123","v":0}]
[null,{"$f":"'Set Exterior Problem'!B124","v":0}]
[null,{"$f":"'Set Exterior Problem'!B125","v":0}]

{"sheet":"A_gls","index":12,"n_rows":24,"n_cols":24,"rows_kept":24,"cut":false,"hidden":false,"merged":[]}
[-7.310009223992979E-2,-8.0640315300770163E-2,-7.783420022455842E-2,-7.5970469532500473E-2,-7.3898726170896475E-2,-7.1456815772916071E-2,-6.8610939288092129E-2,-6.5360438386231026E-2,-6.1717260398457791E-2,-5.7699803418858067E-2,-2.6797205134835047E-2,-2.4429043854321271E-2,-2.191497231433907E-2,-1.9269130990933546E-2,-1.650690593528668E-2,-1.3644670053721138E-2,-1.069958494634001E-2,-7.6894346487590744E-3,-4.6324765194939131E-3,-1.5473013889314546E-3,-2.4985811136014363E-2,-1.8583580814385069E-2,-1.1476733071427695E-2,-3.883676282357528E-3]
[0.38272838874177062,-7.2492904483909132E-2,-5.7147361861323007E-2,-5.0823902422255186E-2,-4.7920893974555304E-2,-4.5662358386159903E-2,-4.3488480265391399E-2,-4.1221995432104142E-2,-3.8796960098600314E-2,-3.6189583728306884E-2,-1.6782854107378588E-2,-1.528083344716853E-2,-1.3695643096981083E-2,-1.2033795075138538E-2,-1.030334196810841E-2,-8.5134130710659145E-3,-6.6739171582040398E-3,-4.7953339504046731E-3,-2.8885545188621748E-3,-9.6474920139311973E-4,-1.5204833115730544E-2,-1.1267344291360596E-2,-6.9373573492253326E-3,-2.343509443325122E-3]
[0.22054196338368642,0.49627419173602494,-7.0496602249513318E-2,-4.9699671633677819E-2,-4.1729069546624732E-2,-3.8090043056906941E-2,-3.5498055633889525E-2,-3.3224498780323117E-2,-3.1018406161460024E-2,-2.8776054157146388E-2,-1.3298632301919118E-2,-1.2073086979796879E-2,-1.0797296660740405E-2,-9.471770173510051E-3,-8.099822904870272E-3,-6.6865533475608217E-3,-5.2382442614125856E-3,-3.7619843820255044E-3,-2.2654099504385156E-3,-7.5651305285796811E-4,-1.1279998945393915E-2,-8.2953935733987814E-3,-5.0762784688843845E-3,-1.7089233242831743E-3]
[0.15683449750249484,0.32072602677630363,0.52695131379249149,-6.95013164481426E-2,-4.61524033606623E-2,-3.723427318609468E-2,-3.3092352050777291E-2,-3.0216736749870507E-2,-2.7795877602690353E-2,-2.553922476600113E-2,-1.1733007656722347E-2,-1.0599086352177243E-2,-9.4449044604263937E-3,-8.2632434449525245E-3,-7.0521973641920407E-3,-5.8130162486155976E-3,-4.5489234068848382E-3,-3.2644159012628817E-3,-1.964818727472326E-3,-6.5597697153192886E-4,-8.9812768107785917E-3,-6.5385030880248975E-3,-3.9700813588310277E-3,-1.3308471774907422E-3]
[0.12248047854566152,0.24276431785542005,0.35421632543487563,0.54199718469272962,-6.8890341407591787E-2,-4.4009805438853355E-2,-3.4449983664866839E-2,-2.9932283546455385E-2,-2.6819642491368888E-2,-2.4251829116396992E-2,-1.1038096745455295E-2,-9.8948568799918854E-3,-8.7692154714637087E-3,-7.6415087852225016E-3,-6.5023590471414584E-3,-5.3481035998721987E-3,-4.1784610294184612E-3,-2.9952342406262839E-3,-1.8015310547875888E-3,-6.0125578125531909E-4,-7.3431628701624216E-3,-5.2879831272627589E-3,-3.1852032333430681E-3,-1.0632460266631E-3]
[0.10104613478607481,0.19738037978067927,0.27575583393997011,0.37218759008978108,0.55141784171913311,-6.8484768591697623E-2,-4.2510029841845834E-2,-3.246738332922823E-2,-2.7647342440285744E-2,-2.4329496785387802E-2,-1.0912914223230426E-2,-9.6678344796580842E-3,-8.4989767291732445E-3,-7.3635360780584073E-3,-6.2397159460036208E-3,-5.1164658945949126E-3,-3.9887046931388562E-3,-2.8548534943687491E-3,-1.7154434566855389E-3,-5.7225726197261033E-4,-6.0684932601260469E-3,-4.325774210043782E-3,-2.5872335405196364E-3,-8.6053199844505308E-4]
[8.6475091154104483E-2,0.16756349209436436,0.22904462160326591,0.29470556089854127,0.38398915421506619,0.55790263074920476,-6.8173433260336924E-2,-4.136092991627658E-2,-3.0923606924892585E-2,-2.5843381607496912E-2,-1.1317959010112722E-2,-9.8409445120291317E-3,-8.5471851717851197E-3,-7.3442692977311354E-3,-6.187084393158352E-3,-5.0520881033232715E-3,-3.9267833603348606E-3,-2.8047752777772723E-3,-1.6831837825440621E-3,-5.6114698383077249E-4,-5.0373230766332273E-3,-3.5604258957263098E-3,-2.1176293242232969E-3,-7.0240875559290624E-4]
[7.5998023680798069E-2,0.14653883394412301,0.19777556012477082,0.2482319921604686,0.30767835755565426,0.39252650858432769,0.56304973163095928,-6.7905569376257205E-2,-4.0403801029230177E-2,-2.9623500568399769E-2,-1.2415838323935863E-2,-1.0453131124258615E-2,-8.9088573571666288E-3,-7.5622098219505843E-3,-6.3180333229966648E-3,-5.1292260922490267E-3,-3.9706377690794173E-3,-2.828318313067334E-3,-1.6944122598304299E-3,-5.6442660351697102E-4,-4.1938812845369582E-3,-2.9455116431856936E-3,-1.7449699450383322E-3,-5.7771135755813529E-4]
[6.8166532297360277E-2,0.13101466845015344,0.17539798343527704,0.21690165129157973,0.261844882401706,0.31740912060833476,0.39944506977958449,0.56742222574682877,-6.7673733535810299E-2,-3.9555978814967252E-2,-1.487235095957996E-2,-1.1712163535056788E-2,-9.6637230929615923E-3,-8.0489821046440431E-3,-6.6434950400297444E-3,-5.3496138825150381E-3,-4.1182910652710208E-3,-2.9226356766822968E-3,-1.7469249867677356E-3,-5.812855830795334E-4,-3.3992875336545138E-3,-2.3856342168115021E-3,-1.4124735243585358E-3,-4.6748768488875632E-4]
[6.2149441297538785E-2,0.11918453418724645,0.15868927033138433,0.19435398334805487,0.23090008684068025,0.2723703853740817,0.32547340231860528,0.40542035206345112,0.5712620058926724,-6.7453874781668532E-2,-2.3076087036214124E-2,-1.4310623908824906E-2,-1.1042537597606449E-2,-8.9042469579908648E-3,-7.2122992265882951E-3,-5.7387680060667495E-3,-4.3834289198707212E-3,-3.0949833315595896E-3,-1.8442353668004039E-3,-6.1276900625722129E-4,-5.9135096677071872E-3,-4.1550468272993843E-3,-2.4613086958542993E-3,-8.1475192252201739E-4]
[5.7436264629601504E-2,0.10997100283911904,0.14585738990386493,0.17745654527670812,0.20861692312380631,0.24201653936530465,0.28128381190574792,0.33257531740337343,0.41081164958976013,0.57493519665678661,-0.51884356209135696,-2.2653816306435311E-2,-1.375294665467533E-2,-1.0370727419827266E-2,-8.1337460070987459E-3,-6.353173024534052E-3,-4.7973367489802504E-3,-3.3628779852435363E-3,-1.9953110734207335E-3,-6.6164022082609093E-4,-8.5937435346199863E-3,-6.0260518039694094E-3,-3.5644080800604728E-3,-1.1790175223076482E-3]
[5.3696942108218362E-2,0.10269144984483147,0.13582008382379782,0.16446303418623226,0.19193504663217312,0.22022044367959098,0.25162632046288164,0.28928726486779321,0.33912564998249423,0.41602711299555201,4.2127107129921425E-2,-0.53089717215388377,-2.9595933960171319E-2,-1.8734571550111809E-2,-1.4025036589083117E-2,-1.071833863083729E-2,-7.9953804169722326E-3,-5.5643096041587455E-3,-3.2878527206788655E-3,-1.088172881018515E-3,-1.1289558978440155E-2,-7.8813818402768687E-3,-4.64844726334648E-3,-1.5354485552862376E-3]
[5.0709486492333936E-2,9.6893421619298287E-2,0.1278841548751023,0.15431581991053048,0.17915066520576015,0.20397998127028974,0.23045115873703881,0.26042033970018863,0.2968205438266186,0.3455640783148442,2.6017320693519291E-2,5.8237972608221222E-2,-0.53529295825110879,-3.2423689725644994E-2,-2.0556414119339173E-2,-1.5015729211296023E-2,-1.0966530126561326E-2,-7.5447080948037488E-3,-4.4300334535202603E-3,-1.4620587223084284E-3,-1.3986549953364914E-2,-9.7014800868717947E-3,-5.6996519620450166E-3,-1.8792554226899935E-3]
[4.832005862469433E-2,9.2266731562200596E-2,0.12158619867478682,0.14633607116475722,0.16923347465512784,0.19162901500383395,0.21480442806421529,0.23998949945609735,0.26886110125580159,0.30435381496160363,2.0941013309787967E-2,3.984785058154474E-2,6.5280140299625797E-2,-0.53746992280419348,-3.346916325205529E-2,-2.0806730752897917E-2,-1.4545163508799221E-2,-9.8086803767870739E-3,-5.7015225723878902E-3,-1.8735060239895246E-3,-1.6604570026213562E-2,-1.1430686096635539E-2,-6.6870814208532924E-3,-2.2006448979820219E-3]
[4.6419726280785216E-2,8.8593518089936499E-2,0.11660684333610535,0.14006992106951707,0.16152404472439635,0.18216421668459767,0.20305402134084499,0.22508436537168064,0.24932267657610385,0.27745502068607358,1.826325480285031E-2,3.3385728145888645E-2,4.6449229504033053E-2,6.9388933872332345E-2,-0.53846414765752348,-3.3342270416348727E-2,-1.9882456128048374E-2,-1.2852825742750734E-2,-7.337197187782328E-3,-2.3934768284696027E-3,-1.8981942972027599E-2,-1.2978020957485244E-2,-7.5655202617443884E-3,-2.4860033778420407E-3]
[4.4930348382748356E-2,8.5718464648581724E-2,0.11272165295092881,0.13520564049784342,0.15558399768449022,0.17494772381006363,0.19422371791000101,0.21410676443488941,0.23533929777585388,0.25900469576104335,1.6617133710560006E-2,2.9836069682559797E-2,3.9714325329146608E-2,5.0625201115736936E-2,7.1913628033838883E-2,-0.53861860702522546,-3.2167891479499375E-2,-1.775135063505421E-2,-9.7377952535682433E-3,-3.1328807120357101E-3,-2.0899821604715402E-2,-1.4237926111571854E-2,-8.2866753488759059E-3,-2.7213118054241195E-3]
[4.3795718273697881E-2,8.3530376860567107E-2,0.10977169436204377,0.13152627591973132,0.15111563106403983,0.16956049262547024,0.18769999834857293,0.20611082442673803,0.22535157407101941,0.24618803381825452,1.5545238324845351E-2,2.7640879514293573E-2,3.6041139611146938E-2,4.4000241119092655E-2,5.3491963249556039E-2,7.3417224870810996E-2,-0.53797568689926145,-2.9716283298285327E-2,-1.3921891213381178E-2,-4.3322683907114964E-3,-3.5235212813073229E-2,-2.3942645830419666E-2,-1.3916158622094842E-2,-4.567307797993159E-3]
[4.2975884165823125E-2,8.1950496574244441E-2,0.10764531602507622,0.12888138445679526,0.14791625185496063,0.16572412821235516,0.18308824021353509,0.2005136779855822,0.21845275679881079,0.23749667025220869,1.4846973323866421E-2,2.6250276216188879E-2,3.384706140687848E-2,4.0514160010400785E-2,4.7241458747162304E-2,5.5593928085551074E-2,7.4218694226821563E-2,-0.53634072877657157,-2.5094009744728078E-2,-6.7102601018180462E-3,-1.2810637932764858E-2,-8.4353179243472909E-3,-4.8212672688892552E-3,-1.5706160897923857E-3]
[4.2443479963267562E-2,8.0925014993966579E-2,0.10626669018675641,0.12716975458640556,0.14585129433774469,0.16325704800722385,0.18013693445757017,0.1969548976005959,0.21410415914297021,0.23208210381307354,1.442255175350703E-2,2.541829942546334E-2,3.2574554968157865E-2,3.8604426832083046E-2,4.4217689041709911E-2,5.0037640057304045E-2,5.7407821728196896E-2,7.4700117757452833E-2,-0.53284026134270346,-1.4691175099374721E-2,-1.6054573483072737E-2,-1.0041899252242793E-2,-5.6030714619065454E-3,-1.8071049479169094E-3]
[4.2181395031307488E-2,8.0420347184151378E-2,0.10558868082131827,0.12632887449956623,0.14483839142560237,0.1620494287177135,0.17869631383249732,0.19522414179245276,0.21199959708236454,0.22947876817221577,1.4221212557755193E-2,2.5026861677318154E-2,3.1985156273999601E-2,3.7743191302895704E-2,4.2920740939201091E-2,4.7911483616584066E-2,5.3212974305188433E-2,6.0071327469852644E-2,7.7129304848980521E-2,-0.52135200882356736,-2.5302897313852699E-2,-1.3887223684639148E-2,-7.3990479344194348E-3,-2.3452214904331825E-3]
[6.124324148006511E-2,0.11482126752468068,0.14492738829788826,0.16316359933565119,0.17242137906184402,0.1747524439914179,0.17184978887917293,0.16538131356060598,7.2127300917342652E-2,1.1593970037480559E-2,-1.9252613652003637E-2,-4.6717632398230596E-2,-7.5181924283918039E-2,-0.10503602789512416,-0.13366673205966575,-0.15563892007002481,0.51835080708100378,0.4233781416036686,0.4678596243951092,0.61083178960390461,-5.1780193073146109E-2,-2.3414315217961057E-2,-1.1020947059238975E-2,-3.369984423722848E-3]
[6.3767483709324682E-2,0.11912334106930619,0.14921477401011343,0.16629982837998272,0.17382870807270973,0.17439223568875722,0.17004807435263614,0.16261203415160075,7.0169657770019267E-2,9.788828470618573E-3,-2.1127060102808754E-2,-4.7987475917598284E-2,-7.4522286921023861E-2,-0.10068737837500902,-0.12439553624004315,-0.14233185204670684,0.49045780720653237,0.38935752692549253,0.40948734783938301,0.47057912048828809,0.61970164215987322,-5.0978327320170734E-2,-2.0203711502561349E-2,-5.547399890002685E-3]
[6.5632130966209526E-2,0.12224266333733504,0.15218552789501452,0.16829154996692175,0.17450772988712354,0.17383743618480807,0.16856365455289077,0.1605553855100246,6.884377662048749E-2,8.737584505549784E-3,-2.2053432635162084E-2,-4.833875705724261E-2,-7.3532841977226621E-2,-9.7515714699728528E-2,-0.11864038740679621,-0.13460925535477397,0.47330432090056129,0.37024973444103798,0.38055695697513714,0.41804875548881842,0.48799534212295692,0.64000176536298581,-4.9224516474879403E-2,-1.2142868227039425E-2]
[6.662700758792231E-2,0.12388512851212026,0.15370014299711143,0.16924387843803046,0.17475572382301338,0.17345784451754215,0.16773476650221147,0.15946573858898935,6.8176887299821423E-2,8.260201471959638E-3,-2.2420768636977288E-2,-4.8378848089019898E-2,-7.2904081073234067E-2,-9.5882933342555904E-2,-0.11588873939702611,-0.13103516769773296,0.46510047011738737,0.36151383211834964,0.36806907248790371,0.39753651852115035,0.44802905130849557,0.52984842541500121,0.69610837701794115,-4.0571240433777148E-2]

{"sheet":"B_gls","index":13,"n_rows":24,"n_cols":24,"rows_kept":24,"cut":false,"hidden":false,"merged":[]}
[0.52448544008826148,4.747403870273071E-2,4.0799997009962952E-2,3.891315455092164E-2,3.7520770365193676E-2,3.6125179397979046E-2,3.4602294530173661E-2,3.2913436013045978E-2,3.1047972453411076E-2,2.9006938791137978E-2,5.3330604350397534E-2,4.8635285779670287E-2,4.3641975935241627E-2,3.8380923764485875E-2,3.2884199164540238E-2,2.7185431103301433E-2,2.1319562112300287E-2,1.5322609062075207E-2,9.2314255421344742E-3,3.0834638675974976E-3,2.0889647622712833E-2,1.6837261085362317E-2,1.1011249696606074E-2,3.8391462087407208E-3]
[1.6828482960492115E-2,0.53970521798821869,4.8880185840177219E-2,4.1342353160254801E-2,3.8812689501849268E-2,3.695928292104704E-2,3.5198629644935288E-2,3.3367172527833652E-2,3.1407430013953588E-2,2.9299305317254262E-2,5.3806276337974648E-2,4.9032899319749537E-2,4.3974484611869563E-2,3.8657190082818385E-2,3.3110387394111367E-2,2.7365863542868008E-2,2.1457261130997583E-2,1.5419646023649232E-2,9.2891449890163541E-3,3.1026223002984755E-3,2.0401711763680688E-2,1.6294442588165058E-2,1.0575171423433252E-2,3.6709319029992931E-3]
[8.4665516647215531E-3,3.0463326904482651E-2,0.54590846448848263,5.0788848162790494E-2,4.2123015174687445E-2,3.8872768897557787E-2,3.6501850149645354E-2,3.4333380242361988E-2,3.2161146356230255E-2,2.9906332685416502E-2,5.4786536412815938E-2,4.9848811193424596E-2,4.4654717494157913E-2,3.9221109917525858E-2,3.3571336217813448E-2,2.7733129763347839E-2,2.1737304884752919E-2,1.5616877283276532E-2,9.406418370026981E-3,3.141541096614213E-3,1.9444901518055391E-2,1.5273254290655963E-2,9.7790024085871174E-3,3.3687164312529382E-3]
[5.8748760391294742E-3,1.8588972826852544E-2,3.7662949467198489E-2,0.54980152987896336,5.2285961747286516E-2,4.2708244007119832E-2,3.8818565859238888E-2,3.5958744179120844E-2,3.3390924524813875E-2,3.0878451825971834E-2,5.6334826874509407E-2,5.1127676003227172E-2,4.5715141332962367E-2,4.0096775986920956E-2,3.4285071051736692E-2,2.8300629948438766E-2,2.2169387492030585E-2,1.5920876853653013E-2,9.5870601616727287E-3,3.2014710455212985E-3,1.8071776609212734E-2,1.3893207592704966E-2,8.7480855802064515E-3,2.986142239016369E-3]
[4.546567656264244E-3,1.3996913154463331E-2,2.4920906924450724E-2,4.2411433334540269E-2,0.55252588114653745,5.3367853301094892E-2,4.3033869060438254E-2,3.8576131751230321E-2,3.526086520329768E-2,3.2309649029915254E-2,5.8562842174120493E-2,5.2945860082678993E-2,4.7210141568652518E-2,4.1323948134718742E-2,3.5281019097307957E-2,2.9090070638321534E-2,2.2769125689462238E-2,1.6342195382640843E-2,9.8371779304352557E-3,3.2844126111510894E-3,1.6380508612598384E-2,1.2306307917854951E-2,7.6180141981882664E-3,2.5770380495728161E-3]
[3.7344874693654561E-3,1.1369005754524181E-2,1.9606151323251868E-2,2.9427169587376137E-2,4.5841176940187599E-2,0.55449230820680495,5.4084280580857472E-2,4.3094444987362243E-2,3.8119444112826667E-2,3.4374915421393218E-2,6.165955903464275E-2,5.5426778975588911E-2,4.9224839205611562E-2,4.2963454598251502E-2,3.6603472199797898E-2,3.0133744386252388E-2,2.3559562452931653E-2,1.6896314360797835E-2,1.0165702808245211E-2,3.3932862728776963E-3,1.4507190615475606E-2,1.0664584582580718E-2,6.5017307579730158E-3,2.1822840092605477E-3]
[3.1881114602887472E-3,9.6496237614683549E-3,1.6405423269080101E-2,2.3824725272865697E-2,3.2842198706561222E-2,4.8428043569721843E-2,0.55592330184579852,5.4474590310978573E-2,4.2892916795309002E-2,3.7434300736969732E-2,6.5955202182528386E-2,5.8771464456503358E-2,5.189144958634119E-2,4.5106703897428303E-2,3.8317455925676536E-2,3.1478287211044079E-2,2.4573596642417407E-2,1.7605167301210246E-2,1.0585228121028141E-2,3.5322007425039742E-3,1.2597683243934501E-2,9.0907293055980248E-3,5.4739271056445434E-3,1.82602049398699E-3]
[2.7975981761596972E-3,8.4387664641998369E-3,1.4234527957433685E-2,2.0356372695854365E-2,2.7146963261419788E-2,3.5517391088339602E-2,5.04130686527181E-2,0.5569296804698376,5.4563154530032805E-2,4.2428971128405407E-2,7.2081891919329844E-2,6.3324495309133227E-2,5.5421092327131889E-2,4.7892864707680387E-2,4.0518778673018507E-2,3.3190869088372627E-2,2.5857878441311596E-2,1.8499534152433886E-2,1.1113314538048886E-2,3.7068681400290893E-3,1.0775472508864691E-2,7.6635947188279591E-3,4.5718877535842984E-3,1.5182760397588699E-3]
[2.5067993016306906E-3,7.5450541810791697E-3,1.2665422608791589E-2,1.7954323910010211E-2,2.3567077148193658E-2,2.9832262737425327E-2,3.7645337704026532E-2,5.1932220997426275E-2,0.55756933898852168,5.4360987581972942E-2,8.1485581128206808E-2,6.9737997873162635E-2,6.0171643411128274E-2,5.154187726176928E-2,4.3351970854287256E-2,3.5369682607142745E-2,2.7479173081234844E-2,1.9622858414665913E-2,1.1774539807209449E-2,3.9252514211129373E-3,1.0357640670017427E-2,7.2791577100996697E-3,4.3077709478717436E-3,1.4248160674856993E-3]
[2.2839414276125329E-3,6.8640777426442401E-3,1.148529595370433E-2,1.6191227584594473E-2,2.1057943775849762E-2,2.6231782530296233E-2,3.2031791706012072E-2,3.9340774160463221E-2,5.3066940935392555E-2,0.55788371276368598,9.912368499337465E-2,7.9491094212535432E-2,6.6815380968985996E-2,5.6424399146242518E-2,4.7044564562874244E-2,3.8162605840659169E-2,2.9535143402314751E-2,2.1037508816035798E-2,1.26037958942455E-2,4.1985962423408919E-3,1.1195906117394266E-2,7.7415120149618086E-3,4.5287767881888345E-3,1.4890158888135085E-3]
[2.1096891106382638E-3,6.3337211292133037E-3,1.0574151502822138E-2,1.4850860564316762E-2,1.920060641507414E-2,2.3693446966961969E-2,2.8469467468544837E-2,3.3839833202478242E-2,4.0675505311188999E-2,5.3866871405837347E-2,0.1401277401446285,9.7611961299770234E-2,7.6866956678392509E-2,6.3233693493893059E-2,5.1979449252960351E-2,4.1802838816004217E-2,3.2173607699219078E-2,2.283548813308597E-2,1.3651783594795497E-2,4.5431298915101937E-3,1.1901356688519453E-2,8.0437235100013424E-3,4.6323631468337288E-3,1.5110576035821668E-3]
[1.9716204215600385E-3,5.9146743485776233E-3,9.8586061569286426E-3,1.3809194450402835E-2,1.778162158090163E-2,2.1808473444635688E-2,2.5955477724066971E-2,3.0357401906574807E-2,3.5317806684086447E-2,4.1695338792931302E-2,0.10002196805560712,0.1395096954854016,9.5433258391879189E-2,7.3523836727689862E-2,5.8871926668130459E-2,4.6684070433768904E-2,3.5629492676710832E-2,2.5157792064112207E-2,1.4994604503367268E-2,4.9829797986131966E-3,1.2278307017614584E-2,8.0461366450134495E-3,4.5406848694926243E-3,1.466453611329853E-3]
[1.8614191323134837E-3,5.5808956436487886E-3,9.2911662195594956E-3,1.2989226800579574E-2,1.6677574188194502E-2,2.036841855549211E-2,2.4091228863980182E-2,2.7907926149037612E-2,3.1947975346236002E-2,3.650673052153057E-2,8.2905448324054706E-2,0.10032962779567327,0.13822729623006474,9.2493136575098001E-2,6.9320854700973794E-2,5.3543989294123955E-2,4.0303111575084885E-2,2.8232058158773776E-2,1.6751530284149687E-2,5.5554625411187155E-3,1.1995044895592381E-2,7.5565367032822831E-3,4.1614326537154989E-3,1.3284527507862239E-3]
[1.7733415957548039E-3,5.3145356675466347E-3,8.8398142885329108E-3,1.2340513065879964E-2,1.5811300269901369E-2,1.9252516493401796E-2,2.2674068337091347E-2,2.6102587886655124E-2,2.9596071462236879E-2,3.3278059202012746E-2,7.3900512001855906E-2,8.3780742479224693E-2,0.10004252520843913,0.13622166857366957,8.8635166279966732E-2,6.4032524214531802E-2,4.6951650779758596E-2,3.2453398663344825E-2,1.9120542843716847E-2,6.3213371398213834E-3,1.0566429819683986E-2,6.3603170029261713E-3,3.4117467068182955E-3,1.0761120750969089E-3]
[1.7033311916244799E-3,5.1030588146790999E-3,8.4823358089078007E-3,1.182876391664088E-2,1.5132016116749095E-2,1.838518309228946E-2,2.1586879156523759E-2,2.4744846854882409E-2,2.7882704846623144E-2,3.1053933111696238E-2,6.8116391278307473E-2,7.5229008307920425E-2,8.4121555100415121E-2,9.9128367146309529E-2,0.13334753519302844,8.3597574427604446E-2,5.7280665340972328E-2,3.8584462417757835E-2,2.245706918751169E-2,7.3864817733504552E-3,7.4971516739140587E-3,4.3203082799322147E-3,2.2638458106905737E-3,7.0672837858311137E-4]
[1.648483623124207E-3,4.9375283700759951E-3,8.2030363638059389E-3,1.1430115574143458E-2,1.4605187032388358E-2,1.7716777193248521E-2,2.0756687532598288E-2,2.3721875596909407E-2,2.6617738439580818E-2,2.9464359168317963E-2,6.4139604344870274E-2,6.9849832890780464E-2,7.6090937041081899E-2,8.3920888061637444E-2,9.7520048043572144E-2,0.12937056625657684,7.6917082374701559E-2,4.8377557814690289E-2,2.7475554914505686E-2,8.9533342792786092E-3,2.7495041890315316E-3,1.5407884057144496E-3,7.9603595546408237E-4,2.4700814457654166E-4]
[1.6067129326530058E-3,4.811546218222819E-3,7.9907555380332607E-3,1.112778606413165E-2,1.4206932439907468E-2,1.7213811915030543E-2,2.0136020939586406E-2,2.2964126986552334E-2,2.5693293212411986E-2,2.8326163737480869E-2,6.1359065384930959E-2,6.6263657866466333E-2,7.1196168353835826E-2,7.6506548776615113E-2,8.315787199064667E-2,9.51009388907091E-2,0.1239059624138793,6.7684011164544783E-2,3.58975445532373E-2,1.1464616233835424E-2,0,0,0,0]
[1.5765380692685598E-3,4.720580476510295E-3,7.837627877114773E-3,1.091004457626984E-2,1.3920762861689216E-2,1.68535710566311E-2,1.9693484079379292E-2,2.2427261890703227E-2,2.5044199543061509E-2,2.7537437892713922E-2,5.9461238504022879E-2,6.3883581959145716E-2,6.8096630654454537E-2,7.2211857287619474E-2,7.6510319505464372E-2,8.1808742632397846E-2,9.1676939239031294E-2,0.11602307040301066,5.376093104366024E-2,1.6121637866122716E-2,0,0,0,0]
[1.5569453688767567E-3,4.661534793052164E-3,7.7382988838593757E-3,1.0768952064922455E-2,1.3735615655639695E-2,1.6621003479832662E-2,1.9408638531752634E-2,2.2083125140168587E-2,2.4630522040035029E-2,2.7038905251416653E-2,5.827293652152344E-2,6.241790772845824E-2,6.623729070312212E-2,6.9747834509182385E-2,7.3010910351545569E-2,7.6204034372011842E-2,7.9899957818384867E-2,8.6936719902272627E-2,0.10335624242660124,2.7977480519863172E-2,0,0,0,0]
[1.5473013889314524E-3,4.6324765194939105E-3,7.6894346487590736E-3,1.069958494634001E-2,1.3644670053721136E-2,1.6506905935286687E-2,1.9269130990933532E-2,2.1914972314339063E-2,2.4429043854321337E-2,2.6797205134834991E-2,5.7699803418858137E-2,6.1717260398457666E-2,6.5360438386231012E-2,6.8610939288092157E-2,7.145681577291603E-2,7.3898726170896462E-2,7.5970469532500487E-2,7.7834200224558434E-2,8.0640315300770135E-2,7.3100092239929804E-2,0,0,0,0]
[2.986142239016369E-3,8.7480855802064533E-3,1.3893207592704966E-2,1.807177660921273E-2,2.1054332814804226E-2,2.2784006775206367E-2,2.3377353831064991E-2,2.3068799639186257E-2,4.5064593943900597E-2,4.8142643842172268E-2,5.1440228114157743E-2,5.489101921560767E-2,5.8353515949943723E-2,6.1570262842536382E-2,6.4145024341574763E-2,6.5605714099042922E-2,0,0,0,0,-0.5,0,0,0]
[3.3687164312529382E-3,9.7790024085871174E-3,1.5273254290655965E-2,1.9444901518055391E-2,2.2138776409193969E-2,2.3443284967815378E-2,2.3612989241904067E-2,2.2966170827927269E-2,4.534619673296026E-2,4.8349086960279626E-2,5.1503928953212666E-2,5.4718475065435056E-2,5.7834350438665832E-2,6.0612377267604364E-2,6.274370879446288E-2,6.3913112812743395E-2,0,0,0,0,0,-0.5,0,0]
[3.6709319029992935E-3,1.057517142343325E-2,1.6294442588165058E-2,2.0401711763680688E-2,2.2836501631580814E-2,2.3816673215901099E-2,2.3694379518692198E-2,2.2832874896653456E-2,4.5514632075996826E-2,4.8458783406945677E-2,5.1510213957926237E-2,5.4564529787248656E-2,5.7460871838262886E-2,5.9980442328536845E-2,6.18680451491678E-2,6.2885483563558553E-2,0,0,0,0,0,0,-0.5,0]
[3.8391462087407203E-3,1.1011249696606076E-2,1.6837261085362321E-2,2.0889647622712833E-2,2.3173076368597664E-2,2.3979931434379577E-2,2.3710775661181668E-2,2.2746650461425929E-2,4.5592924506822688E-2,4.8505338364090426E-2,5.1503101279574033E-2,5.4477284213126517E-2,5.7267968027061709E-2,5.9667943713049648E-2,6.1446766941005336E-2,6.2398131581931783E-2,0,0,0,0,0,0,0,-0.5]

{"sheet":"perm xory","index":14,"n_rows":27,"n_cols":4,"rows_kept":27,"cut":false,"hidden":false,"merged":[]}
[]
[null,"perm",null,"xory"]
[]
[null,1,null,false]
[null,2,null,false]
[null,3,null,false]
[null,4,null,false]
[null,5,null,false]
[null,6,null,false]
[null,7,null,false]
[null,8,null,false]
[null,9,null,false]
[null,10,null,false]
[null,11,null,true]
[null,12,null,true]
[null,13,null,true]
[null,14,null,true]
[null,15,null,true]
[null,16,null,true]
[null,17,null,true]
[null,18,null,true]
[null,19,null,true]
[null,20,null,true]
[null,21,null,false]
[null,22,null,false]
[null,23,null,false]
[null,24,null,false]

{"sheet":"Indirect Solution","index":15,"n_rows":125,"n_cols":7,"rows_kept":125,"cut":false,"hidden":false,"merged":[[7,1,7,3],[7,5,7,6],[8,1,8,2],[1,1,2,6]]}
[]
[null,"Indirect Solution"]
[]
[]
[]
[]
[]
[null,"Solution on S",null,null,null,"Solution in the domain"]
[null,"Number of panels",null,{"$f":"'Set Exterior Problem'!H9","v":20},null,"Number of points",{"$f":"'Set Exterior Problem'!R9","v":5}]
[null,"index","phi_S","d{\\phi}/dn",null,"index","phi_D"]
[null,{"$f":"'Set Exterior Problem'!B11","v":1},1.0000000000000002,-0.98378823736912702,null,1,0.49949093448168697]
[null,{"$f":"'Set Exterior Problem'!B12","v":2},1.0000000000000002,-0.98338780067044018,null,2,0.50271763723714868]
[null,{"$f":"'Set Exterior Problem'!B13","v":3},0.99999999999999989,-0.98324331087771011,null,3,0.70608830576619142]
[null,{"$f":"'Set Exterior Problem'!B14","v":4},1,-0.98297642293242926,null,4,0.71114419007185359]
[null,{"$f":"'Set Exterior Problem'!B15","v":5},1,-0.98291221629708891,null,5,0.50077355344607244]
[null,{"$f":"'Set Exterior Problem'!B16","v":6},0.99999999999999989,-0.98230914258810087]
[null,{"$f":"'Set Exterior Problem'!B17","v":7},1,-0.98164202736324724]
[null,{"$f":"'Set Exterior Problem'!B18","v":8},1.0000000000000002,-0.98046223889064354]
[null,{"$f":"'Set Exterior Problem'!B19","v":9},1,-0.97842220340087027]
[null,{"$f":"'Set Exterior Problem'!B20","v":10},1,-0.95979282234636154]
[null,{"$f":"'Set Exterior Problem'!B21","v":11},1.0047324674144231,-0.99999999999999944]
[null,{"$f":"'Set Exterior Problem'!B22","v":12},1.0069318178414202,-1]
[null,{"$f":"'Set Exterior Problem'!B23","v":13},1.0081806211098194,-1.0000000000000002]
[null,{"$f":"'Set Exterior Problem'!B24","v":14},1.0090167125589402,-0.99999999999999967]
[null,{"$f":"'Set Exterior Problem'!B25","v":15},1.0095979044504029,-0.99999999999999989]
[null,{"$f":"'Set Exterior Problem'!B26","v":16},1.0100006503513685,-1.0000000000000002]
[null,{"$f":"'Set Exterior Problem'!B27","v":17},1.0103103876145194,-1.0000000000000004]
[null,{"$f":"'Set Exterior Problem'!B28","v":18},1.0105069889757183,-1]
[null,{"$f":"'Set Exterior Problem'!B29","v":19},1.010622110286086,-0.99999999999999989]
[null,{"$f":"'Set Exterior Problem'!B30","v":20},1.0106508837029866,-1.0000000000000002]
[]
[]
[]
[]
[]
[]
[]
[]
[]
[]
[]
[]
[]
[]
[]
[]
[]
[]
[]
[]
[]
[]
[]
[]
[null,{"$f":"'Set Exterior Problem'!B55","v":0}]
[null,{"$f":"'Set Exterior Problem'!B56","v":0}]
[null,{"$f":"'Set Exterior Problem'!B57","v":0}]
[null,{"$f":"'Set Exterior Problem'!B58","v":0}]
[null,{"$f":"'Set Exterior Problem'!B59","v":0}]
[null,{"$f":"'Set Exterior Problem'!B60","v":0}]
[null,{"$f":"'Set Exterior Problem'!B61","v":0}]
[null,{"$f":"'Set Exterior Problem'!B62","v":0}]
[null,{"$f":"'Set Exterior Problem'!B63","v":0}]
[null,{"$f":"'Set Exterior Problem'!B64","v":0}]
[null,{"$f":"'Set Exterior Problem'!B65","v":0}]
[null,{"$f":"'Set Exterior Problem'!B66","v":0}]
[null,{"$f":"'Set Exterior Problem'!B67","v":0}]
[null,{"$f":"'Set Exterior Problem'!B68","v":0}]
[null,{"$f":"'Set Exterior Problem'!B69","v":0}]
[null,{"$f":"'Set Exterior Problem'!B70","v":0}]
[null,{"$f":"'Set Exterior Problem'!B71","v":0}]
[null,{"$f":"'Set Exterior Problem'!B72","v":0}]
[null,{"$f":"'Set Exterior Problem'!B73","v":0}]
[null,{"$f":"'Set Exterior Problem'!B74","v":0}]
[null,{"$f":"'Set Exterior Problem'!B75","v":0}]
[null,{"$f":"'Set Exterior Problem'!B76","v":0}]
[null,{"$f":"'Set Exterior Problem'!B77","v":0}]
[null,{"$f":"'Set Exterior Problem'!B78","v":0}]
[null,{"$f":"'Set Exterior Problem'!B79","v":0}]
[null,{"$f":"'Set Exterior Problem'!B80","v":0}]
[null,{"$f":"'Set Exterior Problem'!B81","v":0}]
[null,{"$f":"'Set Exterior Problem'!B82","v":0}]
[null,{"$f":"'Set Exterior Problem'!B83","v":0}]
[null,{"$f":"'Set Exterior Problem'!B84","v":0}]
[null,{"$f":"'Set Exterior Problem'!B85","v":0}]
[null,{"$f":"'Set Exterior Problem'!B86","v":0}]
[null,{"$f":"'Set Exterior Problem'!B87","v":0}]
[null,{"$f":"'Set Exterior Problem'!B88","v":0}]
[null,{"$f":"'Set Exterior Problem'!B89","v":0}]
[null,{"$f":"'Set Exterior Problem'!B90","v":0}]
[null,{"$f":"'Set Exterior Problem'!B91","v":0}]
[null,{"$f":"'Set Exterior Problem'!B92","v":0}]
[null,{"$f":"'Set Exterior Problem'!B93","v":0}]
[null,{"$f":"'Set Exterior Problem'!B94","v":0}]
[null,{"$f":"'Set Exterior Problem'!B95","v":0}]
[null,{"$f":"'Set Exterior Problem'!B96","v":0}]
[null,{"$f":"'Set Exterior Problem'!B97","v":0}]
[null,{"$f":"'Set Exterior Problem'!B98","v":0}]
[null,{"$f":"'Set Exterior Problem'!B99","v":0}]
[null,{"$f":"'Set Exterior Problem'!B100","v":0}]
[null,{"$f":"'Set Exterior Problem'!B101","v":0}]
[null,{"$f":"'Set Exterior Problem'!B102","v":0}]
[null,{"$f":"'Set Exterior Problem'!B103","v":0}]
[null,{"$f":"'Set Exterior Problem'!B104","v":0}]
[null,{"$f":"'Set Exterior Problem'!B105","v":0}]
[null,{"$f":"'Set Exterior Problem'!B106","v":0}]
[null,{"$f":"'Set Exterior Problem'!B107","v":0}]
[null,{"$f":"'Set Exterior Problem'!B108","v":0}]
[null,{"$f":"'Set Exterior Problem'!B109","v":0}]
[null,{"$f":"'Set Exterior Problem'!B110","v":0}]
[null,{"$f":"'Set Exterior Problem'!B111","v":0}]
[null,{"$f":"'Set Exterior Problem'!B112","v":0}]
[null,{"$f":"'Set Exterior Problem'!B113","v":0}]
[null,{"$f":"'Set Exterior Problem'!B114","v":0}]
[null,{"$f":"'Set Exterior Problem'!B115","v":0}]
[null,{"$f":"'Set Exterior Problem'!B116","v":0}]
[null,{"$f":"'Set Exterior Problem'!B117","v":0}]
[null,{"$f":"'Set Exterior Problem'!B118","v":0}]
[null,{"$f":"'Set Exterior Problem'!B119","v":0}]
[null,{"$f":"'Set Exterior Problem'!B120","v":0}]
[null,{"$f":"'Set Exterior Problem'!B121","v":0}]
[null,{"$f":"'Set Exterior Problem'!B122","v":0}]
[null,{"$f":"'Set Exterior Problem'!B123","v":0}]
[null,{"$f":"'Set Exterior Problem'!B124","v":0}]
[null,{"$f":"'Set Exterior Problem'!B125","v":0}]

{"sheet":"Indirect_LU","index":16,"n_rows":24,"n_cols":24,"rows_kept":24,"cut":false,"hidden":false,"merged":[]}
[7.310009223992979E-2,8.0640315300770163E-2,7.783420022455842E-2,7.5970469532500473E-2,7.3898726170896475E-2,7.1456815772916071E-2,6.8610939288092129E-2,6.5360438386231026E-2,6.1717260398457791E-2,5.7699803418858067E-2,5.3330604350397534E-2,4.8635285779670287E-2,4.3641975935241627E-2,3.8380923764485875E-2,3.2884199164540238E-2,2.7185431103301433E-2,2.1319562112300287E-2,1.5322609062075207E-2,9.2314255421344742E-3,3.0834638675974976E-3,2.4985811136014363E-2,1.8583580814385069E-2,1.1476733071427695E-2,3.883676282357528E-3]
[0.38272838874177062,7.2492904483909132E-2,5.7147361861323007E-2,5.0823902422255186E-2,4.7920893974555304E-2,4.5662358386159903E-2,4.3488480265391399E-2,4.1221995432104142E-2,3.8796960098600314E-2,3.6189583728306884E-2,3.3395140064322135E-2,3.041879475730078E-2,2.7271461480667409E-2,2.3967720972015973E-2,2.0524670832803401E-2,1.6961227299451036E-2,1.3297659475076794E-2,9.5552485460011355E-3,5.7560163654856011E-3,1.922493142509417E-3,1.5204833115730544E-2,1.1267344291360596E-2,6.9373573492253326E-3,2.343509443325122E-3]
[0.22054196338368642,0.49627419173602494,7.0496602249513318E-2,4.9699671633677819E-2,4.1729069546624732E-2,3.8090043056906941E-2,3.5498055633889525E-2,3.3224498780323117E-2,3.1018406161460024E-2,2.8776054157146388E-2,2.6451754077607886E-2,2.4026626996085949E-2,2.1495707931677772E-2,1.8861944280884752E-2,1.6133125941568089E-2,1.3320182043507741E-2,1.0436161590051132E-2,7.4955757475622595E-3,4.513939286733634E-3,1.5074241908146942E-3,1.1279998945393915E-2,8.2953935733987814E-3,5.0762784688843845E-3,1.7089233242831743E-3]
[0.15683449750249484,0.32072602677630363,0.52695131379249149,6.95013164481426E-2,4.61524033606623E-2,3.723427318609468E-2,3.3092352050777291E-2,3.0216736749870507E-2,2.7795877602690353E-2,2.553922476600113E-2,2.3321271189930881E-2,2.1083023553659784E-2,1.8796714946568024E-2,1.645092485690549E-2,1.4043526162408511E-2,1.1578022053179531E-2,9.0614901314809149E-3,6.5033427721472095E-3,3.9145236790549646E-3,1.3069447943854237E-3,8.9812768107785917E-3,6.5385030880248975E-3,3.9700813588310277E-3,1.3308471774907422E-3]
[0.12248047854566152,0.24276431785542005,0.35421632543487563,0.54199718469272962,6.8890341407591787E-2,4.4009805438853355E-2,3.4449983664866839E-2,2.9932283546455385E-2,2.6819642491368888E-2,2.4251829116396992E-2,2.1914029375677636E-2,1.9666826108897757E-2,1.744241646945946E-2,1.520696324093267E-2,1.2944520701127248E-2,1.0649323957268537E-2,8.3217373375669545E-3,5.9659527250249481E-3,3.5885813250005078E-3,1.1977210878987305E-3,7.3431628701624216E-3,5.2879831272627589E-3,3.1852032333430681E-3,1.0632460266631E-3]
[0.10104613478607481,0.19738037978067927,0.27575583393997011,0.37218759008978108,0.55141784171913311,6.8484768591697623E-2,4.2510029841845834E-2,3.246738332922823E-2,2.7647342440285744E-2,2.4329496785387802E-2,2.1621262161942545E-2,1.9191336972923613E-2,1.6890604250347052E-2,1.4644940632835696E-2,1.2416014230903955E-2,1.0184406898954775E-2,7.9414449696775143E-3,5.6848603628744162E-3,3.4162882465138787E-3,1.1396973151974921E-3,6.0684932601260469E-3,4.325774210043782E-3,2.5872335405196364E-3,8.6053199844505308E-4]
[8.6475091154104483E-2,0.16756349209436436,0.22904462160326591,0.29470556089854127,0.38398915421506619,0.55790263074920476,6.8173433260336924E-2,4.136092991627658E-2,3.0923606924892585E-2,2.5843381607496912E-2,2.2338778065845576E-2,1.9493444931586605E-2,1.6963820414507579E-2,1.4593429205639809E-2,1.2303212746724926E-2,1.0051186261839373E-2,7.8149551705211928E-3,5.583180188611989E-3,3.3509836327335132E-3,1.1172349189889322E-3,4.9866034228281137E-3,3.339816415220174E-3,1.9209419984967382E-3,6.2715714341108697E-4]
[7.5998023680798069E-2,0.14653883394412301,0.19777556012477082,0.2482319921604686,0.30767835755565426,0.39252650858432769,0.56304973163095928,6.7905569376257205E-2,4.0403801029230177E-2,2.9623500568399769E-2,2.4307356308111448E-2,2.062547025559805E-2,1.7642650070256824E-2,1.5005503739470717E-2,1.255150847885219E-2,1.0197375723130418E-2,7.897786335503882E-3,5.6273907095769852E-3,3.3719246918514235E-3,1.1233208165762625E-3,9.7605274040856501E-3,6.7238287187882037E-3,3.9371045843873019E-3,1.2964386157160042E-3]
[6.8166532297360277E-2,0.13101466845015344,0.17539798343527704,0.21690165129157973,0.261844882401706,0.31740912060833476,0.39944506977958449,0.56742222574682877,6.7673733535810299E-2,3.9555978814967252E-2,2.8460447770332603E-2,2.2919152365595635E-2,1.9061031899447398E-2,1.5934847101636444E-2,1.3178679103511195E-2,1.0624542252942897E-2,8.1850539311750965E-3,5.8113358320735584E-3,3.4744888580609604E-3,1.1562712946988868E-3,1.2047961428742818E-2,8.3560276375539994E-3,4.9130707721467548E-3,1.6209267872504477E-3]
[6.2149441297538785E-2,0.11918453418724645,0.15868927033138433,0.19435398334805487,0.23090008684068025,0.2723703853740817,0.32547340231860528,0.40542035206345112,0.5712620058926724,6.7453874781668532E-2,3.8766151682212507E-2,2.7365003060481848E-2,2.1597604550565849E-2,1.7555553927817526E-2,1.427290769785821E-2,1.1379650413450723E-2,8.7022276153321601E-3,6.1486040087732671E-3,3.6652769233622793E-3,1.2180523337836134E-3,2.2887799597521834E-3,1.3517426012796419E-3,7.1190793353854195E-4,2.2228151102306345E-4]
[-2.8779072244890756E-2,-5.5099244680285181E-2,-7.306986404668174E-2,-8.8878831391066851E-2,-0.10444318859037495,-0.1210794665387902,-0.14053880732216764,-0.16568440680028068,-0.20289297062457787,-0.26569061607389816,-0.5223553265139822,-1.8090029644095278E-2,-1.3481318573802494E-2,-1.0533337536083955E-2,-8.3718972089736471E-3,-6.5818736785027039E-3,-4.9880191708317166E-3,-3.5039189005861508E-3,-2.081471500795691E-3,-6.9058465884025964E-4,-4.0624804581215982E-3,-3.193565119567014E-3,-2.0037722638763808E-3,-6.7963239247587266E-4]
[-2.6908764463945859E-2,-5.1459064632499017E-2,-6.8053566990767519E-2,-8.2391819468142585E-2,-9.6129072633061072E-2,-0.11024807819964033,-0.12587867729350546,-0.14452283075705213,-0.16892195172431879,-0.20541860511255755,3.4395948473209266E-2,-0.53176488336920458,-2.4240068965450945E-2,-1.7943617050487373E-2,-1.3794060484344931E-2,-1.0645230775822233E-2,-7.9778695712507865E-3,-5.5658694971640593E-3,-3.2931187921140326E-3,-1.0905505805506501E-3,-9.6247492289904084E-3,-7.0805053039937468E-3,-4.2858549608873926E-3,-1.4307687654539385E-3]
[-2.5414028960214729E-2,-4.8558603680061416E-2,-6.4085319077206229E-2,-7.7321600555601916E-2,-8.9748696456994237E-2,-0.10215807049110431,-0.11536316852239006,-0.13026699036201164,-0.14826865792426813,-0.1720994660591709,2.6767784738912438E-2,4.7819932442567943E-2,-0.53604966730559911,-2.7072285806772678E-2,-1.9759930336661735E-2,-1.4778741341739733E-2,-1.0886666281708011E-2,-7.5197392929233654E-3,-4.4241203414727382E-3,-1.4613342815105092E-3,-1.5327761313369196E-2,-1.0876774865987338E-2,-6.4466174514878974E-3,-2.1314829848436551E-3]
[-2.4218214037863707E-2,-4.6243442964634757E-2,-6.093490699986108E-2,-7.3332136763839401E-2,-8.479489689525492E-2,-9.5996656732295696E-2,-0.10757344814881006,-0.12012892191671452,-0.13447527321081201,-0.15201015039850996,2.2571562735599029E-2,3.8304673412657621E-2,5.4605358128143662E-2,-0.53823352652749656,-2.8181842433633086E-2,-2.0034794996691058E-2,-1.4320030926906691E-2,-9.7336350255810347E-3,-5.677506231515291E-3,-1.868193504901351E-3,-2.1291775225148676E-2,-1.4598198018472279E-2,-8.4873954163636484E-3,-2.7822613707501665E-3]
[-2.3266994569001116E-2,-4.4405003198719185E-2,-5.8443402354308852E-2,-7.0198144039215996E-2,-8.0941623072066468E-2,-9.1270655862385558E-2,-0.1017146447014111,-0.11271339193578496,-0.12478856654737887,-0.13875569124599429,2.0069976683388988E-2,3.2998084907346348E-2,4.4666549559728347E-2,5.85686043924184E-2,-0.53923338301416879,-2.813350954155075E-2,-1.9138345284495539E-2,-1.2640031732177785E-2,-7.268403659515311E-3,-2.3772309185836399E-3,-2.7013061652226163E-2,-1.795249932204087E-2,-1.0270564796779008E-2,-3.3436637581213471E-3]
[-2.25213747108504E-2,-4.2965812465576445E-2,-5.6498985646357427E-2,-6.776460521274745E-2,-7.7971491702067006E-2,-8.7665058909246724E-2,-9.7307570238389249E-2,-0.10724330465114773,-0.11783719480959112,-0.12961802589722404,1.8448224051847418E-2,2.9804634539116782E-2,3.9111649294819938E-2,4.8733520050011095E-2,6.0897916424767759E-2,-0.53937497233095166,-2.7055535600251868E-2,-1.7041115040145036E-2,-9.5447681581681491E-3,-3.089148178348898E-3,-3.1368219384130432E-2,-2.0456396858631636E-2,-1.1598208839656222E-2,-3.7620810909375145E-3]
[-2.195329045224137E-2,-4.1870372833480697E-2,-5.5022404145978025E-2,-6.5923494458147366E-2,-7.5736587981824297E-2,-8.4972291321893406E-2,-9.404961616610609E-2,-0.10325503718861358,-0.11286418614191673,-0.12325299121294081,1.7361663835747353E-2,2.7756415554946529E-2,3.5809471483125625E-2,4.3302081815472231E-2,5.1474374295053651E-2,6.2089820087751699E-2,-0.53869115227210607,-2.4740726310521537E-2,-1.3271448315465003E-2,-4.2084104148729599E-3,3.4363457875766071E-2,2.3222114781071446E-2,1.3445172261215693E-2,4.4039218599549804E-3]
[-2.1542786168869885E-2,-4.1079357668050959E-2,-5.3957947717383326E-2,-6.4599835299867417E-2,-7.4136067522617213E-2,-8.305417012122468E-2,-9.1745537884780209E-2,-0.10046149762928257,-0.10942580931721317,-0.11892977666014339,1.6641939831965998E-2,2.6435165200003129E-2,3.3770056286716012E-2,4.0189900163697653E-2,4.6430090200766015E-2,5.3370310272770699E-2,6.2340009836189404E-2,-0.53696355122026329,-2.0368026621104103E-2,-6.2613079707041028E-3,1.2922131588356572E-2,8.4930862193374514E-3,4.8473222065552029E-3,1.5778819615999344E-3]
[-2.1276188874145011E-2,-4.0565889628251875E-2,-5.3267764432753113E-2,-6.3743155197871784E-2,-7.3102919619484022E-2,-8.1820444268714362E-2,-9.0270647914219834E-2,-9.8684613748061409E-2,-0.10725717873770349,-0.11623398415569819,1.6200145155170639E-2,2.5636963212873103E-2,3.2568473214100446E-2,3.8429866643975664E-2,4.3772998748155198E-2,4.9020973126868539E-2,5.4770338009532051E-2,6.1620508700395371E-2,-0.5332321652830081,-1.0820052506030698E-2,1.6070316579084892E-2,1.0043673445005695E-2,5.6000840445730136E-3,1.8054161180323111E-3]
[-2.1144947916114199E-2,-4.0313189440283406E-2,-5.2928317922712395E-2,-6.3322267714492675E-2,-7.2596103024932884E-2,-8.121648190268399E-2,-8.9550604421682611E-2,-9.7820269664838977E-2,-0.10620730537588505,-0.11493720513861079,1.5989460891723324E-2,2.5259573215373747E-2,3.2007782307879283E-2,3.7625400112389781E-2,4.2599678782489513E-2,4.7213454079176306E-2,5.1695611657000262E-2,5.6237557077304927E-2,5.9498444780605224E-2,-0.52210462288525716,2.5314743310900605E-2,1.3891047446132627E-2,7.3990585965094946E-3,2.3448148609749083E-3]
[6.124324148006511E-2,0.11482126752468068,0.14492738829788826,0.16316359933565119,0.17242137906184402,0.1747524439914179,-0.16277245204423249,3.8771110106617428E-2,0.18333612310438271,2.7456019639039514E-2,4.1171011998726213E-2,5.4921566028097113E-2,6.8727131370130951E-2,8.2181479980069055E-2,9.4467803401881864E-2,0.10450292102811472,0.52720460968972249,0.43295614521086373,0.46964710712485103,0.61127661706787351,5.1787297034664878E-2,2.3418535690251572E-2,1.1022388583410429E-2,3.3702384084188059E-3]
[6.3767483709324682E-2,0.11912334106930619,0.14921477401011343,0.16629982837998272,0.17382870807270973,0.17439223568875722,-0.16106590650070376,3.9197773363326506E-2,0.18025174092169349,2.6999191194614608E-2,4.0401652442698541E-2,5.3657209126984351E-2,6.6720039978725318E-2,7.9198492323445321E-2,9.0447035370980353E-2,9.9722237032974226E-2,0.50153471920906301,0.39967150073423963,0.41173033239595452,0.47130533931082863,0.61987286845580147,5.09809761306355E-2,2.0205231452458474E-2,5.5478179391439363E-3]
[6.5632130966209526E-2,0.12224266333733504,0.15218552789501452,0.16829154996692175,0.17450772988712354,0.17383743618480807,-0.15965989575001588,3.9368293157588038E-2,0.1779609433812617,2.6649818122249473E-2,3.9819650935964339E-2,5.2733751634965451E-2,6.5321567537361194E-2,7.7220374212424711E-2,8.7891741320730327E-2,9.6760879876590405E-2,0.48584904699439141,0.38100966898575961,0.38309148370276874,0.41894943733616119,0.48826852933948323,0.64006060795898756,4.9225322197703536E-2,1.2143169964807337E-2]
[6.662700758792231E-2,0.12388512851212026,0.15370014299711143,0.16924387843803046,0.17475572382301338,0.17345784451754215,-0.15887479068029656,3.9416219841644923E-2,0.17674730937892666,2.6462339899802158E-2,3.9509571827791329E-2,5.2251166225588612E-2,6.4608940868294648E-2,7.6238091121663604E-2,8.6649929065936618E-2,9.5339920517107463E-2,0.47837321326619597,0.37248651023364582,0.37074668512037606,0.39852270991768907,0.44835078456422067,0.52993410735850932,0.69612213846000437,4.0571339486791431E-2]

{"sheet":"perms","index":17,"n_rows":27,"n_cols":2,"rows_kept":27,"cut":false,"hidden":false,"merged":[]}
[]
[null,"perm"]
[]
[null,1]
[null,2]
[null,3]
[null,4]
[null,5]
[null,6]
[null,7]
[null,8]
[null,9]
[null,10]
[null,11]
[null,12]
[null,13]
[null,14]
[null,15]
[null,16]
[null,17]
[null,18]
[null,19]
[null,20]
[null,21]
[null,22]
[null,23]
[null,24]

{"sheet":"New Int Prob Condition","index":18,"n_rows":125,"n_cols":8,"rows_kept":125,"cut":false,"hidden":false,"merged":[[7,2,7,5],[8,2,8,3],[7,7,7,17]]}
[]
[]
[]
[]
[]
[]
[]
[null,null,"Boundary Condition",null,null,null,null,"Note: Only run this if the initial interior problem has run"]
[null,null,"Number of panels",null,{"$f":"'Set Exterior Problem'!H9","v":20}]
[null,null,"index","alpha","beta","f"]
[null,null,{"$f":"IF('Set Interior Problem'!K11<>\"\",'Set Interior Problem'!K11,\"\")","v":1},{"$f":"IF('Set Interior Problem'!L11<>\"\",'Set Interior Problem'!L11,\"\")","v":1},{"$f":"IF('Set Interior Problem'!M11<>\"\",'Set Interior Problem'!M11,\"\")","v":0},10]
[null,null,{"$f":"IF('Set Interior Problem'!K12<>\"\",'Set Interior Problem'!K12,\"\")","v":2},{"$f":"IF('Set Interior Problem'!L12<>\"\",'Set Interior Problem'!L12,\"\")","v":1},{"$f":"IF('Set Interior Problem'!M12<>\"\",'Set Interior Problem'!M12,\"\")","v":0},10]
[null,null,{"$f":"IF('Set Interior Problem'!K13<>\"\",'Set Interior Problem'!K13,\"\")","v":3},{"$f":"IF('Set Interior Problem'!L13<>\"\",'Set Interior Problem'!L13,\"\")","v":1},{"$f":"IF('Set Interior Problem'!M13<>\"\",'Set Interior Problem'!M13,\"\")","v":0},10]
[null,null,{"$f":"IF('Set Interior Problem'!K14<>\"\",'Set Interior Problem'!K14,\"\")","v":4},{"$f":"IF('Set Interior Problem'!L14<>\"\",'Set Interior Problem'!L14,\"\")","v":1},{"$f":"IF('Set Interior Problem'!M14<>\"\",'Set Interior Problem'!M14,\"\")","v":0},10]
[null,null,{"$f":"IF('Set Interior Problem'!K15<>\"\",'Set Interior Problem'!K15,\"\")","v":5},{"$f":"IF('Set Interior Problem'!L15<>\"\",'Set Interior Problem'!L15,\"\")","v":1},{"$f":"IF('Set Interior Problem'!M15<>\"\",'Set Interior Problem'!M15,\"\")","v":0},10]
[null,null,{"$f":"IF('Set Interior Problem'!K16<>\"\",'Set Interior Problem'!K16,\"\")","v":6},{"$f":"IF('Set Interior Problem'!L16<>\"\",'Set Interior Problem'!L16,\"\")","v":1},{"$f":"IF('Set Interior Problem'!M16<>\"\",'Set Interior Problem'!M16,\"\")","v":0},10]
[null,null,{"$f":"IF('Set Interior Problem'!K17<>\"\",'Set Interior Problem'!K17,\"\")","v":7},{"$f":"IF('Set Interior Problem'!L17<>\"\",'Set Interior Problem'!L17,\"\")","v":1},{"$f":"IF('Set Interior Problem'!M17<>\"\",'Set Interior Problem'!M17,\"\")","v":0},10]
[null,null,{"$f":"IF('Set Interior Problem'!K18<>\"\",'Set Interior Problem'!K18,\"\")","v":8},{"$f":"IF('Set Interior Problem'!L18<>\"\",'Set Interior Problem'!L18,\"\")","v":1},{"$f":"IF('Set Interior Problem'!M18<>\"\",'Set Interior Problem'!M18,\"\")","v":0},10]
[null,null,{"$f":"IF('Set Interior Problem'!K19<>\"\",'Set Interior Problem'!K19,\"\")","v":9},{"$f":"IF('Set Interior Problem'!L19<>\"\",'Set Interior Problem'!L19,\"\")","v":0},{"$f":"IF('Set Interior Problem'!M19<>\"\",'Set Interior Problem'!M19,\"\")","v":1},0]
[null,null,{"$f":"IF('Set Interior Problem'!K20<>\"\",'Set Interior Problem'!K20,\"\")","v":10},{"$f":"IF('Set Interior Problem'!L20<>\"\",'Set Interior Problem'!L20,\"\")","v":0},{"$f":"IF('Set Interior Problem'!M20<>\"\",'Set Interior Problem'!M20,\"\")","v":1},0]
[null,null,{"$f":"IF('Set Interior Problem'!K21<>\"\",'Set Interior Problem'!K21,\"\")","v":11},{"$f":"IF('Set Interior Problem'!L21<>\"\",'Set Interior Problem'!L21,\"\")","v":0},{"$f":"IF('Set Interior Problem'!M21<>\"\",'Set Interior Problem'!M21,\"\")","v":1},0]
[null,null,{"$f":"IF('Set Interior Problem'!K22<>\"\",'Set Interior Problem'!K22,\"\")","v":12},{"$f":"IF('Set Interior Problem'!L22<>\"\",'Set Interior Problem'!L22,\"\")","v":0},{"$f":"IF('Set Interior Problem'!M22<>\"\",'Set Interior Problem'!M22,\"\")","v":1},0]
[null,null,{"$f":"IF('Set Interior Problem'!K23<>\"\",'Set Interior Problem'!K23,\"\")","v":13},{"$f":"IF('Set Interior Problem'!L23<>\"\",'Set Interior Problem'!L23,\"\")","v":0},{"$f":"IF('Set Interior Problem'!M23<>\"\",'Set Interior Problem'!M23,\"\")","v":1},0]
[null,null,{"$f":"IF('Set Interior Problem'!K24<>\"\",'Set Interior Problem'!K24,\"\")","v":14},{"$f":"IF('Set Interior Problem'!L24<>\"\",'Set Interior Problem'!L24,\"\")","v":0},{"$f":"IF('Set Interior Problem'!M24<>\"\",'Set Interior Problem'!M24,\"\")","v":1},0]
[null,null,{"$f":"IF('Set Interior Problem'!K25<>\"\",'Set Interior Problem'!K25,\"\")","v":15},{"$f":"IF('Set Interior Problem'!L25<>\"\",'Set Interior Problem'!L25,\"\")","v":0},{"$f":"IF('Set Interior Problem'!M25<>\"\",'Set Interior Problem'!M25,\"\")","v":1},0]
[null,null,{"$f":"IF('Set Interior Problem'!K26<>\"\",'Set Interior Problem'!K26,\"\")","v":16},{"$f":"IF('Set Interior Problem'!L26<>\"\",'Set Interior Problem'!L26,\"\")","v":0},{"$f":"IF('Set Interior Problem'!M26<>\"\",'Set Interior Problem'!M26,\"\")","v":1},0]
[null,null,{"$f":"IF('Set Interior Problem'!K27<>\"\",'Set Interior Problem'!K27,\"\")","v":17},{"$f":"IF('Set Interior Problem'!L27<>\"\",'Set Interior Problem'!L27,\"\")","v":1},{"$f":"IF('Set Interior Problem'!M27<>\"\",'Set Interior Problem'!M27,\"\")","v":0},20]
[null,null,{"$f":"IF('Set Interior Problem'!K28<>\"\",'Set Interior Problem'!K28,\"\")","v":18},{"$f":"IF('Set Interior Problem'!L28<>\"\",'Set Interior Problem'!L28,\"\")","v":1},{"$f":"IF('Set Interior Problem'!M28<>\"\",'Set Interior Problem'!M28,\"\")","v":0},20]
[null,null,{"$f":"IF('Set Interior Problem'!K29<>\"\",'Set Interior Problem'!K29,\"\")","v":19},{"$f":"IF('Set Interior Problem'!L29<>\"\",'Set Interior Problem'!L29,\"\")","v":1},{"$f":"IF('Set Interior Problem'!M29<>\"\",'Set Interior Problem'!M29,\"\")","v":0},20]
[null,null,{"$f":"IF('Set Interior Problem'!K30<>\"\",'Set Interior Problem'!K30,\"\")","v":20},{"$f":"IF('Set Interior Problem'!L30<>\"\",'Set Interior Problem'!L30,\"\")","v":1},{"$f":"IF('Set Interior Problem'!M30<>\"\",'Set Interior Problem'!M30,\"\")","v":0},20]
[null,null,{"$f":"IF('Set Interior Problem'!K31<>\"\",'Set Interior Problem'!K31,\"\")","v":21},{"$f":"IF('Set Interior Problem'!L31<>\"\",'Set Interior Problem'!L31,\"\")","v":1},{"$f":"IF('Set Interior Problem'!M31<>\"\",'Set Interior Problem'!M31,\"\")","v":0},20]
[null,null,{"$f":"IF('Set Interior Problem'!K32<>\"\",'Set Interior Problem'!K32,\"\")","v":22},{"$f":"IF('Set Interior Problem'!L32<>\"\",'Set Interior Problem'!L32,\"\")","v":1},{"$f":"IF('Set Interior Problem'!M32<>\"\",'Set Interior Problem'!M32,\"\")","v":0},20]
[null,null,{"$f":"IF('Set Interior Problem'!K33<>\"\",'Set Interior Problem'!K33,\"\")","v":23},{"$f":"IF('Set Interior Problem'!L33<>\"\",'Set Interior Problem'!L33,\"\")","v":1},{"$f":"IF('Set Interior Problem'!M33<>\"\",'Set Interior Problem'!M33,\"\")","v":0},20]
[null,null,{"$f":"IF('Set Interior Problem'!K34<>\"\",'Set Interior Problem'!K34,\"\")","v":24},{"$f":"IF('Set Interior Problem'!L34<>\"\",'Set Interior Problem'!L34,\"\")","v":1},{"$f":"IF('Set Interior Problem'!M34<>\"\",'Set Interior Problem'!M34,\"\")","v":0},20]
[null,null,{"$f":"IF('Set Interior Problem'!K35<>\"\",'Set Interior Problem'!K35,\"\")","v":""},{"$f":"IF('Set Interior Problem'!L35<>\"\",'Set Interior Problem'!L35,\"\")","v":""},{"$f":"IF('Set Interior Problem'!M35<>\"\",'Set Interior Problem'!M35,\"\")","v":""}]
[null,null,{"$f":"IF('Set Interior Problem'!K36<>\"\",'Set Interior Problem'!K36,\"\")","v":""},{"$f":"IF('Set Interior Problem'!L36<>\"\",'Set Interior Problem'!L36,\"\")","v":""},{"$f":"IF('Set Interior Problem'!M36<>\"\",'Set Interior Problem'!M36,\"\")","v":""}]
[null,null,{"$f":"IF('Set Interior Problem'!K37<>\"\",'Set Interior Problem'!K37,\"\")","v":""},{"$f":"IF('Set Interior Problem'!L37<>\"\",'Set Interior Problem'!L37,\"\")","v":""},{"$f":"IF('Set Interior Problem'!M37<>\"\",'Set Interior Problem'!M37,\"\")","v":""}]
[null,null,{"$f":"IF('Set Interior Problem'!K38<>\"\",'Set Interior Problem'!K38,\"\")","v":""},{"$f":"IF('Set Interior Problem'!L38<>\"\",'Set Interior Problem'!L38,\"\")","v":""},{"$f":"IF('Set Interior Problem'!M38<>\"\",'Set Interior Problem'!M38,\"\")","v":""}]
[null,null,{"$f":"IF('Set Interior Problem'!K39<>\"\",'Set Interior Problem'!K39,\"\")","v":""},{"$f":"IF('Set Interior Problem'!L39<>\"\",'Set Interior Problem'!L39,\"\")","v":""},{"$f":"IF('Set Interior Problem'!M39<>\"\",'Set Interior Problem'!M39,\"\")","v":""}]
[null,null,{"$f":"IF('Set Interior Problem'!K40<>\"\",'Set Interior Problem'!K40,\"\")","v":""},{"$f":"IF('Set Interior Problem'!L40<>\"\",'Set Interior Problem'!L40,\"\")","v":""},{"$f":"IF('Set Interior Problem'!M40<>\"\",'Set Interior Problem'!M40,\"\")","v":""}]
[null,null,{"$f":"IF('Set Interior Problem'!K41<>\"\",'Set Interior Problem'!K41,\"\")","v":""},{"$f":"IF('Set Interior Problem'!L41<>\"\",'Set Interior Problem'!L41,\"\")","v":""},{"$f":"IF('Set Interior Problem'!M41<>\"\",'Set Interior Problem'!M41,\"\")","v":""}]
[null,null,{"$f":"IF('Set Interior Problem'!K42<>\"\",'Set Interior Problem'!K42,\"\")","v":""},{"$f":"IF('Set Interior Problem'!L42<>\"\",'Set Interior Problem'!L42,\"\")","v":""},{"$f":"IF('Set Interior Problem'!M42<>\"\",'Set Interior Problem'!M42,\"\")","v":""}]
[null,null,{"$f":"IF('Set Interior Problem'!K43<>\"\",'Set Interior Problem'!K43,\"\")","v":""},{"$f":"IF('Set Interior Problem'!L43<>\"\",'Set Interior Problem'!L43,\"\")","v":""},{"$f":"IF('Set Interior Problem'!M43<>\"\",'Set Interior Problem'!M43,\"\")","v":""}]
[null,null,{"$f":"IF('Set Interior Problem'!K44<>\"\",'Set Interior Problem'!K44,\"\")","v":""},{"$f":"IF('Set Interior Problem'!L44<>\"\",'Set Interior Problem'!L44,\"\")","v":""},{"$f":"IF('Set Interior Problem'!M44<>\"\",'Set Interior Problem'!M44,\"\")","v":""}]
[null,null,{"$f":"IF('Set Interior Problem'!K45<>\"\",'Set Interior Problem'!K45,\"\")","v":""},{"$f":"IF('Set Interior Problem'!L45<>\"\",'Set Interior Problem'!L45,\"\")","v":""},{"$f":"IF('Set Interior Problem'!M45<>\"\",'Set Interior Problem'!M45,\"\")","v":""}]
[null,null,{"$f":"IF('Set Interior Problem'!K46<>\"\",'Set Interior Problem'!K46,\"\")","v":""},{"$f":"IF('Set Interior Problem'!L46<>\"\",'Set Interior Problem'!L46,\"\")","v":""},{"$f":"IF('Set Interior Problem'!M46<>\"\",'Set Interior Problem'!M46,\"\")","v":""}]
[null,null,{"$f":"IF('Set Interior Problem'!K47<>\"\",'Set Interior Problem'!K47,\"\")","v":""},{"$f":"IF('Set Interior Problem'!L47<>\"\",'Set Interior Problem'!L47,\"\")","v":""},{"$f":"IF('Set Interior Problem'!M47<>\"\",'Set Interior Problem'!M47,\"\")","v":""}]
[null,null,{"$f":"IF('Set Interior Problem'!K48<>\"\",'Set Interior Problem'!K48,\"\")","v":""},{"$f":"IF('Set Interior Problem'!L48<>\"\",'Set Interior Problem'!L48,\"\")","v":""},{"$f":"IF('Set Interior Problem'!M48<>\"\",'Set Interior Problem'!M48,\"\")","v":""}]
[null,null,{"$f":"IF('Set Interior Problem'!K49<>\"\",'Set Interior Problem'!K49,\"\")","v":""},{"$f":"IF('Set Interior Problem'!L49<>\"\",'Set Interior Problem'!L49,\"\")","v":""},{"$f":"IF('Set Interior Problem'!M49<>\"\",'Set Interior Problem'!M49,\"\")","v":""}]
[null,null,{"$f":"IF('Set Interior Problem'!K50<>\"\",'Set Interior Problem'!K50,\"\")","v":""},{"$f":"IF('Set Interior Problem'!L50<>\"\",'Set Interior Problem'!L50,\"\")","v":""},{"$f":"IF('Set Interior Problem'!M50<>\"\",'Set Interior Problem'!M50,\"\")","v":""}]
[null,null,{"$f":"IF('Set Interior Problem'!K51<>\"\",'Set Interior Problem'!K51,\"\")","v":""},{"$f":"IF('Set Interior Problem'!L51<>\"\",'Set Interior Problem'!L51,\"\")","v":""},{"$f":"IF('Set Interior Problem'!M51<>\"\",'Set Interior Problem'!M51,\"\")","v":""}]
[null,null,{"$f":"IF('Set Interior Problem'!K52<>\"\",'Set Interior Problem'!K52,\"\")","v":""},{"$f":"IF('Set Interior Problem'!L52<>\"\",'Set Interior Problem'!L52,\"\")","v":""},{"$f":"IF('Set Interior Problem'!M52<>\"\",'Set Interior Problem'!M52,\"\")","v":""}]
[null,null,{"$f":"IF('Set Interior Problem'!K53<>\"\",'Set Interior Problem'!K53,\"\")","v":""},{"$f":"IF('Set Interior Problem'!L53<>\"\",'Set Interior Problem'!L53,\"\")","v":""},{"$f":"IF('Set Interior Problem'!M53<>\"\",'Set Interior Problem'!M53,\"\")","v":""}]
[null,null,{"$f":"IF('Set Interior Problem'!K54<>\"\",'Set Interior Problem'!K54,\"\")","v":""},{"$f":"IF('Set Interior Problem'!L54<>\"\",'Set Interior Problem'!L54,\"\")","v":""},{"$f":"IF('Set Interior Problem'!M54<>\"\",'Set Interior Problem'!M54,\"\")","v":""}]
[null,null,{"$f":"IF('Set Interior Problem'!K55<>\"\",'Set Interior Problem'!K55,\"\")","v":""},{"$f":"IF('Set Interior Problem'!L55<>\"\",'Set Interior Problem'!L55,\"\")","v":""},{"$f":"IF('Set Interior Problem'!M55<>\"\",'Set Interior Problem'!M55,\"\")","v":""}]
[null,null,{"$f":"IF('Set Interior Problem'!K56<>\"\",'Set Interior Problem'!K56,\"\")","v":""},{"$f":"IF('Set Interior Problem'!L56<>\"\",'Set Interior Problem'!L56,\"\")","v":""},{"$f":"IF('Set Interior Problem'!M56<>\"\",'Set Interior Problem'!M56,\"\")","v":""}]
[null,null,{"$f":"IF('Set Interior Problem'!K57<>\"\",'Set Interior Problem'!K57,\"\")","v":""},{"$f":"IF('Set Interior Problem'!L57<>\"\",'Set Interior Problem'!L57,\"\")","v":""},{"$f":"IF('Set Interior Problem'!M57<>\"\",'Set Interior Problem'!M57,\"\")","v":""}]
[null,null,{"$f":"IF('Set Interior Problem'!K58<>\"\",'Set Interior Problem'!K58,\"\")","v":""},{"$f":"IF('Set Interior Problem'!L58<>\"\",'Set Interior Problem'!L58,\"\")","v":""},{"$f":"IF('Set Interior Problem'!M58<>\"\",'Set Interior Problem'!M58,\"\")","v":""}]
[null,null,{"$f":"IF('Set Interior Problem'!K59<>\"\",'Set Interior Problem'!K59,\"\")","v":""},{"$f":"IF('Set Interior Problem'!L59<>\"\",'Set Interior Problem'!L59,\"\")","v":""},{"$f":"IF('Set Interior Problem'!M59<>\"\",'Set Interior Problem'!M59,\"\")","v":""}]
[null,null,{"$f":"IF('Set Interior Problem'!K60<>\"\",'Set Interior Problem'!K60,\"\")","v":""},{"$f":"IF('Set Interior Problem'!L60<>\"\",'Set Interior Problem'!L60,\"\")","v":""},{"$f":"IF('Set Interior Problem'!M60<>\"\",'Set Interior Problem'!M60,\"\")","v":""}]
[null,null,{"$f":"IF('Set Interior Problem'!K61<>\"\",'Set Interior Problem'!K61,\"\")","v":""},{"$f":"IF('Set Interior Problem'!L61<>\"\",'Set Interior Problem'!L61,\"\")","v":""},{"$f":"IF('Set Interior Problem'!M61<>\"\",'Set Interior Problem'!M61,\"\")","v":""}]
[null,null,{"$f":"IF('Set Interior Problem'!K62<>\"\",'Set Interior Problem'!K62,\"\")","v":""},{"$f":"IF('Set Interior Problem'!L62<>\"\",'Set Interior Problem'!L62,\"\")","v":""},{"$f":"IF('Set Interior Problem'!M62<>\"\",'Set Interior Problem'!M62,\"\")","v":""}]
[null,null,{"$f":"IF('Set Interior Problem'!K63<>\"\",'Set Interior Problem'!K63,\"\")","v":""},{"$f":"IF('Set Interior Problem'!L63<>\"\",'Set Interior Problem'!L63,\"\")","v":""},{"$f":"IF('Set Interior Problem'!M63<>\"\",'Set Interior Problem'!M63,\"\")","v":""}]
[null,null,{"$f":"IF('Set Interior Problem'!K64<>\"\",'Set Interior Problem'!K64,\"\")","v":""},{"$f":"IF('Set Interior Problem'!L64<>\"\",'Set Interior Problem'!L64,\"\")","v":""},{"$f":"IF('Set Interior Problem'!M64<>\"\",'Set Interior Problem'!M64,\"\")","v":""}]
[null,null,{"$f":"IF('Set Interior Problem'!K65<>\"\",'Set Interior Problem'!K65,\"\")","v":""},{"$f":"IF('Set Interior Problem'!L65<>\"\",'Set Interior Problem'!L65,\"\")","v":""},{"$f":"IF('Set Interior Problem'!M65<>\"\",'Set Interior Problem'!M65,\"\")","v":""}]
[null,null,{"$f":"IF('Set Interior Problem'!K66<>\"\",'Set Interior Problem'!K66,\"\")","v":""},{"$f":"IF('Set Interior Problem'!L66<>\"\",'Set Interior Problem'!L66,\"\")","v":""},{"$f":"IF('Set Interior Problem'!M66<>\"\",'Set Interior Problem'!M66,\"\")","v":""}]
[null,null,{"$f":"IF('Set Interior Problem'!K67<>\"\",'Set Interior Problem'!K67,\"\")","v":""},{"$f":"IF('Set Interior Problem'!L67<>\"\",'Set Interior Problem'!L67,\"\")","v":""},{"$f":"IF('Set Interior Problem'!M67<>\"\",'Set Interior Problem'!M67,\"\")","v":""}]
[null,null,{"$f":"IF('Set Interior Problem'!K68<>\"\",'Set Interior Problem'!K68,\"\")","v":""},{"$f":"IF('Set Interior Problem'!L68<>\"\",'Set Interior Problem'!L68,\"\")","v":""},{"$f":"IF('Set Interior Problem'!M68<>\"\",'Set Interior Problem'!M68,\"\")","v":""}]
[null,null,{"$f":"IF('Set Interior Problem'!K69<>\"\",'Set Interior Problem'!K69,\"\")","v":""},{"$f":"IF('Set Interior Problem'!L69<>\"\",'Set Interior Problem'!L69,\"\")","v":""},{"$f":"IF('Set Interior Problem'!M69<>\"\",'Set Interior Problem'!M69,\"\")","v":""}]
[null,null,{"$f":"IF('Set Interior Problem'!K70<>\"\",'Set Interior Problem'!K70,\"\")","v":""},{"$f":"IF('Set Interior Problem'!L70<>\"\",'Set Interior Problem'!L70,\"\")","v":""},{"$f":"IF('Set Interior Problem'!M70<>\"\",'Set Interior Problem'!M70,\"\")","v":""}]
[null,null,{"$f":"IF('Set Interior Problem'!K71<>\"\",'Set Interior Problem'!K71,\"\")","v":""},{"$f":"IF('Set Interior Problem'!L71<>\"\",'Set Interior Problem'!L71,\"\")","v":""},{"$f":"IF('Set Interior Problem'!M71<>\"\",'Set Interior Problem'!M71,\"\")","v":""}]
[null,null,{"$f":"IF('Set Interior Problem'!K72<>\"\",'Set Interior Problem'!K72,\"\")","v":""},{"$f":"IF('Set Interior Problem'!L72<>\"\",'Set Interior Problem'!L72,\"\")","v":""},{"$f":"IF('Set Interior Problem'!M72<>\"\",'Set Interior Problem'!M72,\"\")","v":""}]
[null,null,{"$f":"IF('Set Interior Problem'!K73<>\"\",'Set Interior Problem'!K73,\"\")","v":""},{"$f":"IF('Set Interior Problem'!L73<>\"\",'Set Interior Problem'!L73,\"\")","v":""},{"$f":"IF('Set Interior Problem'!M73<>\"\",'Set Interior Problem'!M73,\"\")","v":""}]
[null,null,{"$f":"IF('Set Interior Problem'!K74<>\"\",'Set Interior Problem'!K74,\"\")","v":""},{"$f":"IF('Set Interior Problem'!L74<>\"\",'Set Interior Problem'!L74,\"\")","v":""},{"$f":"IF('Set Interior Problem'!M74<>\"\",'Set Interior Problem'!M74,\"\")","v":""}]
[null,null,{"$f":"IF('Set Interior Problem'!K75<>\"\",'Set Interior Problem'!K75,\"\")","v":""},{"$f":"IF('Set Interior Problem'!L75<>\"\",'Set Interior Problem'!L75,\"\")","v":""},{"$f":"IF('Set Interior Problem'!M75<>\"\",'Set Interior Problem'!M75,\"\")","v":""}]
[null,null,{"$f":"IF('Set Interior Problem'!K76<>\"\",'Set Interior Problem'!K76,\"\")","v":""},{"$f":"IF('Set Interior Problem'!L76<>\"\",'Set Interior Problem'!L76,\"\")","v":""},{"$f":"IF('Set Interior Problem'!M76<>\"\",'Set Interior Problem'!M76,\"\")","v":""}]
[null,null,{"$f":"IF('Set Interior Problem'!K77<>\"\",'Set Interior Problem'!K77,\"\")","v":""},{"$f":"IF('Set Interior Problem'!L77<>\"\",'Set Interior Problem'!L77,\"\")","v":""},{"$f":"IF('Set Interior Problem'!M77<>\"\",'Set Interior Problem'!M77,\"\")","v":""}]
[null,null,{"$f":"IF('Set Interior Problem'!K78<>\"\",'Set Interior Problem'!K78,\"\")","v":""},{"$f":"IF('Set Interior Problem'!L78<>\"\",'Set Interior Problem'!L78,\"\")","v":""},{"$f":"IF('Set Interior Problem'!M78<>\"\",'Set Interior Problem'!M78,\"\")","v":""}]
[null,null,{"$f":"IF('Set Interior Problem'!K79<>\"\",'Set Interior Problem'!K79,\"\")","v":""},{"$f":"IF('Set Interior Problem'!L79<>\"\",'Set Interior Problem'!L79,\"\")","v":""},{"$f":"IF('Set Interior Problem'!M79<>\"\",'Set Interior Problem'!M79,\"\")","v":""}]
[null,null,{"$f":"IF('Set Interior Problem'!K80<>\"\",'Set Interior Problem'!K80,\"\")","v":""},{"$f":"IF('Set Interior Problem'!L80<>\"\",'Set Interior Problem'!L80,\"\")","v":""},{"$f":"IF('Set Interior Problem'!M80<>\"\",'Set Interior Problem'!M80,\"\")","v":""}]
[null,null,{"$f":"IF('Set Interior Problem'!K81<>\"\",'Set Interior Problem'!K81,\"\")","v":""},{"$f":"IF('Set Interior Problem'!L81<>\"\",'Set Interior Problem'!L81,\"\")","v":""},{"$f":"IF('Set Interior Problem'!M81<>\"\",'Set Interior Problem'!M81,\"\")","v":""}]
[null,null,{"$f":"IF('Set Interior Problem'!K82<>\"\",'Set Interior Problem'!K82,\"\")","v":""},{"$f":"IF('Set Interior Problem'!L82<>\"\",'Set Interior Problem'!L82,\"\")","v":""},{"$f":"IF('Set Interior Problem'!M82<>\"\",'Set Interior Problem'!M82,\"\")","v":""}]
[null,null,{"$f":"IF('Set Interior Problem'!K83<>\"\",'Set Interior Problem'!K83,\"\")","v":""},{"$f":"IF('Set Interior Problem'!L83<>\"\",'Set Interior Problem'!L83,\"\")","v":""},{"$f":"IF('Set Interior Problem'!M83<>\"\",'Set Interior Problem'!M83,\"\")","v":""}]
[null,null,{"$f":"IF('Set Interior Problem'!K84<>\"\",'Set Interior Problem'!K84,\"\")","v":""},{"$f":"IF('Set Interior Problem'!L84<>\"\",'Set Interior Problem'!L84,\"\")","v":""},{"$f":"IF('Set Interior Problem'!M84<>\"\",'Set Interior Problem'!M84,\"\")","v":""}]
[null,null,{"$f":"IF('Set Interior Problem'!K85<>\"\",'Set Interior Problem'!K85,\"\")","v":""},{"$f":"IF('Set Interior Problem'!L85<>\"\",'Set Interior Problem'!L85,\"\")","v":""},{"$f":"IF('Set Interior Problem'!M85<>\"\",'Set Interior Problem'!M85,\"\")","v":""}]
[null,null,{"$f":"IF('Set Interior Problem'!K86<>\"\",'Set Interior Problem'!K86,\"\")","v":""},{"$f":"IF('Set Interior Problem'!L86<>\"\",'Set Interior Problem'!L86,\"\")","v":""},{"$f":"IF('Set Interior Problem'!M86<>\"\",'Set Interior Problem'!M86,\"\")","v":""}]
[null,null,{"$f":"IF('Set Interior Problem'!K87<>\"\",'Set Interior Problem'!K87,\"\")","v":""},{"$f":"IF('Set Interior Problem'!L87<>\"\",'Set Interior Problem'!L87,\"\")","v":""},{"$f":"IF('Set Interior Problem'!M87<>\"\",'Set Interior Problem'!M87,\"\")","v":""}]
[null,null,{"$f":"IF('Set Interior Problem'!K88<>\"\",'Set Interior Problem'!K88,\"\")","v":""},{"$f":"IF('Set Interior Problem'!L88<>\"\",'Set Interior Problem'!L88,\"\")","v":""},{"$f":"IF('Set Interior Problem'!M88<>\"\",'Set Interior Problem'!M88,\"\")","v":""}]
[null,null,{"$f":"IF('Set Interior Problem'!K89<>\"\",'Set Interior Problem'!K89,\"\")","v":""},{"$f":"IF('Set Interior Problem'!L89<>\"\",'Set Interior Problem'!L89,\"\")","v":""},{"$f":"IF('Set Interior Problem'!M89<>\"\",'Set Interior Problem'!M89,\"\")","v":""}]
[null,null,{"$f":"IF('Set Interior Problem'!K90<>\"\",'Set Interior Problem'!K90,\"\")","v":""},{"$f":"IF('Set Interior Problem'!L90<>\"\",'Set Interior Problem'!L90,\"\")","v":""},{"$f":"IF('Set Interior Problem'!M90<>\"\",'Set Interior Problem'!M90,\"\")","v":""}]
[null,null,{"$f":"IF('Set Interior Problem'!K91<>\"\",'Set Interior Problem'!K91,\"\")","v":""},{"$f":"IF('Set Interior Problem'!L91<>\"\",'Set Interior Problem'!L91,\"\")","v":""},{"$f":"IF('Set Interior Problem'!M91<>\"\",'Set Interior Problem'!M91,\"\")","v":""}]
[null,null,{"$f":"IF('Set Interior Problem'!K92<>\"\",'Set Interior Problem'!K92,\"\")","v":""},{"$f":"IF('Set Interior Problem'!L92<>\"\",'Set Interior Problem'!L92,\"\")","v":""},{"$f":"IF('Set Interior Problem'!M92<>\"\",'Set Interior Problem'!M92,\"\")","v":""}]
[null,null,{"$f":"IF('Set Interior Problem'!K93<>\"\",'Set Interior Problem'!K93,\"\")","v":""},{"$f":"IF('Set Interior Problem'!L93<>\"\",'Set Interior Problem'!L93,\"\")","v":""},{"$f":"IF('Set Interior Problem'!M93<>\"\",'Set Interior Problem'!M93,\"\")","v":""}]
[null,null,{"$f":"IF('Set Interior Problem'!K94<>\"\",'Set Interior Problem'!K94,\"\")","v":""},{"$f":"IF('Set Interior Problem'!L94<>\"\",'Set Interior Problem'!L94,\"\")","v":""},{"$f":"IF('Set Interior Problem'!M94<>\"\",'Set Interior Problem'!M94,\"\")","v":""}]
[null,null,{"$f":"IF('Set Interior Problem'!K95<>\"\",'Set Interior Problem'!K95,\"\")","v":""},{"$f":"IF('Set Interior Problem'!L95<>\"\",'Set Interior Problem'!L95,\"\")","v":""},{"$f":"IF('Set Interior Problem'!M95<>\"\",'Set Interior Problem'!M95,\"\")","v":""}]
[null,null,{"$f":"IF('Set Interior Problem'!K96<>\"\",'Set Interior Problem'!K96,\"\")","v":""},{"$f":"IF('Set Interior Problem'!L96<>\"\",'Set Interior Problem'!L96,\"\")","v":""},{"$f":"IF('Set Interior Problem'!M96<>\"\",'Set Interior Problem'!M96,\"\")","v":""}]
[null,null,{"$f":"IF('Set Interior Problem'!K97<>\"\",'Set Interior Problem'!K97,\"\")","v":""},{"$f":"IF('Set Interior Problem'!L97<>\"\",'Set Interior Problem'!L97,\"\")","v":""},{"$f":"IF('Set Interior Problem'!M97<>\"\",'Set Interior Problem'!M97,\"\")","v":""}]
[null,null,{"$f":"IF('Set Interior Problem'!K98<>\"\",'Set Interior Problem'!K98,\"\")","v":""},{"$f":"IF('Set Interior Problem'!L98<>\"\",'Set Interior Problem'!L98,\"\")","v":""},{"$f":"IF('Set Interior Problem'!M98<>\"\",'Set Interior Problem'!M98,\"\")","v":""}]
[null,null,{"$f":"IF('Set Interior Problem'!K99<>\"\",'Set Interior Problem'!K99,\"\")","v":""},{"$f":"IF('Set Interior Problem'!L99<>\"\",'Set Interior Problem'!L99,\"\")","v":""},{"$f":"IF('Set Interior Problem'!M99<>\"\",'Set Interior Problem'!M99,\"\")","v":""}]
[null,null,{"$f":"IF('Set Interior Problem'!K100<>\"\",'Set Interior Problem'!K100,\"\")","v":""},{"$f":"IF('Set Interior Problem'!L100<>\"\",'Set Interior Problem'!L100,\"\")","v":""},{"$f":"IF('Set Interior Problem'!M100<>\"\",'Set Interior Problem'!M100,\"\")","v":""}]
[null,null,{"$f":"IF('Set Interior Problem'!K101<>\"\",'Set Interior Problem'!K101,\"\")","v":""},{"$f":"IF('Set Interior Problem'!L101<>\"\",'Set Interior Problem'!L101,\"\")","v":""},{"$f":"IF('Set Interior Problem'!M101<>\"\",'Set Interior Problem'!M101,\"\")","v":""}]
[null,null,{"$f":"IF('Set Interior Problem'!K102<>\"\",'Set Interior Problem'!K102,\"\")","v":""},{"$f":"IF('Set Interior Problem'!L102<>\"\",'Set Interior Problem'!L102,\"\")","v":""},{"$f":"IF('Set Interior Problem'!M102<>\"\",'Set Interior Problem'!M102,\"\")","v":""}]
[null,null,{"$f":"IF('Set Interior Problem'!K103<>\"\",'Set Interior Problem'!K103,\"\")","v":""},{"$f":"IF('Set Interior Problem'!L103<>\"\",'Set Interior Problem'!L103,\"\")","v":""},{"$f":"IF('Set Interior Problem'!M103<>\"\",'Set Interior Problem'!M103,\"\")","v":""}]
[null,null,{"$f":"IF('Set Interior Problem'!K104<>\"\",'Set Interior Problem'!K104,\"\")","v":""},{"$f":"IF('Set Interior Problem'!L104<>\"\",'Set Interior Problem'!L104,\"\")","v":""},{"$f":"IF('Set Interior Problem'!M104<>\"\",'Set Interior Problem'!M104,\"\")","v":""}]
[null,null,{"$f":"IF('Set Interior Problem'!K105<>\"\",'Set Interior Problem'!K105,\"\")","v":""},{"$f":"IF('Set Interior Problem'!L105<>\"\",'Set Interior Problem'!L105,\"\")","v":""},{"$f":"IF('Set Interior Problem'!M105<>\"\",'Set Interior Problem'!M105,\"\")","v":""}]
[null,null,{"$f":"IF('Set Interior Problem'!K106<>\"\",'Set Interior Problem'!K106,\"\")","v":""},{"$f":"IF('Set Interior Problem'!L106<>\"\",'Set Interior Problem'!L106,\"\")","v":""},{"$f":"IF('Set Interior Problem'!M106<>\"\",'Set Interior Problem'!M106,\"\")","v":""}]
[null,null,{"$f":"IF('Set Interior Problem'!K107<>\"\",'Set Interior Problem'!K107,\"\")","v":""},{"$f":"IF('Set Interior Problem'!L107<>\"\",'Set Interior Problem'!L107,\"\")","v":""},{"$f":"IF('Set Interior Problem'!M107<>\"\",'Set Interior Problem'!M107,\"\")","v":""}]
[null,null,{"$f":"IF('Set Interior Problem'!K108<>\"\",'Set Interior Problem'!K108,\"\")","v":""},{"$f":"IF('Set Interior Problem'!L108<>\"\",'Set Interior Problem'!L108,\"\")","v":""},{"$f":"IF('Set Interior Problem'!M108<>\"\",'Set Interior Problem'!M108,\"\")","v":""}]
[null,null,{"$f":"IF('Set Interior Problem'!K109<>\"\",'Set Interior Problem'!K109,\"\")","v":""},{"$f":"IF('Set Interior Problem'!L109<>\"\",'Set Interior Problem'!L109,\"\")","v":""},{"$f":"IF('Set Interior Problem'!M109<>\"\",'Set Interior Problem'!M109,\"\")","v":""}]
[null,null,{"$f":"IF('Set Interior Problem'!K110<>\"\",'Set Interior Problem'!K110,\"\")","v":""},{"$f":"IF('Set Interior Problem'!L110<>\"\",'Set Interior Problem'!L110,\"\")","v":""},{"$f":"IF('Set Interior Problem'!M110<>\"\",'Set Interior Problem'!M110,\"\")","v":""}]
[null,null,{"$f":"IF('Set Interior Problem'!K111<>\"\",'Set Interior Problem'!K111,\"\")","v":""},{"$f":"IF('Set Interior Problem'!L111<>\"\",'Set Interior Problem'!L111,\"\")","v":""},{"$f":"IF('Set Interior Problem'!M111<>\"\",'Set Interior Problem'!M111,\"\")","v":""}]
[null,null,{"$f":"IF('Set Interior Problem'!K112<>\"\",'Set Interior Problem'!K112,\"\")","v":""},{"$f":"IF('Set Interior Problem'!L112<>\"\",'Set Interior Problem'!L112,\"\")","v":""},{"$f":"IF('Set Interior Problem'!M112<>\"\",'Set Interior Problem'!M112,\"\")","v":""}]
[null,null,{"$f":"IF('Set Interior Problem'!K113<>\"\",'Set Interior Problem'!K113,\"\")","v":""},{"$f":"IF('Set Interior Problem'!L113<>\"\",'Set Interior Problem'!L113,\"\")","v":""},{"$f":"IF('Set Interior Problem'!M113<>\"\",'Set Interior Problem'!M113,\"\")","v":""}]
[null,null,{"$f":"IF('Set Interior Problem'!K114<>\"\",'Set Interior Problem'!K114,\"\")","v":""},{"$f":"IF('Set Interior Problem'!L114<>\"\",'Set Interior Problem'!L114,\"\")","v":""},{"$f":"IF('Set Interior Problem'!M114<>\"\",'Set Interior Problem'!M114,\"\")","v":""}]
[null,null,{"$f":"IF('Set Interior Problem'!K115<>\"\",'Set Interior Problem'!K115,\"\")","v":""},{"$f":"IF('Set Interior Problem'!L115<>\"\",'Set Interior Problem'!L115,\"\")","v":""},{"$f":"IF('Set Interior Problem'!M115<>\"\",'Set Interior Problem'!M115,\"\")","v":""}]
[null,null,{"$f":"IF('Set Interior Problem'!K116<>\"\",'Set Interior Problem'!K116,\"\")","v":""},{"$f":"IF('Set Interior Problem'!L116<>\"\",'Set Interior Problem'!L116,\"\")","v":""},{"$f":"IF('Set Interior Problem'!M116<>\"\",'Set Interior Problem'!M116,\"\")","v":""}]
[null,null,{"$f":"IF('Set Interior Problem'!K117<>\"\",'Set Interior Problem'!K117,\"\")","v":""},{"$f":"IF('Set Interior Problem'!L117<>\"\",'Set Interior Problem'!L117,\"\")","v":""},{"$f":"IF('Set Interior Problem'!M117<>\"\",'Set Interior Problem'!M117,\"\")","v":""}]
[null,null,{"$f":"IF('Set Interior Problem'!K118<>\"\",'Set Interior Problem'!K118,\"\")","v":""},{"$f":"IF('Set Interior Problem'!L118<>\"\",'Set Interior Problem'!L118,\"\")","v":""},{"$f":"IF('Set Interior Problem'!M118<>\"\",'Set Interior Problem'!M118,\"\")","v":""}]
[null,null,{"$f":"IF('Set Interior Problem'!K119<>\"\",'Set Interior Problem'!K119,\"\")","v":""},{"$f":"IF('Set Interior Problem'!L119<>\"\",'Set Interior Problem'!L119,\"\")","v":""},{"$f":"IF('Set Interior Problem'!M119<>\"\",'Set Interior Problem'!M119,\"\")","v":""}]
[null,null,{"$f":"IF('Set Interior Problem'!K120<>\"\",'Set Interior Problem'!K120,\"\")","v":""},{"$f":"IF('Set Interior Problem'!L120<>\"\",'Set Interior Problem'!L120,\"\")","v":""},{"$f":"IF('Set Interior Problem'!M120<>\"\",'Set Interior Problem'!M120,\"\")","v":""}]
[null,null,{"$f":"IF('Set Interior Problem'!K121<>\"\",'Set Interior Problem'!K121,\"\")","v":""},{"$f":"IF('Set Interior Problem'!L121<>\"\",'Set Interior Problem'!L121,\"\")","v":""},{"$f":"IF('Set Interior Problem'!M121<>\"\",'Set Interior Problem'!M121,\"\")","v":""}]
[null,null,{"$f":"IF('Set Interior Problem'!K122<>\"\",'Set Interior Problem'!K122,\"\")","v":""},{"$f":"IF('Set Interior Problem'!L122<>\"\",'Set Interior Problem'!L122,\"\")","v":""},{"$f":"IF('Set Interior Problem'!M122<>\"\",'Set Interior Problem'!M122,\"\")","v":""}]
[null,null,{"$f":"IF('Set Interior Problem'!K123<>\"\",'Set Interior Problem'!K123,\"\")","v":""},{"$f":"IF('Set Interior Problem'!L123<>\"\",'Set Interior Problem'!L123,\"\")","v":""},{"$f":"IF('Set Interior Problem'!M123<>\"\",'Set Interior Problem'!M123,\"\")","v":""}]
[null,null,{"$f":"IF('Set Interior Problem'!K124<>\"\",'Set Interior Problem'!K124,\"\")","v":""},{"$f":"IF('Set Interior Problem'!L124<>\"\",'Set Interior Problem'!L124,\"\")","v":""},{"$f":"IF('Set Interior Problem'!M124<>\"\",'Set Interior Problem'!M124,\"\")","v":""}]
[null,null,{"$f":"IF('Set Interior Problem'!K125<>\"\",'Set Interior Problem'!K125,\"\")","v":""},{"$f":"IF('Set Interior Problem'!L125<>\"\",'Set Interior Problem'!L125,\"\")","v":""},{"$f":"IF('Set Interior Problem'!M125<>\"\",'Set Interior Problem'!M125,\"\")","v":""}]

{"sheet":"New Ext Prob Condition","index":19,"n_rows":167,"n_cols":8,"rows_kept":167,"cut":false,"hidden":false,"merged":[[7,2,7,5],[8,2,8,3],[7,7,7,17]]}
[]
[]
[]
[]
[]
[]
[]
[null,null,"Boundary Condition",null,null,null,null,"Note; Only run if the initial exterior problem has run"]
[null,null,"Number of panels",null,{"$f":"'Set Exterior Problem'!H9","v":20}]
[null,null,"index","alpha","beta","f"]
[null,null,{"$f":"IF('Set Exterior Problem'!K11<>\"\",'Set Exterior Problem'!K11,\"\")","v":1},{"$f":"IF('Set Exterior Problem'!L11<>\"\",'Set Exterior Problem'!L11,\"\")","v":1},{"$f":"IF('Set Exterior Problem'!M11<>\"\",'Set Exterior Problem'!M11,\"\")","v":0},2]
[null,null,{"$f":"IF('Set Exterior Problem'!K12<>\"\",'Set Exterior Problem'!K12,\"\")","v":2},{"$f":"IF('Set Exterior Problem'!L12<>\"\",'Set Exterior Problem'!L12,\"\")","v":1},{"$f":"IF('Set Exterior Problem'!M12<>\"\",'Set Exterior Problem'!M12,\"\")","v":0},2]
[null,null,{"$f":"IF('Set Exterior Problem'!K13<>\"\",'Set Exterior Problem'!K13,\"\")","v":3},{"$f":"IF('Set Exterior Problem'!L13<>\"\",'Set Exterior Problem'!L13,\"\")","v":1},{"$f":"IF('Set Exterior Problem'!M13<>\"\",'Set Exterior Problem'!M13,\"\")","v":0},2]
[null,null,{"$f":"IF('Set Exterior Problem'!K14<>\"\",'Set Exterior Problem'!K14,\"\")","v":4},{"$f":"IF('Set Exterior Problem'!L14<>\"\",'Set Exterior Problem'!L14,\"\")","v":1},{"$f":"IF('Set Exterior Problem'!M14<>\"\",'Set Exterior Problem'!M14,\"\")","v":0},2]
[null,null,{"$f":"IF('Set Exterior Problem'!K15<>\"\",'Set Exterior Problem'!K15,\"\")","v":5},{"$f":"IF('Set Exterior Problem'!L15<>\"\",'Set Exterior Problem'!L15,\"\")","v":1},{"$f":"IF('Set Exterior Problem'!M15<>\"\",'Set Exterior Problem'!M15,\"\")","v":0},2]
[null,null,{"$f":"IF('Set Exterior Problem'!K16<>\"\",'Set Exterior Problem'!K16,\"\")","v":6},{"$f":"IF('Set Exterior Problem'!L16<>\"\",'Set Exterior Problem'!L16,\"\")","v":1},{"$f":"IF('Set Exterior Problem'!M16<>\"\",'Set Exterior Problem'!M16,\"\")","v":0},2]
[null,null,{"$f":"IF('Set Exterior Problem'!K17<>\"\",'Set Exterior Problem'!K17,\"\")","v":7},{"$f":"IF('Set Exterior Problem'!L17<>\"\",'Set Exterior Problem'!L17,\"\")","v":1},{"$f":"IF('Set Exterior Problem'!M17<>\"\",'Set Exterior Problem'!M17,\"\")","v":0},2]
[null,null,{"$f":"IF('Set Exterior Problem'!K18<>\"\",'Set Exterior Problem'!K18,\"\")","v":8},{"$f":"IF('Set Exterior Problem'!L18<>\"\",'Set Exterior Problem'!L18,\"\")","v":1},{"$f":"IF('Set Exterior Problem'!M18<>\"\",'Set Exterior Problem'!M18,\"\")","v":0},2]
[null,null,{"$f":"IF('Set Exterior Problem'!K19<>\"\",'Set Exterior Problem'!K19,\"\")","v":9},{"$f":"IF('Set Exterior Problem'!L19<>\"\",'Set Exterior Problem'!L19,\"\")","v":1},{"$f":"IF('Set Exterior Problem'!M19<>\"\",'Set Exterior Problem'!M19,\"\")","v":0},2]
[null,null,{"$f":"IF('Set Exterior Problem'!K20<>\"\",'Set Exterior Problem'!K20,\"\")","v":10},{"$f":"IF('Set Exterior Problem'!L20<>\"\",'Set Exterior Problem'!L20,\"\")","v":1},{"$f":"IF('Set Exterior Problem'!M20<>\"\",'Set Exterior Problem'!M20,\"\")","v":0},2]
[null,null,{"$f":"IF('Set Exterior Problem'!K21<>\"\",'Set Exterior Problem'!K21,\"\")","v":11},{"$f":"IF('Set Exterior Problem'!L21<>\"\",'Set Exterior Problem'!L21,\"\")","v":0},{"$f":"IF('Set Exterior Problem'!M21<>\"\",'Set Exterior Problem'!M21,\"\")","v":1},-2]
[null,null,{"$f":"IF('Set Exterior Problem'!K22<>\"\",'Set Exterior Problem'!K22,\"\")","v":12},{"$f":"IF('Set Exterior Problem'!L22<>\"\",'Set Exterior Problem'!L22,\"\")","v":0},{"$f":"IF('Set Exterior Problem'!M22<>\"\",'Set Exterior Problem'!M22,\"\")","v":1},-2]
[null,null,{"$f":"IF('Set Exterior Problem'!K23<>\"\",'Set Exterior Problem'!K23,\"\")","v":13},{"$f":"IF('Set Exterior Problem'!L23<>\"\",'Set Exterior Problem'!L23,\"\")","v":0},{"$f":"IF('Set Exterior Problem'!M23<>\"\",'Set Exterior Problem'!M23,\"\")","v":1},-2]
[null,null,{"$f":"IF('Set Exterior Problem'!K24<>\"\",'Set Exterior Problem'!K24,\"\")","v":14},{"$f":"IF('Set Exterior Problem'!L24<>\"\",'Set Exterior Problem'!L24,\"\")","v":0},{"$f":"IF('Set Exterior Problem'!M24<>\"\",'Set Exterior Problem'!M24,\"\")","v":1},-2]
[null,null,{"$f":"IF('Set Exterior Problem'!K25<>\"\",'Set Exterior Problem'!K25,\"\")","v":15},{"$f":"IF('Set Exterior Problem'!L25<>\"\",'Set Exterior Problem'!L25,\"\")","v":0},{"$f":"IF('Set Exterior Problem'!M25<>\"\",'Set Exterior Problem'!M25,\"\")","v":1},-2]
[null,null,{"$f":"IF('Set Exterior Problem'!K26<>\"\",'Set Exterior Problem'!K26,\"\")","v":16},{"$f":"IF('Set Exterior Problem'!L26<>\"\",'Set Exterior Problem'!L26,\"\")","v":0},{"$f":"IF('Set Exterior Problem'!M26<>\"\",'Set Exterior Problem'!M26,\"\")","v":1},-2]
[null,null,{"$f":"IF('Set Exterior Problem'!K27<>\"\",'Set Exterior Problem'!K27,\"\")","v":17},{"$f":"IF('Set Exterior Problem'!L27<>\"\",'Set Exterior Problem'!L27,\"\")","v":0},{"$f":"IF('Set Exterior Problem'!M27<>\"\",'Set Exterior Problem'!M27,\"\")","v":1},-2]
[null,null,{"$f":"IF('Set Exterior Problem'!K28<>\"\",'Set Exterior Problem'!K28,\"\")","v":18},{"$f":"IF('Set Exterior Problem'!L28<>\"\",'Set Exterior Problem'!L28,\"\")","v":0},{"$f":"IF('Set Exterior Problem'!M28<>\"\",'Set Exterior Problem'!M28,\"\")","v":1},-2]
[null,null,{"$f":"IF('Set Exterior Problem'!K29<>\"\",'Set Exterior Problem'!K29,\"\")","v":19},{"$f":"IF('Set Exterior Problem'!L29<>\"\",'Set Exterior Problem'!L29,\"\")","v":0},{"$f":"IF('Set Exterior Problem'!M29<>\"\",'Set Exterior Problem'!M29,\"\")","v":1},-2]
[null,null,{"$f":"IF('Set Exterior Problem'!K30<>\"\",'Set Exterior Problem'!K30,\"\")","v":20},{"$f":"IF('Set Exterior Problem'!L30<>\"\",'Set Exterior Problem'!L30,\"\")","v":0},{"$f":"IF('Set Exterior Problem'!M30<>\"\",'Set Exterior Problem'!M30,\"\")","v":1},-2]
[null,null,{"$f":"IF('Set Exterior Problem'!K31<>\"\",'Set Exterior Problem'!K31,\"\")","v":""},{"$f":"IF('Set Exterior Problem'!L31<>\"\",'Set Exterior Problem'!L31,\"\")","v":""},{"$f":"IF('Set Exterior Problem'!M31<>\"\",'Set Exterior Problem'!M31,\"\")","v":""}]
[null,null,{"$f":"IF('Set Exterior Problem'!K32<>\"\",'Set Exterior Problem'!K32,\"\")","v":""},{"$f":"IF('Set Exterior Problem'!L32<>\"\",'Set Exterior Problem'!L32,\"\")","v":""},{"$f":"IF('Set Exterior Problem'!M32<>\"\",'Set Exterior Problem'!M32,\"\")","v":""}]
[null,null,{"$f":"IF('Set Exterior Problem'!K33<>\"\",'Set Exterior Problem'!K33,\"\")","v":""},{"$f":"IF('Set Exterior Problem'!L33<>\"\",'Set Exterior Problem'!L33,\"\")","v":""},{"$f":"IF('Set Exterior Problem'!M33<>\"\",'Set Exterior Problem'!M33,\"\")","v":""}]
[null,null,{"$f":"IF('Set Exterior Problem'!K34<>\"\",'Set Exterior Problem'!K34,\"\")","v":""},{"$f":"IF('Set Exterior Problem'!L34<>\"\",'Set Exterior Problem'!L34,\"\")","v":""},{"$f":"IF('Set Exterior Problem'!M34<>\"\",'Set Exterior Problem'!M34,\"\")","v":""}]
[null,null,{"$f":"IF('Set Exterior Problem'!K35<>\"\",'Set Exterior Problem'!K35,\"\")","v":""},{"$f":"IF('Set Exterior Problem'!L35<>\"\",'Set Exterior Problem'!L35,\"\")","v":""},{"$f":"IF('Set Exterior Problem'!M35<>\"\",'Set Exterior Problem'!M35,\"\")","v":""}]
[null,null,{"$f":"IF('Set Exterior Problem'!K36<>\"\",'Set Exterior Problem'!K36,\"\")","v":""},{"$f":"IF('Set Exterior Problem'!L36<>\"\",'Set Exterior Problem'!L36,\"\")","v":""},{"$f":"IF('Set Exterior Problem'!M36<>\"\",'Set Exterior Problem'!M36,\"\")","v":""}]
[null,null,{"$f":"IF('Set Exterior Problem'!K37<>\"\",'Set Exterior Problem'!K37,\"\")","v":""},{"$f":"IF('Set Exterior Problem'!L37<>\"\",'Set Exterior Problem'!L37,\"\")","v":""},{"$f":"IF('Set Exterior Problem'!M37<>\"\",'Set Exterior Problem'!M37,\"\")","v":""}]
[null,null,{"$f":"IF('Set Exterior Problem'!K38<>\"\",'Set Exterior Problem'!K38,\"\")","v":""},{"$f":"IF('Set Exterior Problem'!L38<>\"\",'Set Exterior Problem'!L38,\"\")","v":""},{"$f":"IF('Set Exterior Problem'!M38<>\"\",'Set Exterior Problem'!M38,\"\")","v":""}]
[null,null,{"$f":"IF('Set Exterior Problem'!K39<>\"\",'Set Exterior Problem'!K39,\"\")","v":""},{"$f":"IF('Set Exterior Problem'!L39<>\"\",'Set Exterior Problem'!L39,\"\")","v":""},{"$f":"IF('Set Exterior Problem'!M39<>\"\",'Set Exterior Problem'!M39,\"\")","v":""}]
[null,null,{"$f":"IF('Set Exterior Problem'!K40<>\"\",'Set Exterior Problem'!K40,\"\")","v":""},{"$f":"IF('Set Exterior Problem'!L40<>\"\",'Set Exterior Problem'!L40,\"\")","v":""},{"$f":"IF('Set Exterior Problem'!M40<>\"\",'Set Exterior Problem'!M40,\"\")","v":""}]
[null,null,{"$f":"IF('Set Exterior Problem'!K41<>\"\",'Set Exterior Problem'!K41,\"\")","v":""},{"$f":"IF('Set Exterior Problem'!L41<>\"\",'Set Exterior Problem'!L41,\"\")","v":""},{"$f":"IF('Set Exterior Problem'!M41<>\"\",'Set Exterior Problem'!M41,\"\")","v":""}]
[null,null,{"$f":"IF('Set Exterior Problem'!K42<>\"\",'Set Exterior Problem'!K42,\"\")","v":""},{"$f":"IF('Set Exterior Problem'!L42<>\"\",'Set Exterior Problem'!L42,\"\")","v":""},{"$f":"IF('Set Exterior Problem'!M42<>\"\",'Set Exterior Problem'!M42,\"\")","v":""}]
[null,null,{"$f":"IF('Set Exterior Problem'!K43<>\"\",'Set Exterior Problem'!K43,\"\")","v":""},{"$f":"IF('Set Exterior Problem'!L43<>\"\",'Set Exterior Problem'!L43,\"\")","v":""},{"$f":"IF('Set Exterior Problem'!M43<>\"\",'Set Exterior Problem'!M43,\"\")","v":""}]
[null,null,{"$f":"IF('Set Exterior Problem'!K44<>\"\",'Set Exterior Problem'!K44,\"\")","v":""},{"$f":"IF('Set Exterior Problem'!L44<>\"\",'Set Exterior Problem'!L44,\"\")","v":""},{"$f":"IF('Set Exterior Problem'!M44<>\"\",'Set Exterior Problem'!M44,\"\")","v":""}]
[null,null,{"$f":"IF('Set Exterior Problem'!K45<>\"\",'Set Exterior Problem'!K45,\"\")","v":""},{"$f":"IF('Set Exterior Problem'!L45<>\"\",'Set Exterior Problem'!L45,\"\")","v":""},{"$f":"IF('Set Exterior Problem'!M45<>\"\",'Set Exterior Problem'!M45,\"\")","v":""}]
[null,null,{"$f":"IF('Set Exterior Problem'!K46<>\"\",'Set Exterior Problem'!K46,\"\")","v":""},{"$f":"IF('Set Exterior Problem'!L46<>\"\",'Set Exterior Problem'!L46,\"\")","v":""},{"$f":"IF('Set Exterior Problem'!M46<>\"\",'Set Exterior Problem'!M46,\"\")","v":""}]
[null,null,{"$f":"IF('Set Exterior Problem'!K47<>\"\",'Set Exterior Problem'!K47,\"\")","v":""},{"$f":"IF('Set Exterior Problem'!L47<>\"\",'Set Exterior Problem'!L47,\"\")","v":""},{"$f":"IF('Set Exterior Problem'!M47<>\"\",'Set Exterior Problem'!M47,\"\")","v":""}]
[null,null,{"$f":"IF('Set Exterior Problem'!K48<>\"\",'Set Exterior Problem'!K48,\"\")","v":""},{"$f":"IF('Set Exterior Problem'!L48<>\"\",'Set Exterior Problem'!L48,\"\")","v":""},{"$f":"IF('Set Exterior Problem'!M48<>\"\",'Set Exterior Problem'!M48,\"\")","v":""}]
[null,null,{"$f":"IF('Set Exterior Problem'!K49<>\"\",'Set Exterior Problem'!K49,\"\")","v":""},{"$f":"IF('Set Exterior Problem'!L49<>\"\",'Set Exterior Problem'!L49,\"\")","v":""},{"$f":"IF('Set Exterior Problem'!M49<>\"\",'Set Exterior Problem'!M49,\"\")","v":""}]
[null,null,{"$f":"IF('Set Exterior Problem'!K50<>\"\",'Set Exterior Problem'!K50,\"\")","v":""},{"$f":"IF('Set Exterior Problem'!L50<>\"\",'Set Exterior Problem'!L50,\"\")","v":""},{"$f":"IF('Set Exterior Problem'!M50<>\"\",'Set Exterior Problem'!M50,\"\")","v":""}]
[null,null,{"$f":"IF('Set Exterior Problem'!K51<>\"\",'Set Exterior Problem'!K51,\"\")","v":""},{"$f":"IF('Set Exterior Problem'!L51<>\"\",'Set Exterior Problem'!L51,\"\")","v":""},{"$f":"IF('Set Exterior Problem'!M51<>\"\",'Set Exterior Problem'!M51,\"\")","v":""}]
[null,null,{"$f":"IF('Set Exterior Problem'!K52<>\"\",'Set Exterior Problem'!K52,\"\")","v":""},{"$f":"IF('Set Exterior Problem'!L52<>\"\",'Set Exterior Problem'!L52,\"\")","v":""},{"$f":"IF('Set Exterior Problem'!M52<>\"\",'Set Exterior Problem'!M52,\"\")","v":""}]
[null,null,{"$f":"IF('Set Exterior Problem'!K53<>\"\",'Set Exterior Problem'!K53,\"\")","v":""},{"$f":"IF('Set Exterior Problem'!L53<>\"\",'Set Exterior Problem'!L53,\"\")","v":""},{"$f":"IF('Set Exterior Problem'!M53<>\"\",'Set Exterior Problem'!M53,\"\")","v":""}]
[null,null,{"$f":"IF('Set Exterior Problem'!K54<>\"\",'Set Exterior Problem'!K54,\"\")","v":""},{"$f":"IF('Set Exterior Problem'!L54<>\"\",'Set Exterior Problem'!L54,\"\")","v":""},{"$f":"IF('Set Exterior Problem'!M54<>\"\",'Set Exterior Problem'!M54,\"\")","v":""}]
[null,null,{"$f":"IF('Set Exterior Problem'!K55<>\"\",'Set Exterior Problem'!K55,\"\")","v":""},{"$f":"IF('Set Exterior Problem'!L55<>\"\",'Set Exterior Problem'!L55,\"\")","v":""},{"$f":"IF('Set Exterior Problem'!M55<>\"\",'Set Exterior Problem'!M55,\"\")","v":""}]
[null,null,{"$f":"IF('Set Exterior Problem'!K56<>\"\",'Set Exterior Problem'!K56,\"\")","v":""},{"$f":"IF('Set Exterior Problem'!L56<>\"\",'Set Exterior Problem'!L56,\"\")","v":""},{"$f":"IF('Set Exterior Problem'!M56<>\"\",'Set Exterior Problem'!M56,\"\")","v":""}]
[null,null,{"$f":"IF('Set Exterior Problem'!K57<>\"\",'Set Exterior Problem'!K57,\"\")","v":""},{"$f":"IF('Set Exterior Problem'!L57<>\"\",'Set Exterior Problem'!L57,\"\")","v":""},{"$f":"IF('Set Exterior Problem'!M57<>\"\",'Set Exterior Problem'!M57,\"\")","v":""}]
[null,null,{"$f":"IF('Set Exterior Problem'!K58<>\"\",'Set Exterior Problem'!K58,\"\")","v":""},{"$f":"IF('Set Exterior Problem'!L58<>\"\",'Set Exterior Problem'!L58,\"\")","v":""},{"$f":"IF('Set Exterior Problem'!M58<>\"\",'Set Exterior Problem'!M58,\"\")","v":""}]
[null,null,{"$f":"IF('Set Exterior Problem'!K59<>\"\",'Set Exterior Problem'!K59,\"\")","v":""},{"$f":"IF('Set Exterior Problem'!L59<>\"\",'Set Exterior Problem'!L59,\"\")","v":""},{"$f":"IF('Set Exterior Problem'!M59<>\"\",'Set Exterior Problem'!M59,\"\")","v":""}]
[null,null,{"$f":"IF('Set Exterior Problem'!K60<>\"\",'Set Exterior Problem'!K60,\"\")","v":""},{"$f":"IF('Set Exterior Problem'!L60<>\"\",'Set Exterior Problem'!L60,\"\")","v":""},{"$f":"IF('Set Exterior Problem'!M60<>\"\",'Set Exterior Problem'!M60,\"\")","v":""}]
[null,null,{"$f":"IF('Set Exterior Problem'!K61<>\"\",'Set Exterior Problem'!K61,\"\")","v":""},{"$f":"IF('Set Exterior Problem'!L61<>\"\",'Set Exterior Problem'!L61,\"\")","v":""},{"$f":"IF('Set Exterior Problem'!M61<>\"\",'Set Exterior Problem'!M61,\"\")","v":""}]
[null,null,{"$f":"IF('Set Exterior Problem'!K62<>\"\",'Set Exterior Problem'!K62,\"\")","v":""},{"$f":"IF('Set Exterior Problem'!L62<>\"\",'Set Exterior Problem'!L62,\"\")","v":""},{"$f":"IF('Set Exterior Problem'!M62<>\"\",'Set Exterior Problem'!M62,\"\")","v":""}]
[null,null,{"$f":"IF('Set Exterior Problem'!K63<>\"\",'Set Exterior Problem'!K63,\"\")","v":""},{"$f":"IF('Set Exterior Problem'!L63<>\"\",'Set Exterior Problem'!L63,\"\")","v":""},{"$f":"IF('Set Exterior Problem'!M63<>\"\",'Set Exterior Problem'!M63,\"\")","v":""}]
[null,null,{"$f":"IF('Set Exterior Problem'!K64<>\"\",'Set Exterior Problem'!K64,\"\")","v":""},{"$f":"IF('Set Exterior Problem'!L64<>\"\",'Set Exterior Problem'!L64,\"\")","v":""},{"$f":"IF('Set Exterior Problem'!M64<>\"\",'Set Exterior Problem'!M64,\"\")","v":""}]
[null,null,{"$f":"IF('Set Exterior Problem'!K65<>\"\",'Set Exterior Problem'!K65,\"\")","v":""},{"$f":"IF('Set Exterior Problem'!L65<>\"\",'Set Exterior Problem'!L65,\"\")","v":""},{"$f":"IF('Set Exterior Problem'!M65<>\"\",'Set Exterior Problem'!M65,\"\")","v":""}]
[null,null,{"$f":"IF('Set Exterior Problem'!K66<>\"\",'Set Exterior Problem'!K66,\"\")","v":""},{"$f":"IF('Set Exterior Problem'!L66<>\"\",'Set Exterior Problem'!L66,\"\")","v":""},{"$f":"IF('Set Exterior Problem'!M66<>\"\",'Set Exterior Problem'!M66,\"\")","v":""}]
[null,null,{"$f":"IF('Set Exterior Problem'!K67<>\"\",'Set Exterior Problem'!K67,\"\")","v":""},{"$f":"IF('Set Exterior Problem'!L67<>\"\",'Set Exterior Problem'!L67,\"\")","v":""},{"$f":"IF('Set Exterior Problem'!M67<>\"\",'Set Exterior Problem'!M67,\"\")","v":""}]
[null,null,{"$f":"IF('Set Exterior Problem'!K68<>\"\",'Set Exterior Problem'!K68,\"\")","v":""},{"$f":"IF('Set Exterior Problem'!L68<>\"\",'Set Exterior Problem'!L68,\"\")","v":""},{"$f":"IF('Set Exterior Problem'!M68<>\"\",'Set Exterior Problem'!M68,\"\")","v":""}]
[null,null,{"$f":"IF('Set Exterior Problem'!K69<>\"\",'Set Exterior Problem'!K69,\"\")","v":""},{"$f":"IF('Set Exterior Problem'!L69<>\"\",'Set Exterior Problem'!L69,\"\")","v":""},{"$f":"IF('Set Exterior Problem'!M69<>\"\",'Set Exterior Problem'!M69,\"\")","v":""}]
[null,null,{"$f":"IF('Set Exterior Problem'!K70<>\"\",'Set Exterior Problem'!K70,\"\")","v":""},{"$f":"IF('Set Exterior Problem'!L70<>\"\",'Set Exterior Problem'!L70,\"\")","v":""},{"$f":"IF('Set Exterior Problem'!M70<>\"\",'Set Exterior Problem'!M70,\"\")","v":""}]
[null,null,{"$f":"IF('Set Exterior Problem'!K71<>\"\",'Set Exterior Problem'!K71,\"\")","v":""},{"$f":"IF('Set Exterior Problem'!L71<>\"\",'Set Exterior Problem'!L71,\"\")","v":""},{"$f":"IF('Set Exterior Problem'!M71<>\"\",'Set Exterior Problem'!M71,\"\")","v":""}]
[null,null,{"$f":"IF('Set Exterior Problem'!K72<>\"\",'Set Exterior Problem'!K72,\"\")","v":""},{"$f":"IF('Set Exterior Problem'!L72<>\"\",'Set Exterior Problem'!L72,\"\")","v":""},{"$f":"IF('Set Exterior Problem'!M72<>\"\",'Set Exterior Problem'!M72,\"\")","v":""}]
[null,null,{"$f":"IF('Set Exterior Problem'!K73<>\"\",'Set Exterior Problem'!K73,\"\")","v":""},{"$f":"IF('Set Exterior Problem'!L73<>\"\",'Set Exterior Problem'!L73,\"\")","v":""},{"$f":"IF('Set Exterior Problem'!M73<>\"\",'Set Exterior Problem'!M73,\"\")","v":""}]
[null,null,{"$f":"IF('Set Exterior Problem'!K74<>\"\",'Set Exterior Problem'!K74,\"\")","v":""},{"$f":"IF('Set Exterior Problem'!L74<>\"\",'Set Exterior Problem'!L74,\"\")","v":""},{"$f":"IF('Set Exterior Problem'!M74<>\"\",'Set Exterior Problem'!M74,\"\")","v":""}]
[null,null,{"$f":"IF('Set Exterior Problem'!K75<>\"\",'Set Exterior Problem'!K75,\"\")","v":""},{"$f":"IF('Set Exterior Problem'!L75<>\"\",'Set Exterior Problem'!L75,\"\")","v":""},{"$f":"IF('Set Exterior Problem'!M75<>\"\",'Set Exterior Problem'!M75,\"\")","v":""}]
[null,null,{"$f":"IF('Set Exterior Problem'!K76<>\"\",'Set Exterior Problem'!K76,\"\")","v":""},{"$f":"IF('Set Exterior Problem'!L76<>\"\",'Set Exterior Problem'!L76,\"\")","v":""},{"$f":"IF('Set Exterior Problem'!M76<>\"\",'Set Exterior Problem'!M76,\"\")","v":""}]
[null,null,{"$f":"IF('Set Exterior Problem'!K77<>\"\",'Set Exterior Problem'!K77,\"\")","v":""},{"$f":"IF('Set Exterior Problem'!L77<>\"\",'Set Exterior Problem'!L77,\"\")","v":""},{"$f":"IF('Set Exterior Problem'!M77<>\"\",'Set Exterior Problem'!M77,\"\")","v":""}]
[null,null,{"$f":"IF('Set Exterior Problem'!K78<>\"\",'Set Exterior Problem'!K78,\"\")","v":""},{"$f":"IF('Set Exterior Problem'!L78<>\"\",'Set Exterior Problem'!L78,\"\")","v":""},{"$f":"IF('Set Exterior Problem'!M78<>\"\",'Set Exterior Problem'!M78,\"\")","v":""}]
[null,null,{"$f":"IF('Set Exterior Problem'!K79<>\"\",'Set Exterior Problem'!K79,\"\")","v":""},{"$f":"IF('Set Exterior Problem'!L79<>\"\",'Set Exterior Problem'!L79,\"\")","v":""},{"$f":"IF('Set Exterior Problem'!M79<>\"\",'Set Exterior Problem'!M79,\"\")","v":""}]
[null,null,{"$f":"IF('Set Exterior Problem'!K80<>\"\",'Set Exterior Problem'!K80,\"\")","v":""},{"$f":"IF('Set Exterior Problem'!L80<>\"\",'Set Exterior Problem'!L80,\"\")","v":""},{"$f":"IF('Set Exterior Problem'!M80<>\"\",'Set Exterior Problem'!M80,\"\")","v":""}]
[null,null,{"$f":"IF('Set Exterior Problem'!K81<>\"\",'Set Exterior Problem'!K81,\"\")","v":""},{"$f":"IF('Set Exterior Problem'!L81<>\"\",'Set Exterior Problem'!L81,\"\")","v":""},{"$f":"IF('Set Exterior Problem'!M81<>\"\",'Set Exterior Problem'!M81,\"\")","v":""}]
[null,null,{"$f":"IF('Set Exterior Problem'!K82<>\"\",'Set Exterior Problem'!K82,\"\")","v":""},{"$f":"IF('Set Exterior Problem'!L82<>\"\",'Set Exterior Problem'!L82,\"\")","v":""},{"$f":"IF('Set Exterior Problem'!M82<>\"\",'Set Exterior Problem'!M82,\"\")","v":""}]
[null,null,{"$f":"IF('Set Exterior Problem'!K83<>\"\",'Set Exterior Problem'!K83,\"\")","v":""},{"$f":"IF('Set Exterior Problem'!L83<>\"\",'Set Exterior Problem'!L83,\"\")","v":""},{"$f":"IF('Set Exterior Problem'!M83<>\"\",'Set Exterior Problem'!M83,\"\")","v":""}]
[null,null,{"$f":"IF('Set Exterior Problem'!K84<>\"\",'Set Exterior Problem'!K84,\"\")","v":""},{"$f":"IF('Set Exterior Problem'!L84<>\"\",'Set Exterior Problem'!L84,\"\")","v":""},{"$f":"IF('Set Exterior Problem'!M84<>\"\",'Set Exterior Problem'!M84,\"\")","v":""}]
[null,null,{"$f":"IF('Set Exterior Problem'!K85<>\"\",'Set Exterior Problem'!K85,\"\")","v":""},{"$f":"IF('Set Exterior Problem'!L85<>\"\",'Set Exterior Problem'!L85,\"\")","v":""},{"$f":"IF('Set Exterior Problem'!M85<>\"\",'Set Exterior Problem'!M85,\"\")","v":""}]
[null,null,{"$f":"IF('Set Exterior Problem'!K86<>\"\",'Set Exterior Problem'!K86,\"\")","v":""},{"$f":"IF('Set Exterior Problem'!L86<>\"\",'Set Exterior Problem'!L86,\"\")","v":""},{"$f":"IF('Set Exterior Problem'!M86<>\"\",'Set Exterior Problem'!M86,\"\")","v":""}]
[null,null,{"$f":"IF('Set Exterior Problem'!K87<>\"\",'Set Exterior Problem'!K87,\"\")","v":""},{"$f":"IF('Set Exterior Problem'!L87<>\"\",'Set Exterior Problem'!L87,\"\")","v":""},{"$f":"IF('Set Exterior Problem'!M87<>\"\",'Set Exterior Problem'!M87,\"\")","v":""}]
[null,null,{"$f":"IF('Set Exterior Problem'!K88<>\"\",'Set Exterior Problem'!K88,\"\")","v":""},{"$f":"IF('Set Exterior Problem'!L88<>\"\",'Set Exterior Problem'!L88,\"\")","v":""},{"$f":"IF('Set Exterior Problem'!M88<>\"\",'Set Exterior Problem'!M88,\"\")","v":""}]
[null,null,{"$f":"IF('Set Exterior Problem'!K89<>\"\",'Set Exterior Problem'!K89,\"\")","v":""},{"$f":"IF('Set Exterior Problem'!L89<>\"\",'Set Exterior Problem'!L89,\"\")","v":""},{"$f":"IF('Set Exterior Problem'!M89<>\"\",'Set Exterior Problem'!M89,\"\")","v":""}]
[null,null,{"$f":"IF('Set Exterior Problem'!K90<>\"\",'Set Exterior Problem'!K90,\"\")","v":""},{"$f":"IF('Set Exterior Problem'!L90<>\"\",'Set Exterior Problem'!L90,\"\")","v":""},{"$f":"IF('Set Exterior Problem'!M90<>\"\",'Set Exterior Problem'!M90,\"\")","v":""}]
[null,null,{"$f":"IF('Set Exterior Problem'!K91<>\"\",'Set Exterior Problem'!K91,\"\")","v":""},{"$f":"IF('Set Exterior Problem'!L91<>\"\",'Set Exterior Problem'!L91,\"\")","v":""},{"$f":"IF('Set Exterior Problem'!M91<>\"\",'Set Exterior Problem'!M91,\"\")","v":""}]
[null,null,{"$f":"IF('Set Exterior Problem'!K92<>\"\",'Set Exterior Problem'!K92,\"\")","v":""},{"$f":"IF('Set Exterior Problem'!L92<>\"\",'Set Exterior Problem'!L92,\"\")","v":""},{"$f":"IF('Set Exterior Problem'!M92<>\"\",'Set Exterior Problem'!M92,\"\")","v":""}]
[null,null,{"$f":"IF('Set Exterior Problem'!K93<>\"\",'Set Exterior Problem'!K93,\"\")","v":""},{"$f":"IF('Set Exterior Problem'!L93<>\"\",'Set Exterior Problem'!L93,\"\")","v":""},{"$f":"IF('Set Exterior Problem'!M93<>\"\",'Set Exterior Problem'!M93,\"\")","v":""}]
[null,null,{"$f":"IF('Set Exterior Problem'!K94<>\"\",'Set Exterior Problem'!K94,\"\")","v":""},{"$f":"IF('Set Exterior Problem'!L94<>\"\",'Set Exterior Problem'!L94,\"\")","v":""},{"$f":"IF('Set Exterior Problem'!M94<>\"\",'Set Exterior Problem'!M94,\"\")","v":""}]
[null,null,{"$f":"IF('Set Exterior Problem'!K95<>\"\",'Set Exterior Problem'!K95,\"\")","v":""},{"$f":"IF('Set Exterior Problem'!L95<>\"\",'Set Exterior Problem'!L95,\"\")","v":""},{"$f":"IF('Set Exterior Problem'!M95<>\"\",'Set Exterior Problem'!M95,\"\")","v":""}]
[null,null,{"$f":"IF('Set Exterior Problem'!K96<>\"\",'Set Exterior Problem'!K96,\"\")","v":""},{"$f":"IF('Set Exterior Problem'!L96<>\"\",'Set Exterior Problem'!L96,\"\")","v":""},{"$f":"IF('Set Exterior Problem'!M96<>\"\",'Set Exterior Problem'!M96,\"\")","v":""}]
[null,null,{"$f":"IF('Set Exterior Problem'!K97<>\"\",'Set Exterior Problem'!K97,\"\")","v":""},{"$f":"IF('Set Exterior Problem'!L97<>\"\",'Set Exterior Problem'!L97,\"\")","v":""},{"$f":"IF('Set Exterior Problem'!M97<>\"\",'Set Exterior Problem'!M97,\"\")","v":""}]
[null,null,{"$f":"IF('Set Exterior Problem'!K98<>\"\",'Set Exterior Problem'!K98,\"\")","v":""},{"$f":"IF('Set Exterior Problem'!L98<>\"\",'Set Exterior Problem'!L98,\"\")","v":""},{"$f":"IF('Set Exterior Problem'!M98<>\"\",'Set Exterior Problem'!M98,\"\")","v":""}]
[null,null,{"$f":"IF('Set Exterior Problem'!K99<>\"\",'Set Exterior Problem'!K99,\"\")","v":""},{"$f":"IF('Set Exterior Problem'!L99<>\"\",'Set Exterior Problem'!L99,\"\")","v":""},{"$f":"IF('Set Exterior Problem'!M99<>\"\",'Set Exterior Problem'!M99,\"\")","v":""}]
[null,null,{"$f":"IF('Set Exterior Problem'!K100<>\"\",'Set Exterior Problem'!K100,\"\")","v":""},{"$f":"IF('Set Exterior Problem'!L100<>\"\",'Set Exterior Problem'!L100,\"\")","v":""},{"$f":"IF('Set Exterior Problem'!M100<>\"\",'Set Exterior Problem'!M100,\"\")","v":""}]
[null,null,{"$f":"IF('Set Exterior Problem'!K101<>\"\",'Set Exterior Problem'!K101,\"\")","v":""},{"$f":"IF('Set Exterior Problem'!L101<>\"\",'Set Exterior Problem'!L101,\"\")","v":""},{"$f":"IF('Set Exterior Problem'!M101<>\"\",'Set Exterior Problem'!M101,\"\")","v":""}]
[null,null,{"$f":"IF('Set Exterior Problem'!K102<>\"\",'Set Exterior Problem'!K102,\"\")","v":""},{"$f":"IF('Set Exterior Problem'!L102<>\"\",'Set Exterior Problem'!L102,\"\")","v":""},{"$f":"IF('Set Exterior Problem'!M102<>\"\",'Set Exterior Problem'!M102,\"\")","v":""}]
[null,null,{"$f":"IF('Set Exterior Problem'!K103<>\"\",'Set Exterior Problem'!K103,\"\")","v":""},{"$f":"IF('Set Exterior Problem'!L103<>\"\",'Set Exterior Problem'!L103,\"\")","v":""},{"$f":"IF('Set Exterior Problem'!M103<>\"\",'Set Exterior Problem'!M103,\"\")","v":""}]
[null,null,{"$f":"IF('Set Exterior Problem'!K104<>\"\",'Set Exterior Problem'!K104,\"\")","v":""},{"$f":"IF('Set Exterior Problem'!L104<>\"\",'Set Exterior Problem'!L104,\"\")","v":""},{"$f":"IF('Set Exterior Problem'!M104<>\"\",'Set Exterior Problem'!M104,\"\")","v":""}]
[null,null,{"$f":"IF('Set Exterior Problem'!K105<>\"\",'Set Exterior Problem'!K105,\"\")","v":""},{"$f":"IF('Set Exterior Problem'!L105<>\"\",'Set Exterior Problem'!L105,\"\")","v":""},{"$f":"IF('Set Exterior Problem'!M105<>\"\",'Set Exterior Problem'!M105,\"\")","v":""}]
[null,null,{"$f":"IF('Set Exterior Problem'!K106<>\"\",'Set Exterior Problem'!K106,\"\")","v":""},{"$f":"IF('Set Exterior Problem'!L106<>\"\",'Set Exterior Problem'!L106,\"\")","v":""},{"$f":"IF('Set Exterior Problem'!M106<>\"\",'Set Exterior Problem'!M106,\"\")","v":""}]
[null,null,{"$f":"IF('Set Exterior Problem'!K107<>\"\",'Set Exterior Problem'!K107,\"\")","v":""},{"$f":"IF('Set Exterior Problem'!L107<>\"\",'Set Exterior Problem'!L107,\"\")","v":""},{"$f":"IF('Set Exterior Problem'!M107<>\"\",'Set Exterior Problem'!M107,\"\")","v":""}]
[null,null,{"$f":"IF('Set Exterior Problem'!K108<>\"\",'Set Exterior Problem'!K108,\"\")","v":""},{"$f":"IF('Set Exterior Problem'!L108<>\"\",'Set Exterior Problem'!L108,\"\")","v":""},{"$f":"IF('Set Exterior Problem'!M108<>\"\",'Set Exterior Problem'!M108,\"\")","v":""}]
[null,null,{"$f":"IF('Set Exterior Problem'!K109<>\"\",'Set Exterior Problem'!K109,\"\")","v":""},{"$f":"IF('Set Exterior Problem'!L109<>\"\",'Set Exterior Problem'!L109,\"\")","v":""},{"$f":"IF('Set Exterior Problem'!M109<>\"\",'Set Exterior Problem'!M109,\"\")","v":""}]
[null,null,{"$f":"IF('Set Exterior Problem'!K110<>\"\",'Set Exterior Problem'!K110,\"\")","v":""},{"$f":"IF('Set Exterior Problem'!L110<>\"\",'Set Exterior Problem'!L110,\"\")","v":""},{"$f":"IF('Set Exterior Problem'!M110<>\"\",'Set Exterior Problem'!M110,\"\")","v":""}]
[null,null,{"$f":"IF('Set Exterior Problem'!K111<>\"\",'Set Exterior Problem'!K111,\"\")","v":""},{"$f":"IF('Set Exterior Problem'!L111<>\"\",'Set Exterior Problem'!L111,\"\")","v":""},{"$f":"IF('Set Exterior Problem'!M111<>\"\",'Set Exterior Problem'!M111,\"\")","v":""}]
[null,null,{"$f":"IF('Set Exterior Problem'!K112<>\"\",'Set Exterior Problem'!K112,\"\")","v":""},{"$f":"IF('Set Exterior Problem'!L112<>\"\",'Set Exterior Problem'!L112,\"\")","v":""},{"$f":"IF('Set Exterior Problem'!M112<>\"\",'Set Exterior Problem'!M112,\"\")","v":""}]
[null,null,{"$f":"IF('Set Exterior Problem'!K113<>\"\",'Set Exterior Problem'!K113,\"\")","v":""},{"$f":"IF('Set Exterior Problem'!L113<>\"\",'Set Exterior Problem'!L113,\"\")","v":""},{"$f":"IF('Set Exterior Problem'!M113<>\"\",'Set Exterior Problem'!M113,\"\")","v":""}]
[null,null,{"$f":"IF('Set Exterior Problem'!K114<>\"\",'Set Exterior Problem'!K114,\"\")","v":""},{"$f":"IF('Set Exterior Problem'!L114<>\"\",'Set Exterior Problem'!L114,\"\")","v":""},{"$f":"IF('Set Exterior Problem'!M114<>\"\",'Set Exterior Problem'!M114,\"\")","v":""}]
[null,null,{"$f":"IF('Set Exterior Problem'!K115<>\"\",'Set Exterior Problem'!K115,\"\")","v":""},{"$f":"IF('Set Exterior Problem'!L115<>\"\",'Set Exterior Problem'!L115,\"\")","v":""},{"$f":"IF('Set Exterior Problem'!M115<>\"\",'Set Exterior Problem'!M115,\"\")","v":""}]
[null,null,{"$f":"IF('Set Exterior Problem'!K116<>\"\",'Set Exterior Problem'!K116,\"\")","v":""},{"$f":"IF('Set Exterior Problem'!L116<>\"\",'Set Exterior Problem'!L116,\"\")","v":""},{"$f":"IF('Set Exterior Problem'!M116<>\"\",'Set Exterior Problem'!M116,\"\")","v":""}]
[null,null,{"$f":"IF('Set Exterior Problem'!K117<>\"\",'Set Exterior Problem'!K117,\"\")","v":""},{"$f":"IF('Set Exterior Problem'!L117<>\"\",'Set Exterior Problem'!L117,\"\")","v":""},{"$f":"IF('Set Exterior Problem'!M117<>\"\",'Set Exterior Problem'!M117,\"\")","v":""}]
[null,null,{"$f":"IF('Set Exterior Problem'!K118<>\"\",'Set Exterior Problem'!K118,\"\")","v":""},{"$f":"IF('Set Exterior Problem'!L118<>\"\",'Set Exterior Problem'!L118,\"\")","v":""},{"$f":"IF('Set Exterior Problem'!M118<>\"\",'Set Exterior Problem'!M118,\"\")","v":""}]
[null,null,{"$f":"IF('Set Exterior Problem'!K119<>\"\",'Set Exterior Problem'!K119,\"\")","v":""},{"$f":"IF('Set Exterior Problem'!L119<>\"\",'Set Exterior Problem'!L119,\"\")","v":""},{"$f":"IF('Set Exterior Problem'!M119<>\"\",'Set Exterior Problem'!M119,\"\")","v":""}]
[null,null,{"$f":"IF('Set Exterior Problem'!K120<>\"\",'Set Exterior Problem'!K120,\"\")","v":""},{"$f":"IF('Set Exterior Problem'!L120<>\"\",'Set Exterior Problem'!L120,\"\")","v":""},{"$f":"IF('Set Exterior Problem'!M120<>\"\",'Set Exterior Problem'!M120,\"\")","v":""}]
[null,null,{"$f":"IF('Set Exterior Problem'!K121<>\"\",'Set Exterior Problem'!K121,\"\")","v":""},{"$f":"IF('Set Exterior Problem'!L121<>\"\",'Set Exterior Problem'!L121,\"\")","v":""},{"$f":"IF('Set Exterior Problem'!M121<>\"\",'Set Exterior Problem'!M121,\"\")","v":""}]
[null,null,{"$f":"IF('Set Exterior Problem'!K122<>\"\",'Set Exterior Problem'!K122,\"\")","v":""},{"$f":"IF('Set Exterior Problem'!L122<>\"\",'Set Exterior Problem'!L122,\"\")","v":""},{"$f":"IF('Set Exterior Problem'!M122<>\"\",'Set Exterior Problem'!M122,\"\")","v":""}]
[null,null,{"$f":"IF('Set Exterior Problem'!K123<>\"\",'Set Exterior Problem'!K123,\"\")","v":""},{"$f":"IF('Set Exterior Problem'!L123<>\"\",'Set Exterior Problem'!L123,\"\")","v":""},{"$f":"IF('Set Exterior Problem'!M123<>\"\",'Set Exterior Problem'!M123,\"\")","v":""}]
[null,null,{"$f":"IF('Set Exterior Problem'!K124<>\"\",'Set Exterior Problem'!K124,\"\")","v":""},{"$f":"IF('Set Exterior Problem'!L124<>\"\",'Set Exterior Problem'!L124,\"\")","v":""},{"$f":"IF('Set Exterior Problem'!M124<>\"\",'Set Exterior Problem'!M124,\"\")","v":""}]
[null,null,{"$f":"IF('Set Exterior Problem'!K125<>\"\",'Set Exterior Problem'!K125,\"\")","v":""},{"$f":"IF('Set Exterior Problem'!L125<>\"\",'Set Exterior Problem'!L125,\"\")","v":""},{"$f":"IF('Set Exterior Problem'!M125<>\"\",'Set Exterior Problem'!M125,\"\")","v":""}]
[null,null,{"$f":"IF('Set Exterior Problem'!K126<>\"\",'Set Exterior Problem'!K126,\"\")","v":""},{"$f":"IF('Set Exterior Problem'!L126<>\"\",'Set Exterior Problem'!L126,\"\")","v":""},{"$f":"IF('Set Exterior Problem'!M126<>\"\",'Set Exterior Problem'!M126,\"\")","v":""}]
[null,null,{"$f":"IF('Set Exterior Problem'!K127<>\"\",'Set Exterior Problem'!K127,\"\")","v":""},{"$f":"IF('Set Exterior Problem'!L127<>\"\",'Set Exterior Problem'!L127,\"\")","v":""},{"$f":"IF('Set Exterior Problem'!M127<>\"\",'Set Exterior Problem'!M127,\"\")","v":""}]
[null,null,{"$f":"IF('Set Exterior Problem'!K128<>\"\",'Set Exterior Problem'!K128,\"\")","v":""},{"$f":"IF('Set Exterior Problem'!L128<>\"\",'Set Exterior Problem'!L128,\"\")","v":""},{"$f":"IF('Set Exterior Problem'!M128<>\"\",'Set Exterior Problem'!M128,\"\")","v":""}]
[null,null,{"$f":"IF('Set Exterior Problem'!K129<>\"\",'Set Exterior Problem'!K129,\"\")","v":""},{"$f":"IF('Set Exterior Problem'!L129<>\"\",'Set Exterior Problem'!L129,\"\")","v":""},{"$f":"IF('Set Exterior Problem'!M129<>\"\",'Set Exterior Problem'!M129,\"\")","v":""}]
[null,null,{"$f":"IF('Set Exterior Problem'!K130<>\"\",'Set Exterior Problem'!K130,\"\")","v":""},{"$f":"IF('Set Exterior Problem'!L130<>\"\",'Set Exterior Problem'!L130,\"\")","v":""},{"$f":"IF('Set Exterior Problem'!M130<>\"\",'Set Exterior Problem'!M130,\"\")","v":""}]
[null,null,{"$f":"IF('Set Exterior Problem'!K131<>\"\",'Set Exterior Problem'!K131,\"\")","v":""},{"$f":"IF('Set Exterior Problem'!L131<>\"\",'Set Exterior Problem'!L131,\"\")","v":""},{"$f":"IF('Set Exterior Problem'!M131<>\"\",'Set Exterior Problem'!M131,\"\")","v":""}]
[null,null,{"$f":"IF('Set Exterior Problem'!K132<>\"\",'Set Exterior Problem'!K132,\"\")","v":""},{"$f":"IF('Set Exterior Problem'!L132<>\"\",'Set Exterior Problem'!L132,\"\")","v":""},{"$f":"IF('Set Exterior Problem'!M132<>\"\",'Set Exterior Problem'!M132,\"\")","v":""}]
[null,null,{"$f":"IF('Set Exterior Problem'!K133<>\"\",'Set Exterior Problem'!K133,\"\")","v":""},{"$f":"IF('Set Exterior Problem'!L133<>\"\",'Set Exterior Problem'!L133,\"\")","v":""},{"$f":"IF('Set Exterior Problem'!M133<>\"\",'Set Exterior Problem'!M133,\"\")","v":""}]
[null,null,{"$f":"IF('Set Exterior Problem'!K134<>\"\",'Set Exterior Problem'!K134,\"\")","v":""},{"$f":"IF('Set Exterior Problem'!L134<>\"\",'Set Exterior Problem'!L134,\"\")","v":""},{"$f":"IF('Set Exterior Problem'!M134<>\"\",'Set Exterior Problem'!M134,\"\")","v":""}]
[null,null,{"$f":"IF('Set Exterior Problem'!K135<>\"\",'Set Exterior Problem'!K135,\"\")","v":""},{"$f":"IF('Set Exterior Problem'!L135<>\"\",'Set Exterior Problem'!L135,\"\")","v":""},{"$f":"IF('Set Exterior Problem'!M135<>\"\",'Set Exterior Problem'!M135,\"\")","v":""}]
[null,null,{"$f":"IF('Set Exterior Problem'!K136<>\"\",'Set Exterior Problem'!K136,\"\")","v":""},{"$f":"IF('Set Exterior Problem'!L136<>\"\",'Set Exterior Problem'!L136,\"\")","v":""},{"$f":"IF('Set Exterior Problem'!M136<>\"\",'Set Exterior Problem'!M136,\"\")","v":""}]
[null,null,{"$f":"IF('Set Exterior Problem'!K137<>\"\",'Set Exterior Problem'!K137,\"\")","v":""},{"$f":"IF('Set Exterior Problem'!L137<>\"\",'Set Exterior Problem'!L137,\"\")","v":""},{"$f":"IF('Set Exterior Problem'!M137<>\"\",'Set Exterior Problem'!M137,\"\")","v":""}]
[null,null,{"$f":"IF('Set Exterior Problem'!K138<>\"\",'Set Exterior Problem'!K138,\"\")","v":""},{"$f":"IF('Set Exterior Problem'!L138<>\"\",'Set Exterior Problem'!L138,\"\")","v":""},{"$f":"IF('Set Exterior Problem'!M138<>\"\",'Set Exterior Problem'!M138,\"\")","v":""}]
[null,null,{"$f":"IF('Set Exterior Problem'!K139<>\"\",'Set Exterior Problem'!K139,\"\")","v":""},{"$f":"IF('Set Exterior Problem'!L139<>\"\",'Set Exterior Problem'!L139,\"\")","v":""},{"$f":"IF('Set Exterior Problem'!M139<>\"\",'Set Exterior Problem'!M139,\"\")","v":""}]
[null,null,{"$f":"IF('Set Exterior Problem'!K140<>\"\",'Set Exterior Problem'!K140,\"\")","v":""},{"$f":"IF('Set Exterior Problem'!L140<>\"\",'Set Exterior Problem'!L140,\"\")","v":""},{"$f":"IF('Set Exterior Problem'!M140<>\"\",'Set Exterior Problem'!M140,\"\")","v":""}]
[null,null,{"$f":"IF('Set Exterior Problem'!K141<>\"\",'Set Exterior Problem'!K141,\"\")","v":""},{"$f":"IF('Set Exterior Problem'!L141<>\"\",'Set Exterior Problem'!L141,\"\")","v":""},{"$f":"IF('Set Exterior Problem'!M141<>\"\",'Set Exterior Problem'!M141,\"\")","v":""}]
[null,null,{"$f":"IF('Set Exterior Problem'!K142<>\"\",'Set Exterior Problem'!K142,\"\")","v":""},{"$f":"IF('Set Exterior Problem'!L142<>\"\",'Set Exterior Problem'!L142,\"\")","v":""},{"$f":"IF('Set Exterior Problem'!M142<>\"\",'Set Exterior Problem'!M142,\"\")","v":""}]
[null,null,{"$f":"IF('Set Exterior Problem'!K143<>\"\",'Set Exterior Problem'!K143,\"\")","v":""},{"$f":"IF('Set Exterior Problem'!L143<>\"\",'Set Exterior Problem'!L143,\"\")","v":""},{"$f":"IF('Set Exterior Problem'!M143<>\"\",'Set Exterior Problem'!M143,\"\")","v":""}]
[null,null,{"$f":"IF('Set Exterior Problem'!K144<>\"\",'Set Exterior Problem'!K144,\"\")","v":""},{"$f":"IF('Set Exterior Problem'!L144<>\"\",'Set Exterior Problem'!L144,\"\")","v":""},{"$f":"IF('Set Exterior Problem'!M144<>\"\",'Set Exterior Problem'!M144,\"\")","v":""}]
[null,null,{"$f":"IF('Set Exterior Problem'!K145<>\"\",'Set Exterior Problem'!K145,\"\")","v":""},{"$f":"IF('Set Exterior Problem'!L145<>\"\",'Set Exterior Problem'!L145,\"\")","v":""},{"$f":"IF('Set Exterior Problem'!M145<>\"\",'Set Exterior Problem'!M145,\"\")","v":""}]
[null,null,{"$f":"IF('Set Exterior Problem'!K146<>\"\",'Set Exterior Problem'!K146,\"\")","v":""},{"$f":"IF('Set Exterior Problem'!L146<>\"\",'Set Exterior Problem'!L146,\"\")","v":""},{"$f":"IF('Set Exterior Problem'!M146<>\"\",'Set Exterior Problem'!M146,\"\")","v":""}]
[null,null,{"$f":"IF('Set Exterior Problem'!K147<>\"\",'Set Exterior Problem'!K147,\"\")","v":""},{"$f":"IF('Set Exterior Problem'!L147<>\"\",'Set Exterior Problem'!L147,\"\")","v":""},{"$f":"IF('Set Exterior Problem'!M147<>\"\",'Set Exterior Problem'!M147,\"\")","v":""}]
[null,null,{"$f":"IF('Set Exterior Problem'!K148<>\"\",'Set Exterior Problem'!K148,\"\")","v":""},{"$f":"IF('Set Exterior Problem'!L148<>\"\",'Set Exterior Problem'!L148,\"\")","v":""},{"$f":"IF('Set Exterior Problem'!M148<>\"\",'Set Exterior Problem'!M148,\"\")","v":""}]
[null,null,{"$f":"IF('Set Exterior Problem'!K149<>\"\",'Set Exterior Problem'!K149,\"\")","v":""},{"$f":"IF('Set Exterior Problem'!L149<>\"\",'Set Exterior Problem'!L149,\"\")","v":""},{"$f":"IF('Set Exterior Problem'!M149<>\"\",'Set Exterior Problem'!M149,\"\")","v":""}]
[null,null,{"$f":"IF('Set Exterior Problem'!K150<>\"\",'Set Exterior Problem'!K150,\"\")","v":""},{"$f":"IF('Set Exterior Problem'!L150<>\"\",'Set Exterior Problem'!L150,\"\")","v":""},{"$f":"IF('Set Exterior Problem'!M150<>\"\",'Set Exterior Problem'!M150,\"\")","v":""}]
[null,null,{"$f":"IF('Set Exterior Problem'!K151<>\"\",'Set Exterior Problem'!K151,\"\")","v":""},{"$f":"IF('Set Exterior Problem'!L151<>\"\",'Set Exterior Problem'!L151,\"\")","v":""},{"$f":"IF('Set Exterior Problem'!M151<>\"\",'Set Exterior Problem'!M151,\"\")","v":""}]
[null,null,{"$f":"IF('Set Exterior Problem'!K152<>\"\",'Set Exterior Problem'!K152,\"\")","v":""},{"$f":"IF('Set Exterior Problem'!L152<>\"\",'Set Exterior Problem'!L152,\"\")","v":""},{"$f":"IF('Set Exterior Problem'!M152<>\"\",'Set Exterior Problem'!M152,\"\")","v":""}]
[null,null,{"$f":"IF('Set Exterior Problem'!K153<>\"\",'Set Exterior Problem'!K153,\"\")","v":""},{"$f":"IF('Set Exterior Problem'!L153<>\"\",'Set Exterior Problem'!L153,\"\")","v":""},{"$f":"IF('Set Exterior Problem'!M153<>\"\",'Set Exterior Problem'!M153,\"\")","v":""}]
[null,null,{"$f":"IF('Set Exterior Problem'!K154<>\"\",'Set Exterior Problem'!K154,\"\")","v":""},{"$f":"IF('Set Exterior Problem'!L154<>\"\",'Set Exterior Problem'!L154,\"\")","v":""},{"$f":"IF('Set Exterior Problem'!M154<>\"\",'Set Exterior Problem'!M154,\"\")","v":""}]
[null,null,{"$f":"IF('Set Exterior Problem'!K155<>\"\",'Set Exterior Problem'!K155,\"\")","v":""},{"$f":"IF('Set Exterior Problem'!L155<>\"\",'Set Exterior Problem'!L155,\"\")","v":""},{"$f":"IF('Set Exterior Problem'!M155<>\"\",'Set Exterior Problem'!M155,\"\")","v":""}]
[null,null,{"$f":"IF('Set Exterior Problem'!K156<>\"\",'Set Exterior Problem'!K156,\"\")","v":""},{"$f":"IF('Set Exterior Problem'!L156<>\"\",'Set Exterior Problem'!L156,\"\")","v":""},{"$f":"IF('Set Exterior Problem'!M156<>\"\",'Set Exterior Problem'!M156,\"\")","v":""}]
[null,null,{"$f":"IF('Set Exterior Problem'!K157<>\"\",'Set Exterior Problem'!K157,\"\")","v":""},{"$f":"IF('Set Exterior Problem'!L157<>\"\",'Set Exterior Problem'!L157,\"\")","v":""},{"$f":"IF('Set Exterior Problem'!M157<>\"\",'Set Exterior Problem'!M157,\"\")","v":""}]
[null,null,{"$f":"IF('Set Exterior Problem'!K158<>\"\",'Set Exterior Problem'!K158,\"\")","v":""},{"$f":"IF('Set Exterior Problem'!L158<>\"\",'Set Exterior Problem'!L158,\"\")","v":""},{"$f":"IF('Set Exterior Problem'!M158<>\"\",'Set Exterior Problem'!M158,\"\")","v":""}]
[null,null,{"$f":"IF('Set Exterior Problem'!K159<>\"\",'Set Exterior Problem'!K159,\"\")","v":""},{"$f":"IF('Set Exterior Problem'!L159<>\"\",'Set Exterior Problem'!L159,\"\")","v":""},{"$f":"IF('Set Exterior Problem'!M159<>\"\",'Set Exterior Problem'!M159,\"\")","v":""}]
[null,null,{"$f":"IF('Set Exterior Problem'!K160<>\"\",'Set Exterior Problem'!K160,\"\")","v":""},{"$f":"IF('Set Exterior Problem'!L160<>\"\",'Set Exterior Problem'!L160,\"\")","v":""},{"$f":"IF('Set Exterior Problem'!M160<>\"\",'Set Exterior Problem'!M160,\"\")","v":""}]
[null,null,{"$f":"IF('Set Exterior Problem'!K161<>\"\",'Set Exterior Problem'!K161,\"\")","v":""},{"$f":"IF('Set Exterior Problem'!L161<>\"\",'Set Exterior Problem'!L161,\"\")","v":""},{"$f":"IF('Set Exterior Problem'!M161<>\"\",'Set Exterior Problem'!M161,\"\")","v":""}]
[null,null,{"$f":"IF('Set Exterior Problem'!K162<>\"\",'Set Exterior Problem'!K162,\"\")","v":""},{"$f":"IF('Set Exterior Problem'!L162<>\"\",'Set Exterior Problem'!L162,\"\")","v":""},{"$f":"IF('Set Exterior Problem'!M162<>\"\",'Set Exterior Problem'!M162,\"\")","v":""}]
[null,null,{"$f":"IF('Set Exterior Problem'!K163<>\"\",'Set Exterior Problem'!K163,\"\")","v":""},{"$f":"IF('Set Exterior Problem'!L163<>\"\",'Set Exterior Problem'!L163,\"\")","v":""},{"$f":"IF('Set Exterior Problem'!M163<>\"\",'Set Exterior Problem'!M163,\"\")","v":""}]
[null,null,{"$f":"IF('Set Exterior Problem'!K164<>\"\",'Set Exterior Problem'!K164,\"\")","v":""},{"$f":"IF('Set Exterior Problem'!L164<>\"\",'Set Exterior Problem'!L164,\"\")","v":""},{"$f":"IF('Set Exterior Problem'!M164<>\"\",'Set Exterior Problem'!M164,\"\")","v":""}]
[null,null,{"$f":"IF('Set Exterior Problem'!K165<>\"\",'Set Exterior Problem'!K165,\"\")","v":""},{"$f":"IF('Set Exterior Problem'!L165<>\"\",'Set Exterior Problem'!L165,\"\")","v":""},{"$f":"IF('Set Exterior Problem'!M165<>\"\",'Set Exterior Problem'!M165,\"\")","v":""}]
[null,null,{"$f":"IF('Set Exterior Problem'!K166<>\"\",'Set Exterior Problem'!K166,\"\")","v":""},{"$f":"IF('Set Exterior Problem'!L166<>\"\",'Set Exterior Problem'!L166,\"\")","v":""},{"$f":"IF('Set Exterior Problem'!M166<>\"\",'Set Exterior Problem'!M166,\"\")","v":""}]
[null,null,{"$f":"IF('Set Exterior Problem'!K167<>\"\",'Set Exterior Problem'!K167,\"\")","v":""},{"$f":"IF('Set Exterior Problem'!L167<>\"\",'Set Exterior Problem'!L167,\"\")","v":""},{"$f":"IF('Set Exterior Problem'!M167<>\"\",'Set Exterior Problem'!M167,\"\")","v":""}]

{"sheet":"New Direct Solution","index":20,"n_rows":125,"n_cols":7,"rows_kept":125,"cut":false,"hidden":false,"merged":[[7,1,7,3],[7,5,7,6],[8,1,8,2],[1,1,2,6]]}
[]
[null,"New Direct Solution"]
[]
[]
[]
[]
[]
[null,"Solution on S",null,null,null,"Solution in the domain"]
[null,"Number of panels",null,{"$f":"'Set Exterior Problem'!H9","v":20},null,"Number of points",{"$f":"'Set Exterior Problem'!R9","v":5}]
[null,"index","phi_S","vel_S",null,"index","phi_D"]
[null,1,2,-1.9995741497536947,null,1,-0.9976204554526491]
[null,2,2,-2.0019889953725944,null,2,-0.99730186170533131]
[null,3,2,-2.0018738451325988,null,3,-1.4108838166533941]
[null,4,2,-2.0013729718872768,null,4,-1.4103792404484625]
[null,5,2,-2.0024907164785706,null,5,-0.99749799701234754]
[null,6,2,-2.0015116476936559]
[null,7,2,-2.0016201318357583]
[null,8,2,-2.0021675811467801]
[null,9,2,-2.0021113777384332]
[null,10,2,-2.0044309450860149]
[null,11,1.9994949057166764,-2]
[null,12,1.9993044725860065,-2]
[null,13,1.9991737869163266,-2]
[null,14,1.9991262508199039,-2]
[null,15,1.9990608934135288,-2]
[null,16,1.9989416938254141,-2]
[null,17,1.9989844878868923,-2]
[null,18,1.9989467399090204,-2]
[null,19,1.9989580430385672,-2]
[null,20,1.9991547417657334,-2]
[]
[]
[]
[]
[]
[]
[]
[]
[]
[]
[]
[]
[]
[]
[]
[]
[]
[]
[]
[]
[null,{"$f":"'Set Exterior Problem'!B51","v":0}]
[null,{"$f":"'Set Exterior Problem'!B52","v":0}]
[null,{"$f":"'Set Exterior Problem'!B53","v":0}]
[null,{"$f":"'Set Exterior Problem'!B54","v":0}]
[null,{"$f":"'Set Exterior Problem'!B55","v":0}]
[null,{"$f":"'Set Exterior Problem'!B56","v":0}]
[null,{"$f":"'Set Exterior Problem'!B57","v":0}]
[null,{"$f":"'Set Exterior Problem'!B58","v":0}]
[null,{"$f":"'Set Exterior Problem'!B59","v":0}]
[null,{"$f":"'Set Exterior Problem'!B60","v":0}]
[null,{"$f":"'Set Exterior Problem'!B61","v":0}]
[null,{"$f":"'Set Exterior Problem'!B62","v":0}]
[null,{"$f":"'Set Exterior Problem'!B63","v":0}]
[null,{"$f":"'Set Exterior Problem'!B64","v":0}]
[null,{"$f":"'Set Exterior Problem'!B65","v":0}]
[null,{"$f":"'Set Exterior Problem'!B66","v":0}]
[null,{"$f":"'Set Exterior Problem'!B67","v":0}]
[null,{"$f":"'Set Exterior Problem'!B68","v":0}]
[null,{"$f":"'Set Exterior Problem'!B69","v":0}]
[null,{"$f":"'Set Exterior Problem'!B70","v":0}]
[null,{"$f":"'Set Exterior Problem'!B71","v":0}]
[null,{"$f":"'Set Exterior Problem'!B72","v":0}]
[null,{"$f":"'Set Exterior Problem'!B73","v":0}]
[null,{"$f":"'Set Exterior Problem'!B74","v":0}]
[null,{"$f":"'Set Exterior Problem'!B75","v":0}]
[null,{"$f":"'Set Exterior Problem'!B76","v":0}]
[null,{"$f":"'Set Exterior Problem'!B77","v":0}]
[null,{"$f":"'Set Exterior Problem'!B78","v":0}]
[null,{"$f":"'Set Exterior Problem'!B79","v":0}]
[null,{"$f":"'Set Exterior Problem'!B80","v":0}]
[null,{"$f":"'Set Exterior Problem'!B81","v":0}]
[null,{"$f":"'Set Exterior Problem'!B82","v":0}]
[null,{"$f":"'Set Exterior Problem'!B83","v":0}]
[null,{"$f":"'Set Exterior Problem'!B84","v":0}]
[null,{"$f":"'Set Exterior Problem'!B85","v":0}]
[null,{"$f":"'Set Exterior Problem'!B86","v":0}]
[null,{"$f":"'Set Exterior Problem'!B87","v":0}]
[null,{"$f":"'Set Exterior Problem'!B88","v":0}]
[null,{"$f":"'Set Exterior Problem'!B89","v":0}]
[null,{"$f":"'Set Exterior Problem'!B90","v":0}]
[null,{"$f":"'Set Exterior Problem'!B91","v":0}]
[null,{"$f":"'Set Exterior Problem'!B92","v":0}]
[null,{"$f":"'Set Exterior Problem'!B93","v":0}]
[null,{"$f":"'Set Exterior Problem'!B94","v":0}]
[null,{"$f":"'Set Exterior Problem'!B95","v":0}]
[null,{"$f":"'Set Exterior Problem'!B96","v":0}]
[null,{"$f":"'Set Exterior Problem'!B97","v":0}]
[null,{"$f":"'Set Exterior Problem'!B98","v":0}]
[null,{"$f":"'Set Exterior Problem'!B99","v":0}]
[null,{"$f":"'Set Exterior Problem'!B100","v":0}]
[null,{"$f":"'Set Exterior Problem'!B101","v":0}]
[null,{"$f":"'Set Exterior Problem'!B102","v":0}]
[null,{"$f":"'Set Exterior Problem'!B103","v":0}]
[null,{"$f":"'Set Exterior Problem'!B104","v":0}]
[null,{"$f":"'Set Exterior Problem'!B105","v":0}]
[null,{"$f":"'Set Exterior Problem'!B106","v":0}]
[null,{"$f":"'Set Exterior Problem'!B107","v":0}]
[null,{"$f":"'Set Exterior Problem'!B108","v":0}]
[null,{"$f":"'Set Exterior Problem'!B109","v":0}]
[null,{"$f":"'Set Exterior Problem'!B110","v":0}]
[null,{"$f":"'Set Exterior Problem'!B111","v":0}]
[null,{"$f":"'Set Exterior Problem'!B112","v":0}]
[null,{"$f":"'Set Exterior Problem'!B113","v":0}]
[null,{"$f":"'Set Exterior Problem'!B114","v":0}]
[null,{"$f":"'Set Exterior Problem'!B115","v":0}]
[null,{"$f":"'Set Exterior Problem'!B116","v":0}]
[null,{"$f":"'Set Exterior Problem'!B117","v":0}]
[null,{"$f":"'Set Exterior Problem'!B118","v":0}]
[null,{"$f":"'Set Exterior Problem'!B119","v":0}]
[null,{"$f":"'Set Exterior Problem'!B120","v":0}]
[null,{"$f":"'Set Exterior Problem'!B121","v":0}]
[null,{"$f":"'Set Exterior Problem'!B122","v":0}]
[null,{"$f":"'Set Exterior Problem'!B123","v":0}]
[null,{"$f":"'Set Exterior Problem'!B124","v":0}]
[null,{"$f":"'Set Exterior Problem'!B125","v":0}]

{"sheet":"New Indirect Solution","index":21,"n_rows":125,"n_cols":7,"rows_kept":125,"cut":false,"hidden":false,"merged":[[1,1,2,6],[7,1,7,3],[7,5,7,6],[8,1,8,2]]}
[]
[null,"New Indirect Solution"]
[]
[]
[]
[]
[]
[null,"Solution on S",null,null,null,"Solution in the domain"]
[null,"Number of panels",null,{"$f":"'Set Exterior Problem'!H9","v":20},null,"Number of points",{"$f":"'Set Exterior Problem'!R9","v":5}]
[null,"index","phi_S","vel_S",null,"index","phi_D"]
[null,1,2.0000000000000004,-1.967576474738254,null,1,0.99898186896337393]
[null,2,2.0000000000000004,-1.9667756013408804,null,2,1.0054352744742974]
[null,3,1.9999999999999998,-1.9664866217554202,null,3,1.4121766115323828]
[null,4,2,-1.9659528458648585,null,4,1.4222883801437072]
[null,5,2,-1.9658244325941778,null,5,1.0015471068921449]
[null,6,1.9999999999999998,-1.9646182851762017]
[null,7,2,-1.9632840547264945]
[null,8,2.0000000000000004,-1.9609244777812871]
[null,9,2,-1.9568444068017405]
[null,10,2,-1.9195856446927231]
[null,11,2.0094649348288462,-1.9999999999999989]
[null,12,2.0138636356828403,-2]
[null,13,2.0163612422196389,-2.0000000000000004]
[null,14,2.0180334251178804,-1.9999999999999993]
[null,15,2.0191958089008057,-1.9999999999999998]
[null,16,2.0200013007027371,-2.0000000000000004]
[null,17,2.0206207752290388,-2.0000000000000009]
[null,18,2.0210139779514367,-2]
[null,19,2.0212442205721719,-1.9999999999999998]
[null,20,2.0213017674059732,-2.0000000000000004]
[]
[]
[]
[]
[]
[]
[]
[]
[]
[]
[]
[]
[]
[]
[]
[]
[]
[]
[]
[]
[null,{"$f":"'Set Exterior Problem'!B51","v":0}]
[null,{"$f":"'Set Exterior Problem'!B52","v":0}]
[null,{"$f":"'Set Exterior Problem'!B53","v":0}]
[null,{"$f":"'Set Exterior Problem'!B54","v":0}]
[null,{"$f":"'Set Exterior Problem'!B55","v":0}]
[null,{"$f":"'Set Exterior Problem'!B56","v":0}]
[null,{"$f":"'Set Exterior Problem'!B57","v":0}]
[null,{"$f":"'Set Exterior Problem'!B58","v":0}]
[null,{"$f":"'Set Exterior Problem'!B59","v":0}]
[null,{"$f":"'Set Exterior Problem'!B60","v":0}]
[null,{"$f":"'Set Exterior Problem'!B61","v":0}]
[null,{"$f":"'Set Exterior Problem'!B62","v":0}]
[null,{"$f":"'Set Exterior Problem'!B63","v":0}]
[null,{"$f":"'Set Exterior Problem'!B64","v":0}]
[null,{"$f":"'Set Exterior Problem'!B65","v":0}]
[null,{"$f":"'Set Exterior Problem'!B66","v":0}]
[null,{"$f":"'Set Exterior Problem'!B67","v":0}]
[null,{"$f":"'Set Exterior Problem'!B68","v":0}]
[null,{"$f":"'Set Exterior Problem'!B69","v":0}]
[null,{"$f":"'Set Exterior Problem'!B70","v":0}]
[null,{"$f":"'Set Exterior Problem'!B71","v":0}]
[null,{"$f":"'Set Exterior Problem'!B72","v":0}]
[null,{"$f":"'Set Exterior Problem'!B73","v":0}]
[null,{"$f":"'Set Exterior Problem'!B74","v":0}]
[null,{"$f":"'Set Exterior Problem'!B75","v":0}]
[null,{"$f":"'Set Exterior Problem'!B76","v":0}]
[null,{"$f":"'Set Exterior Problem'!B77","v":0}]
[null,{"$f":"'Set Exterior Problem'!B78","v":0}]
[null,{"$f":"'Set Exterior Problem'!B79","v":0}]
[null,{"$f":"'Set Exterior Problem'!B80","v":0}]
[null,{"$f":"'Set Exterior Problem'!B81","v":0}]
[null,{"$f":"'Set Exterior Problem'!B82","v":0}]
[null,{"$f":"'Set Exterior Problem'!B83","v":0}]
[null,{"$f":"'Set Exterior Problem'!B84","v":0}]
[null,{"$f":"'Set Exterior Problem'!B85","v":0}]
[null,{"$f":"'Set Exterior Problem'!B86","v":0}]
[null,{"$f":"'Set Exterior Problem'!B87","v":0}]
[null,{"$f":"'Set Exterior Problem'!B88","v":0}]
[null,{"$f":"'Set Exterior Problem'!B89","v":0}]
[null,{"$f":"'Set Exterior Problem'!B90","v":0}]
[null,{"$f":"'Set Exterior Problem'!B91","v":0}]
[null,{"$f":"'Set Exterior Problem'!B92","v":0}]
[null,{"$f":"'Set Exterior Problem'!B93","v":0}]
[null,{"$f":"'Set Exterior Problem'!B94","v":0}]
[null,{"$f":"'Set Exterior Problem'!B95","v":0}]
[null,{"$f":"'Set Exterior Problem'!B96","v":0}]
[null,{"$f":"'Set Exterior Problem'!B97","v":0}]
[null,{"$f":"'Set Exterior Problem'!B98","v":0}]
[null,{"$f":"'Set Exterior Problem'!B99","v":0}]
[null,{"$f":"'Set Exterior Problem'!B100","v":0}]
[null,{"$f":"'Set Exterior Problem'!B101","v":0}]
[null,{"$f":"'Set Exterior Problem'!B102","v":0}]
[null,{"$f":"'Set Exterior Problem'!B103","v":0}]
[null,{"$f":"'Set Exterior Problem'!B104","v":0}]
[null,{"$f":"'Set Exterior Problem'!B105","v":0}]
[null,{"$f":"'Set Exterior Problem'!B106","v":0}]
[null,{"$f":"'Set Exterior Problem'!B107","v":0}]
[null,{"$f":"'Set Exterior Problem'!B108","v":0}]
[null,{"$f":"'Set Exterior Problem'!B109","v":0}]
[null,{"$f":"'Set Exterior Problem'!B110","v":0}]
[null,{"$f":"'Set Exterior Problem'!B111","v":0}]
[null,{"$f":"'Set Exterior Problem'!B112","v":0}]
[null,{"$f":"'Set Exterior Problem'!B113","v":0}]
[null,{"$f":"'Set Exterior Problem'!B114","v":0}]
[null,{"$f":"'Set Exterior Problem'!B115","v":0}]
[null,{"$f":"'Set Exterior Problem'!B116","v":0}]
[null,{"$f":"'Set Exterior Problem'!B117","v":0}]
[null,{"$f":"'Set Exterior Problem'!B118","v":0}]
[null,{"$f":"'Set Exterior Problem'!B119","v":0}]
[null,{"$f":"'Set Exterior Problem'!B120","v":0}]
[null,{"$f":"'Set Exterior Problem'!B121","v":0}]
[null,{"$f":"'Set Exterior Problem'!B122","v":0}]
[null,{"$f":"'Set Exterior Problem'!B123","v":0}]
[null,{"$f":"'Set Exterior Problem'!B124","v":0}]
[null,{"$f":"'Set Exterior Problem'!B125","v":0}]